Workbook

Sheet Sheet1
B1: Hari/Tanggal | C1: : | D1: Sabtu, 22 November 2025
B2: Suhu | C2: : | D2: 30
B3: Pengamatan ke | C3: : | D3: 1
A5: No. | B5: Kode Tanaman | C5: Ulangan | D5: Tinggi Tanaman (cm) | G5: Jumlah daun | J5: ph Tanah | P5: Keparahan penyakit | S5: Catatan
D6: Tanaman ke- | G6: Tanaman ke- | J6: Tanaman ke- | P6: Tanaman ke-
D7: 1 | E7: 2 | F7: 3 | G7: 1 | H7: 2 | I7: 3 | J7: 1 (atas) | K7: 1 (bawah) | L7: 2 (atas) | M7: 2 (bawah) | N7: 3 (atas) | O7: 3 (bawah) | P7: 1 | Q7: 2 | R7: 3
A8: 1 | B8: K0T0 | C8: 1 | D8: 7.5 | E8: 5 | F8: 6.5 | G8: 5 | H8: 5 | I8: 5 | J8: HH | K8: HH | L8: HH | M8: HH | N8: HH | O8: HH
C9: 2 | D9: 5.5 | E9: 4 | F9: 5 | G9: 5 | H9: 5 | I9: 5 | J9: HH | K9: HH | L9: HH | M9: HH | N9: HH | O9: HH
C10: 3 | D10: 4 | E10: 3.5 | F10: 4 | G10: 5 | H10: 6 | I10: 5 | J10: HH | K10: HH | L10: HH | M10: HH | N10: HH | O10: HH
A11: 2 | B11: K0T1 | C11: 1 | D11: 3 | E11: 4 | F11: 5 | G11: 5 | H11: 5 | I11: 5 | J11: 7.5 | K11: 9.0 | L11: 7.5 | M11: 9.0 | N11: 7.5 | O11: 9.0
C12: 2 | D12: 4 | E12: 3 | F12: 3 | G12: 5 | H12: 5 | I12: 6 | J12: 7.5 | K12: 9.0 | L12: 7.0 | M12: 9.0 | N12: 7.5 | O12: 9.0
C13: 3 | D13: 3 | E13: 4 | F13: 4 | G13: 6 | H13: 6 | I13: 5 | J13: 7.5 | K13: 9.0 | L13: 7.5 | M13: 9.0 | N13: 7.0 | O13: 9.0
A14: 3 | B14: K0T2 | C14: 1 | D14: 6 | E14: 4 | F14: 4 | G14: 5 | H14: 5 | I14: 5 | J14: 7.0 | K14: 9.0 | L14: 7.0 | M14: 9.0 | N14: 7.0 | O14: 9.0
C15: 2 | D15: 5 | E15: 5 | F15: 4 | G15: 5 | H15: 5 | I15: 5 | J15: 7.0 | K15: 9.0 | L15: 7.0 | M15: 9.0 | N15: 7.0 | O15: 9.0
C16: 3 | D16: 5.5 | E16: 4 | F16: 3 | G16: 5 | H16: 5 | I16: 5 | J16: 7.0 | K16: 9.0 | L16: 7.5 | M16: 9.0 | N16: 7.5 | O16: 9.0
A17: 4 | B17: K1T0 | C17: 1 | D17: 5 | E17: 4 | F17: 4.5 | G17: 5 | H17: 6 | I17: 5 | J17: 7.0 | K17: 9.0 | L17: 7.0 | M17: 9.0 | N17: 7.0 | O17: 9.0
C18: 2 | D18: 4 | E18: 3 | F18: 4 | G18: 5 | H18: 5 | I18: 5 | J18: 7.0 | K18: 9.0 | L18: 7.0 | M18: 9.0 | N18: 7.0 | O18: 9.0
C19: 3 | D19: 4.5 | E19: 4 | F19: 3 | G19: 6 | H19: 6 | I19: 6 | J19: 7.0 | K19: 9.0 | L19: 7.5 | M19: 9.0 | N19: 6.5 | O19: 9.0
A20: 5 | B20: K1T1 | C20: 1 | D20: 3 | E20: 4 | F20: 3 | G20: 5 | H20: 5 | I20: 5 | J20: 6.5 | K20: 8.5 | L20: 6.5 | M20: 8.5 | N20: 6.5 | O20: 8.5
C21: 2 | D21: 4 | E21: 4 | F21: 3.5 | G21: 5 | H21: 5 | I21: 5 | J21: 6.5 | K21: 8.5 | L21: 6.5 | M21: 8.5 | N21: 7.0 | O21: 8.5
C22: 3 | D22: 5 | E22: 3 | F22: 4 | G22: 6 | H22: 5 | I22: 5 | J22: 6.5 | K22: 8.5 | L22: 7.0 | M22: 8.5 | N22: 6.5 | O22: 8.5
A23: 6 | B23: K1T2 | C23: 1 | D23: 4 | E23: 3 | F23: 4 | G23: 5 | H23: 5 | I23: 5 | J23: 6.5 | K23: 8.5 | L23: 6.5 | M23: 8.5 | N23: 6.5 | O23: 8.5
C24: 2 | D24: 4 | E24: 4 | F24: 3 | G24: 5 | H24: 5 | I24: 5 | J24: 6.5 | K24: 8.5 | L24: 6.5 | M24: 8.5 | N24: 7.0 | O24: 8.5
C25: 3 | D25: 3 | E25: 4 | F25: 3.5 | G25: 6 | H25: 6 | I25: 5 | J25: 6.5 | K25: 8.5 | L25: 7.0 | M25: 8.5 | N25: 6.5 | O25: 8.5
A26: 7 | B26: K2T0 | C26: 1 | D26: 4 | E26: 4 | F26: 4 | G26: 5 | H26: 5 | I26: 6 | J26: 6.5 | K26: 8.5 | L26: 6.5 | M26: 8.5 | N26: 6.5 | O26: 8.5
C27: 2 | D27: 5 | E27: 4 | F27: 3.5 | G27: 5 | H27: 5 | I27: 5 | J27: 7.0 | K27: 8.5 | L27: 7.0 | M27: 8.5 | N27: 6.5 | O27: 8.5
C28: 3 | D28: 4 | E28: 3 | F28: 4 | G28: 5 | H28: 5 | I28: 5 | J28: 6.5 | K28: 8.5 | L28: 6.5 | M28: 8.5 | N28: 7.0 | O28: 8.5
A29: 8 | B29: K2T1 | C29: 1 | D29: 6.5 | E29: 5 | F29: 4 | G29: 6 | H29: 6 | I29: 5 | J29: 7.0 | K29: 8.5 | L29: 7.0 | M29: 8.5 | N29: 6.5 | O29: 8.5
C30: 2 | D30: 4 | E30: 3 | F30: 4.5 | G30: 5 | H30: 5 | I30: 5 | J30: 6.5 | K30: 8.5 | L30: 6.5 | M30: 8.5 | N30: 6.5 | O30: 8.5
C31: 3 | D31: 5 | E31: 4 | F31: 6 | G31: 5 | H31: 5 | I31: 5 | J31: 6.5 | K31: 8.5 | L31: 6.5 | M31: 8.5 | N31: 7.0 | O31: 8.5
A32: 9 | B32: K2T2 | C32: 1 | D32: 2 | E32: 4 | F32: 5 | G32: 6 | H32: 5 | I32: 6 | J32: 6.5 | K32: 8.5 | L32: 6.5 | M32: 8.5 | N32: 7.0 | O32: 8.5
C33: 2 | D33: 4 | E33: 3 | F33: 4 | G33: 5 | H33: 5 | I33: 5 | J33: 6.5 | K33: 8.5 | L33: 6.5 | M33: 8.5 | N33: 6.5 | O33: 8.5
C34: 3 | D34: 3 | E34: 3 | F34: 3 | G34: 5 | H34: 5 | I34: 5 | J34: 7.0 | K34: 8.5 | L34: 7.0 | M34: 8.5 | N34: 6.5 | O34: 8.5

Sheet Sheet2
B1: Hari/Tanggal | C1: : | D1: Senin, 24 November 2025
B2: Suhu | C2: : | D2: 28
B3: Pengamatan ke | C3: : | D3: 2
A5: No. | B5: Kode Tanaman | C5: Ulangan | D5: Tinggi Tanaman (cm) | G5: Jumlah daun | J5: ph Tanah | P5: Keparahan penyakit | S5: Catatan
D6: Tanaman ke- | G6: Tanaman ke- | J6: Tanaman ke- | P6: Tanaman ke-
D7: 1 | E7: 2 | F7: 3 | G7: 1 | H7: 2 | I7: 3 | J7: 1 (atas) | K7: 1 (bawah) | L7: 2 (atas) | M7: 2 (bawah) | N7: 3 (atas) | O7: 3 (bawah) | P7: 1 | Q7: 2 | R7: 3
A8: 1 | B8: K0T0 | C8: 1 | E8: 2.5 | F8: 3 | H8: 6 | I8: 5 | L8: HH | M8: HH | N8: HH | O8: HH
C9: 2 | E9: 5 | F9: 5 | H9: 6 | I9: 6 | L9: HH | M9: HH | N9: HH | O9: HH
C10: 3 | E10: 5.5 | F10: 5 | H10: 6 | I10: 5 | L10: HH | M10: HH | N10: HH | O10: HH
A11: 2 | B11: K0T1 | C11: 1 | E11: 5 | F11: 5 | H11: 5 | I11: 5 | L11: HH | M11: HH | N11: 8.5 | O11: HH
C12: 2 | E12: 6.5 | F12: 4 | H12: 6 | I12: 5 | L12: 8.5 | M12: HH | N12: 9.0 | O12: HH
C13: 3 | E13: 3.5 | F13: 3.5 | H13: 6 | I13: 5 | L13: 9.0 | M13: HH | N13: 8.5 | O13: HH
A14: 3 | B14: K0T2 | C14: 1 | E14: 3 | F14: 3 | H14: 5 | I14: 5 | L14: 9.0 | M14: HH | N14: HH | O14: HH
C15: 2 | E15: 2.5 | F15: 4 | H15: 6 | I15: 6 | L15: HH | M15: HH | N15: HH | O15: HH
C16: 3 | E16: 2.5 | F16: 7 | H16: 6 | I16: 6 | L16: HH | M16: HH | N16: HH | O16: HH
A17: 4 | B17: K1T0 | C17: 1 | E17: 3 | F17: 2.5 | H17: 6 | I17: 6 | L17: 6.5 | M17: 9.0 | N17: 6.5 | O17: 9.0
C18: 2 | E18: 4 | F18: 3 | H18: 6 | I18: 6 | L18: 6.5 | M18: 9.0 | N18: 6.5 | O18: 9.0
C19: 3 | E19: 4.5 | F19: 4 | H19: 5 | I19: 6 | L19: 6.5 | M19: 9.0 | N19: 6.5 | O19: 9.0
A20: 5 | B20: K1T1 | C20: 1 | E20: 4 | F20: 3 | H20: 6 | I20: 7 | L20: 6.5 | M20: 8.5 | N20: 6.5 | O20: 8.5
C21: 2 | E21: 4 | F21: 6 | H21: 6 | I21: 6 | L21: 6.5 | M21: 8.5 | N21: 7.0 | O21: 8.5
C22: 3 | E22: 4 | F22: 5 | H22: 6 | I22: 5 | L22: 7.0 | M22: 8.5 | N22: 6.5 | O22: 8.5
A23: 6 | B23: K1T2 | C23: 1 | E23: 5 | F23: 5.5 | H23: 5 | I23: 5 | L23: 6.5 | M23: 8.5 | N23: 6.5 | O23: 8.5
C24: 2 | E24: 6 | F24: 4 | H24: 6 | I24: 6 | L24: 6.5 | M24: 8.5 | N24: 7.0 | O24: 8.5
C25: 3 | E25: 3 | F25: 2 | H25: 5 | I25: 6 | L25: 7.0 | M25: 8.5 | N25: 6.5 | O25: 8.5
A26: 7 | B26: K2T0 | C26: 1 | E26: 3.5 | F26: 5 | H26: 6 | I26: 5 | L26: 6.5 | M26: 8.5 | N26: 6.5 | O26: 8.5
C27: 2 | E27: 3 | F27: 3 | H27: 5 | I27: 6 | L27: 7.0 | M27: 8.5 | N27: 6.5 | O27: 8.5
C28: 3 | E28: 3 | F28: 4 | H28: 6 | I28: 6 | L28: 6.5 | M28: 8.5 | N28: 7.0 | O28: 8.5
A29: 8 | B29: K2T1 | C29: 1 | E29: 3 | F29: 5 | H29: 5 | I29: 5 | L29: 7.0 | M29: 8.5 | N29: 6.5 | O29: 8.5
C30: 2 | E30: 5 | F30: 3.5 | H30: 6 | I30: 5 | L30: 6.5 | M30: 8.5 | N30: 6.5 | O30: 8.5
C31: 3 | E31: 3.5 | F31: 5 | H31: 5 | I31: 7 | L31: 6.5 | M31: 8.5 | N31: 7.0 | O31: 8.5
A32: 9 | B32: K2T2 | C32: 1 | E32: 4.5 | F32: 5 | H32: 6 | I32: 6 | L32: 6.5 | M32: 8.5 | N32: 7.0 | O32: 8.5
C33: 2 | E33: 5 | F33: 4.5 | H33: 6 | I33: 6 | L33: 6.5 | M33: 8.5 | N33: 6.5 | O33: 8.5
C34: 3 | E34: 4 | F34: 3.5 | H34: 5 | I34: 6 | L34: 7.0 | M34: 8.5 | N34: 6.5 | O34: 8.5

Sheet Sheet3
B1: Hari/Tanggal | C1: : | D1: Rabu, 26 November 2025
B2: Suhu | C2: : | D2: 26
B3: Pengamatan ke | C3: : | D3: 3
A5: No. | B5: Kode Tanaman | C5: Ulangan | D5: Tinggi Tanaman (cm) | G5: Jumlah daun | J5: ph Tanah | P5: Keparahan penyakit | S5: Catatan
D6: Tanaman ke- | G6: Tanaman ke- | J6: Tanaman ke- | P6: Tanaman ke-
D7: 1 | E7: 2 | F7: 3 | G7: 1 | H7: 2 | I7: 3 | J7: 1 (atas) | K7: 1 (bawah) | L7: 2 (atas) | M7: 2 (bawah) | N7: 3 (atas) | O7: 3 (bawah) | P7: 1 | Q7: 2 | R7: 3
A8: 1 | B8: K0T0 | C8: 1 | E8: 2.5 | F8: 3.5 | H8: 6 | I8: 5 | L8: 9.0 | M8: HH | N8: 9.0 | O8: HH
C9: 2 | E9: 5.5 | F9: 5 | H9: 6 | I9: 7 | L9: 8.5 | M9: HH | N9: HH | O9: HH
C10: 3 | E10: 6 | F10: 6 | H10: 7 | I10: 6 | L10: 8.5 | M10: HH | N10: 9.0 | O10: HH
A11: 2 | B11: K0T1 | C11: 1 | E11: 5 | F11: 5.5 | H11: 6 | I11: 6 | L11: HH | M11: 9.0 | N11: HH | O11: 9.0
C12: 2 | E12: 8 | F12: 4 | H12: 6 | I12: 5 | L12: 8.5 | M12: 9.0 | N12: HH | O12: 9.0
C13: 3 | E13: 4 | F13: 4 | H13: 7 | I13: 6 | L13: 9.0 | M13: 9.0 | N13: HH | O13: 9.0
A14: 3 | B14: K0T2 | C14: 1 | E14: 3.5 | F14: 3 | H14: 6 | I14: 6 | L14: 9.0 | M14: 9.0 | N14: HH | O14: 9.0
C15: 2 | E15: 3 | F15: 5 | H15: 6 | I15: 6 | L15: HH | M15: 9.0 | N15: HH | O15: 9.0
C16: 3 | E16: 2.5 | F16: 8.5 | H16: 7 | I16: 7 | L16: HH | M16: 9.0 | N16: HH | O16: 9.0
A17: 4 | B17: K1T0 | C17: 1 | E17: 3 | F17: 2.5 | H17: 7 | I17: 7 | L17: 6.5 | M17: 9.0 | N17: 6.5 | O17: 9.0
C18: 2 | E18: 4.5 | F18: 3.5 | H18: 7 | I18: 8 | L18: 6.5 | M18: 9.0 | N18: 6.5 | O18: 9.0
C19: 3 | E19: 5 | F19: 4.5 | H19: 6 | I19: 7 | L19: 6.5 | M19: 9.0 | N19: 6.5 | O19: 9.0
A20: 5 | B20: K1T1 | C20: 1 | E20: 4.5 | F20: 3.5 | H20: 6 | I20: 7 | L20: 7.5 | M20: 8.5 | N20: 6.5 | O20: 8.5
C21: 2 | E21: 4 | F21: 7 | H21: 6 | I21: 6 | L21: 6.5 | M21: 8.5 | N21: 6.0 | O21: 8.5
C22: 3 | E22: 4.5 | F22: 5 | H22: 6 | I22: 6 | L22: 6.5 | M22: 8.5 | N22: 6.5 | O22: 8.5
A23: 6 | B23: K1T2 | C23: 1 | E23: 5 | F23: 6 | H23: 7 | I23: 6 | L23: 6.0 | M23: 8.5 | N23: 6.5 | O23: 8.5
C24: 2 | E24: 6.5 | F24: 4 | H24: 7 | I24: 7 | L24: 6.0 | M24: 8.5 | N24: 6.0 | O24: 8.5
C25: 3 | E25: 3 | F25: 2 | H25: 6 | I25: 7 | L25: 6.0 | M25: 8.5 | N25: 6.5 | O25: 8.5
A26: 7 | B26: K2T0 | C26: 1 | E26: 4 | F26: 5.5 | H26: 6 | I26: 6 | L26: 6.5 | M26: 8.5 | N26: 6.5 | O26: 8.5
C27: 2 | E27: 3.5 | F27: 3 | H27: 6 | I27: 7 | L27: 6.5 | M27: 8.5 | N27: 6.0 | O27: 8.5
C28: 3 | E28: 3 | F28: 4.5 | H28: 8 | I28: 6 | L28: 6.0 | M28: 8.5 | N28: 6.5 | O28: 8.5
A29: 8 | B29: K2T1 | C29: 1 | E29: 3 | F29: 6 | H29: 5 | I29: 6 | L29: 6.5 | M29: 8.5 | N29: 6.0 | O29: 8.5
C30: 2 | E30: 6 | F30: 4 | H30: 6 | I30: 5 | L30: 6.0 | M30: 8.5 | N30: 6.0 | O30: 8.5
C31: 3 | E31: 4 | F31: 7 | H31: 6 | I31: 7 | L31: 6.0 | M31: 8.5 | N31: 6.0 | O31: 8.5
A32: 9 | B32: K2T2 | C32: 1 | E32: 5 | F32: 5.5 | H32: 6 | I32: 7 | L32: 6.0 | M32: 8.5 | N32: 6.5 | O32: 8.5
C33: 2 | E33: 5.5 | F33: 5 | H33: 7 | I33: 7 | L33: 6.0 | M33: 8.5 | N33: 6.5 | O33: 8.5
C34: 3 | E34: 5 | F34: 4 | H34: 6 | I34: 7 | L34: 6.0 | M34: 8.5 | N34: 6.5 | O34: 8.5

Sheet Sheet4
B1: Hari/Tanggal | C1: : | D1: Kamis, 28 November 2025
B2: Suhu | C2: : | D2: 28
B3: Pengamatan ke | C3: : | D3: 4
A5: No. | B5: Kode Tanaman | C5: Ulangan | D5: Tinggi Tanaman (cm) | G5: Jumlah daun | J5: ph Tanah | P5: Keparahan penyakit | S5: Catatan
D6: Tanaman ke- | G6: Tanaman ke- | J6: Tanaman ke- | P6: Tanaman ke-
D7: 1 | E7: 2 | F7: 3 | G7: 1 | H7: 2 | I7: 3 | J7: 1 (atas) | K7: 1 (bawah) | L7: 2 (atas) | M7: 2 (bawah) | N7: 3 (atas) | O7: 3 (bawah) | P7: 1 | Q7: 2 | R7: 3
A8: 1 | B8: K0T0 | C8: 1 | E8: 2.5 | F8: 3.5 | H8: 6 | I8: 5 | L8: 9.0 | M8: HH | N8: 9.0 | O8: HH
C9: 2 | E9: 6.5 | F9: 5 | H9: 6 | I9: 7 | L9: 8.5 | M9: HH | N9: HH | O9: HH
C10: 3 | E10: 7 | F10: 6.5 | H10: 8 | I10: 7 | L10: 8.5 | M10: HH | N10: 9.0 | O10: HH
A11: 2 | B11: K0T1 | C11: 1 | E11: 5 | F11: 7 | H11: 6 | I11: 6 | L11: HH | M11: 9.0 | N11: HH | O11: 9.0
C12: 2 | E12: 9 | F12: 4 | H12: 7 | I12: 5 | L12: 8.5 | M12: 9.0 | N12: 9.0 | O12: 9.0
C13: 3 | E13: 4 | F13: 4.5 | H13: 8 | I13: 6 | L13: 9.0 | M13: 9.0 | N13: HH | O13: 9.0
A14: 3 | B14: K0T2 | C14: 1 | E14: 3.5 | F14: 3.5 | H14: 5 (1) | I14: 6 | L14: 9.0 | M14: 9.0 | N14: HH | O14: 9.0
C15: 2 | E15: 3 | F15: 6.5 | H15: 6 | I15: 5 (1) | L15: HH | M15: 9.0 | N15: HH | O15: 9.0
C16: 3 | E16: 3.5 | F16: 10 | H16: 7 | I16: 6 (1) | L16: HH | M16: 9.0 | N16: HH | O16: 9.0
A17: 4 | B17: K1T0 | C17: 1 | E17: 3.5 | F17: 4 | H17: 8 | I17: 6 (1) | L17: 6.5 | M17: 9.0 | N17: 6.5 | O17: 9.0
C18: 2 | E18: 5 | F18: 4 | H18: 8 | I18: 9 | L18: 6.5 | M18: 9.0 | N18: 6.5 | O18: 9.0
C19: 3 | E19: 5.5 | F19: 5 | H19: 7 | I19: 7 | L19: 6.5 | M19: 9.0 | N19: 6.5 | O19: 9.0
A20: 5 | B20: K1T1 | C20: 1 | E20: 5.5 | F20: 4 | H20: 7 | I20: 6 (1) | L20: 7.5 | M20: 8.5 | N20: 6.5 | O20: 8.5
C21: 2 | E21: 4.5 | F21: 8 | H21: 7 | I21: 7 | L21: 6.5 | M21: 8.5 | N21: 6.0 | O21: 8.5
C22: 3 | E22: 5 | F22: 6 | H22: 7 | I22: 7 | L22: 6.5 | M22: 8.5 | N22: 6.5 | O22: 8.5
A23: 6 | B23: K1T2 | C23: 1 | E23: 6 | F23: 6.5 | H23: 6 (1) | I23: 6 | L23: 6.0 | M23: 8.5 | N23: 6.5 | O23: 8.5
C24: 2 | E24: 7 | F24: 5 | H24: 8 | I24: 6 (1) | L24: 6.0 | M24: 8.5 | N24: 6.0 | O24: 8.5
C25: 3 | E25: 3.5 | F25: 2 | H25: 7 | I25: 8 | L25: 6.0 | M25: 8.5 | N25: 6.5 | O25: 8.5
A26: 7 | B26: K2T0 | C26: 1 | E26: 4.5 | F26: 6.5 | H26: 7 | I26: 6 | L26: 6.5 | M26: 8.5 | N26: 6.5 | O26: 8.5
C27: 2 | E27: 4 | F27: 3.5 | H27: 7 | I27: 8 | L27: 6.5 | M27: 8.5 | N27: 6.0 | O27: 8.5
C28: 3 | E28: 4 | F28: 5 | H28: 9 | I28: 7 | L28: 6.0 | M28: 8.5 | N28: 6.5 | O28: 8.5
A29: 8 | B29: K2T1 | C29: 1 | E29: 3 | F29: 6.5 | H29: 6 | I29: 7 | L29: 6.5 | M29: 8.5 | N29: 6.0 | O29: 8.5
C30: 2 | E30: 7 | F30: 4.5 | H30: 7 | I30: 6 | L30: 6.0 | M30: 8.5 | N30: 6.0 | O30: 8.5
C31: 3 | E31: 4.5 | F31: 8 | H31: 7 | I31: 8 | L31: 6.0 | M31: 8.5 | N31: 6.0 | O31: 8.5
A32: 9 | B32: K2T2 | C32: 1 | E32: 6 | F32: 7 | H32: 6 | I32: 8 | L32: 6.0 | M32: 8.5 | N32: 6.5 | O32: 8.5
C33: 2 | E33: 6 | F33: 5.5 | H33: 6 (1) | I33: 8 | L33: 6.0 | M33: 8.5 | N33: 6.5 | O33: 8.5
C34: 3 | E34: 5.5 | F34: 5 | H34: 7 | I34: 8 | L34: 6.0 | M34: 8.5 | N34: 6.5 | O34: 8.5

Sheet Sheet5
B1: Hari/Tanggal | C1: : | D1: Sabtu, 30 November 2025
B2: Suhu | C2: : | D2: 31
B3: Pengamatan ke | C3: : | D3: 5
A5: No. | B5: Kode Tanaman | C5: Ulangan | D5: Tinggi Tanaman (cm) | G5: Jumlah daun | J5: ph Tanah | P5: Keparahan penyakit | S5: Catatan
D6: Tanaman ke- | G6: Tanaman ke- | J6: Tanaman ke- | P6: Tanaman ke-
D7: 1 | E7: 2 | F7: 3 | G7: 1 | H7: 2 | I7: 3 | J7: 1 (atas) | K7: 1 (bawah) | L7: 2 (atas) | M7: 2 (bawah) | N7: 3 (atas) | O7: 3 (bawah) | P7: 1 | Q7: 2 | R7: 3
A8: 1 | B8: K0T0 | C8: 1 | E8: 3.5 | F8: 4.5 | H8: 5 (2) | I8: 5 (1) | L8: 9.0 | M8: HH | N8: 9.0 | O8: HH
C9: 2 | E9: 7 | F9: 5.5 | H9: 5 (1) | I9: 7 (1) | L9: 8.5 | M9: HH | N9: HH | O9: HH
C10: 3 | E10: 7.5 | F10: 7 | H10: 7 (1) | I10: 8 | L10: 8.5 | M10: HH | N10: 9.0 | O10: HH
A11: 2 | B11: K0T1 | C11: 1 | E11: 5.5 | F11: 7.5 | H11: 7 | I11: 7 | L11: HH | M11: HH | N11: 9.0 | O11: HH
C12: 2 | E12: 10 | F12: 5 | H12: 7 | I12: 5 (1) | L12: 8.0 | M12: HH | N12: 9.0 | O12: HH
C13: 3 | E13: 4.5 | F13: 6 | H13: 8 (1) | I13: 7 | L13: 8.0 | M13: HH | N13: HH | O13: HH
A14: 3 | B14: K0T2 | C14: 1 | E14: 4 | F14: 5.5 | H14: 5 (1) | I14: 7 | L14: 7.5 | M14: HH | N14: 9.0 | O14: HH
C15: 2 | E15: 4.5 | F15: 8.5 | H15: 6 (1) | I15: 6 (1) | L15: 8.5 | M15: HH | N15: 8.5 | O15: HH
C16: 3 | E16: 4.5 | F16: 11 | H16: 6 (1) | I16: 5 (2) | L16: HH | M16: HH | N16: 9.0 | O16: HH
A17: 4 | B17: K1T0 | C17: 1 | E17: 3.5 | F17: 4.5 | H17: 9 | I17: 6 (1) | L17: 6.5 | M17: 8.0 | N17: 6.5 | O17: 7.5
C18: 2 | E18: 5 | F18: 4 | H18: 9 | I18: 9 (1) | L18: 6.5 | M18: 7.5 | N18: 6.5 | O18: 8.0
C19: 3 | E19: 6 | F19: 6 | H19: 8 | I19: 8 | L19: 6.5 | M19: 7.5 | N19: 6.0 | O19: 8.0
A20: 5 | B20: K1T1 | C20: 1 | E20: 5.5 | F20: 5.5 | H20: 7 | I20: 7 (1) | L20: 5.5 | M20: 7.5 | N20: 5.5 | O20: 7.5
C21: 2 | E21: 5 | F21: 9 | H21: 7 | I21: 5 (2) | L21: 5.5 | M21: 7.5 | N21: 5.5 | O21: 8.0
C22: 3 | E22: 5 | F22: 7 | H22: 7 | I22: 7 | L22: 5.0 | M22: 8.0 | N22: 5.5 | O22: 7.5
A23: 6 | B23: K1T2 | C23: 1 | E23: 6 | F23: 7.5 | H23: 6 (1) | I23: 6 (1) | L23: 5.0 | M23: 7.5 | N23: 5.0 | O23: 7.5
C24: 2 | E24: 7 | F24: 5 | H24: 7 (1) | I24: 6 (1) | L24: 5.0 | M24: 7.5 | N24: 6.0 | O24: 8.0
C25: 3 | E25: 3.5 | F25: 4 | H25: 8 | I25: 9 | L25: 5.0 | M25: 7.5 | N25: 5.0 | O25: 7.5
A26: 7 | B26: K2T0 | C26: 1 | E26: 5 | F26: 6.5 | H26: 7 | I26: 6 (1) | L26: 6.0 | M26: 8.0 | N26: 5.0 | O26: 7.5
C27: 2 | E27: 4.5 | F27: 4 | H27: 7 | I27: 9 | L27: 5.0 | M27: 7.5 | N27: 5.0 | O27: 8.0
C28: 3 | E28: 4 | F28: 5.5 | H28: 10 | I28: 7 | L28: 5.0 | M28: 7.0 | N28: 5.5 | O28: 7.5
A29: 8 | B29: K2T1 | C29: 1 | E29: 3.5 | F29: 7 | H29: 7 | I29: 7 | L29: 5.0 | M29: 7.0 | N29: 5.5 | O29: 7.0
C30: 2 | E30: 7.5 | F30: 4.5 | H30: 8 | I30: 6 | L30: 5.0 | M30: 7.0 | N30: 5.0 | O30: 7.0
C31: 3 | E31: 4.5 | F31: 9 | H31: 6 (1) | I31: 8 | L31: 5.0 | M31: 7.5 | N31: 5.0 | O31: 7.0
A32: 9 | B32: K2T2 | C32: 1 | E32: 6.5 | F32: 7.5 | H32: 7 | I32: 8 (1) | L32: 5.0 | M32: 7.0 | N32: 5.0 | O32: 7.0
C33: 2 | E33: 6 | F33: 5.5 | H33: 6 (1) | I33: 8 | L33: 5.0 | M33: 7.0 | N33: 5.0 | O33: 7.5
C34: 3 | E34: 5.5 | F34: 5 | H34: 6 (1) | I34: 8 | L34: 5.0 | M34: 7.5 | N34: 5.5 | O34: 7.0

Sheet jumlah daun
A1: No. | B1: Kode Tanaman | C1: Ulangan | D1: Jumlah daun | G1: Jumlah daun | J1: Jumlah daun | M1: Jumlah daun | P1: Jumlah daun | S1: Jumlah daun | V1: Jumlah daun | Y1: Jumlah daun | AB1: Jumlah daun | AE1: Jumlah daun | AI1: Delta
D2: Tanaman ke- | G2: Tanaman ke- | J2: Tanaman ke- | M2: Tanaman ke- | P2: Tanaman ke- | S2: Tanaman ke- | V2: Tanaman ke- | Y2: Tanaman ke- | AB2: Tanaman ke- | AE2: Tanaman ke-
D3: 1 | E3: 2 | F3: 3 | G3: 1 | H3: 2 | I3: 3 | J3: 1 | K3: 2 | L3: 3 | M3: 1 | N3: 2 | O3: 3 | P3: 1 | Q3: 2 | R3: 3 | S3: 1 | T3: 2 | U3: 3 | V3: 1 | W3: 2 | X3: 3 | Y3: 1 | Z3: 2 | AA3: 3 | AB3: 1 | AC3: 2 | AD3: 3 | AE3: 1 | AF3: 2 | AG3: 3
A4: 1 | B4: K0T0 | C4: 1 | D4: 5 | E4: 5 | F4: 5 | G4: =(D4+E4+F4)/3 -> 5 | H4: 6 | I4: 5 | J4: =(H4+I4)/2 -> 5.5 | K4: 6 | L4: 5 | M4: =(K4+L4)/2 -> 5.5 | N4: 6 | O4: 5 | P4: =(N4+O4)/2 -> 5.5 | Q4: 5 | R4: 5 | S4: =(Q4+R4)/2 -> 5 | T4: 5 | U4: 5 | V4: =(T4+U4)/2 -> 5 | W4: 5 | X4: 5 | Y4: =(W4+X4)/2 -> 5 | Z4: 5 | AA4: 5 | AB4: =(Z4+AA4)/2 -> 5 | AC4: 7 | AD4: 5 | AE4: =(AC4+AD4)/2 -> 6 | AF4: 6 | AG4: 5 | AH4: =(AF4+AG4)/2 -> 5.5 | AI4: =AH4-G4 -> 0.5
C5: 2 | D5: 5 | E5: 5 | F5: 5 | G5: =(D5+E5+F5)/3 -> 5 | H5: 6 | I5: 6 | J5: =(H5+I5)/2 -> 6 | K5: 6 | L5: 7 | M5: =(K5+L5)/2 -> 6.5 | N5: 6 | O5: 7 | P5: =(N5+O5)/2 -> 6.5 | Q5: 5 | R5: 7 | S5: =(Q5+R5)/2 -> 6 | T5: 6 | U5: 8 | V5: =(T5+U5)/2 -> 7 | W5: 6 | X5: 7 | Y5: =(W5+X5)/2 -> 6.5 | Z5: 6 | AA5: 8 | AB5: =(Z5+AA5)/2 -> 7 | AC5: 6 | AD5: 8 | AE5: =(AC5+AD5)/2 -> 7 | AF5: 5 | AG5: 8 | AH5: =(AF5+AG5)/2 -> 6.5 | AI5: =AH5-G5 -> 1.5
C6: 3 | D6: 5 | E6: 6 | F6: 5 | G6: =(D6+E6+F6)/3 -> 5.3333333 | H6: 6 | I6: 5 | J6: =(H6+I6)/2 -> 5.5 | K6: 7 | L6: 6 | M6: =(K6+L6)/2 -> 6.5 | N6: 8 | O6: 7 | P6: =(N6+O6)/2 -> 7.5 | Q6: 7 | R6: 8 | S6: =(Q6+R6)/2 -> 7.5 | T6: 7 | U6: 8 | V6: =(T6+U6)/2 -> 7.5 | W6: 7 | X6: 8 | Y6: =(W6+X6)/2 -> 7.5 | Z6: 8 | AA6: 9 | AB6: =(Z6+AA6)/2 -> 8.5 | AC6: 9 | AD6: 11 | AE6: =(AC6+AD6)/2 -> 10 | AF6: 8 | AG6: 11 | AH6: =(AF6+AG6)/2 -> 9.5 | AI6: =AH6-G6 -> 4.1666667
A7: 2 | B7: K0T1 | C7: 1 | D7: 5 | E7: 5 | F7: 5 | G7: =(D7+E7+F7)/3 -> 5 | H7: 5 | I7: 5 | J7: =(H7+I7)/2 -> 5 | K7: 6 | L7: 6 | M7: =(K7+L7)/2 -> 6 | N7: 6 | O7: 6 | P7: =(N7+O7)/2 -> 6 | Q7: 7 | R7: 7 | S7: =(Q7+R7)/2 -> 7 | T7: 7 | U7: 6 | V7: =(T7+U7)/2 -> 6.5 | W7: 8 | X7: 6 | Y7: =(W7+X7)/2 -> 7 | Z7: 7 | AA7: 6 | AB7: =(Z7+AA7)/2 -> 6.5 | AC7: 6 | AD7: 6 | AE7: =(AC7+AD7)/2 -> 6 | AF7: 6 | AG7: 5 | AH7: =(AF7+AG7)/2 -> 5.5 | AI7: =AH7-G7 -> 0.5
C8: 2 | D8: 5 | E8: 5 | F8: 6 | G8: =(D8+E8+F8)/3 -> 5.3333333 | H8: 6 | I8: 5 | J8: =(H8+I8)/2 -> 5.5 | K8: 6 | L8: 5 | M8: =(K8+L8)/2 -> 5.5 | N8: 7 | O8: 5 | P8: =(N8+O8)/2 -> 6 | Q8: 7 | R8: 5 | S8: =(Q8+R8)/2 -> 6 | T8: 8 | U8: 5 | V8: =(T8+U8)/2 -> 6.5 | W8: 7 | X8: 6 | Y8: =(W8+X8)/2 -> 6.5 | Z8: 7 | AA8: 6 | AB8: =(Z8+AA8)/2 -> 6.5 | AC8: 6 | AD8: 6 | AE8: =(AC8+AD8)/2 -> 6 | AF8: 6 | AG8: 6 | AH8: =(AF8+AG8)/2 -> 6 | AI8: =AH8-G8 -> 0.66666667
C9: 3 | D9: 6 | E9: 6 | F9: 5 | G9: =(D9+E9+F9)/3 -> 5.6666667 | H9: 6 | I9: 5 | J9: =(H9+I9)/2 -> 5.5 | K9: 7 | L9: 6 | M9: =(K9+L9)/2 -> 6.5 | N9: 8 | O9: 6 | P9: =(N9+O9)/2 -> 7 | Q9: 8 | R9: 7 | S9: =(Q9+R9)/2 -> 7.5 | T9: 8 | U9: 6 | V9: =(T9+U9)/2 -> 7 | W9: 8 | X9: 6 | Y9: =(W9+X9)/2 -> 7 | Z9: 8 | AA9: 6 | AB9: =(Z9+AA9)/2 -> 7 | AC9: 7 | AD9: 6 | AE9: =(AC9+AD9)/2 -> 6.5 | AF9: 7 | AG9: 6 | AH9: =(AF9+AG9)/2 -> 6.5 | AI9: =AH9-G9 -> 0.83333333
A10: 3 | B10: K0T2 | C10: 1 | D10: 5 | E10: 5 | F10: 5 | G10: =(D10+E10+F10)/3 -> 5 | H10: 5 | I10: 5 | J10: =(H10+I10)/2 -> 5 | K10: 6 | L10: 6 | M10: =(K10+L10)/2 -> 6 | N10: 5 | O10: 6 | P10: =(N10+O10)/2 -> 5.5 | Q10: 5 | R10: 7 | S10: =(Q10+R10)/2 -> 6 | T10: 6 | U10: 8 | V10: =(T10+U10)/2 -> 7 | W10: 5 | X10: 9 | Y10: =(W10+X10)/2 -> 7 | Z10: 5 | AA10: 8 | AB10: =(Z10+AA10)/2 -> 6.5 | AC10: 5 | AD10: 6 | AE10: =(AC10+AD10)/2 -> 5.5 | AF10: 5 | AG10: 6 | AH10: =(AF10+AG10)/2 -> 5.5 | AI10: =AH10-G10 -> 0.5
C11: 2 | D11: 5 | E11: 5 | F11: 5 | G11: =(D11+E11+F11)/3 -> 5 | H11: 6 | I11: 6 | J11: =(H11+I11)/2 -> 6 | K11: 6 | L11: 6 | M11: =(K11+L11)/2 -> 6 | N11: 6 | O11: 5 | P11: =(N11+O11)/2 -> 5.5 | Q11: 6 | R11: 6 | S11: =(Q11+R11)/2 -> 6 | T11: 7 | U11: 6 | V11: =(T11+U11)/2 -> 6.5 | W11: 8 | X11: 6 | Y11: =(W11+X11)/2 -> 7 | Z11: 7 | AA11: 5 | AB11: =(Z11+AA11)/2 -> 6 | AC11: 8 | AD11: 4 | AE11: =(AC11+AD11)/2 -> 6 | AF11: 7 | AG11: 3 | AH11: =(AF11+AG11)/2 -> 5 | AI11: =AH11-G11 -> 0
C12: 3 | D12: 5 | E12: 5 | F12: 5 | G12: =(D12+E12+F12)/3 -> 5 | H12: 6 | I12: 6 | J12: =(H12+I12)/2 -> 6 | K12: 7 | L12: 7 | M12: =(K12+L12)/2 -> 7 | N12: 7 | O12: 6 | P12: =(N12+O12)/2 -> 6.5 | Q12: 6 | R12: 5 | S12: =(Q12+R12)/2 -> 5.5 | T12: 5 | U12: 6 | V12: =(T12+U12)/2 -> 5.5 | W12: 5 | X12: 6 | Y12: =(W12+X12)/2 -> 5.5 | Z12: 4 | AA12: 7 | AB12: =(Z12+AA12)/2 -> 5.5 | AC12: 4 | AD12: 6 | AE12: =(AC12+AD12)/2 -> 5 | AF12: 3 | AG12: 5 | AH12: =(AF12+AG12)/2 -> 4 | AI12: =AH12-G12 -> -1
A13: 4 | B13: K1T0 | C13: 1 | D13: 5 | E13: 6 | F13: 5 | G13: =(D13+E13+F13)/3 -> 5.3333333 | H13: 6 | I13: 6 | J13: =(H13+I13)/2 -> 6 | K13: 7 | L13: 7 | M13: =(K13+L13)/2 -> 7 | N13: 8 | O13: 6 | P13: =(N13+O13)/2 -> 7 | Q13: 9 | R13: 6 | S13: =(Q13+R13)/2 -> 7.5 | T13: 8 | U13: 7 | V13: =(T13+U13)/2 -> 7.5 | W13: 9 | X13: 8 | Y13: =(W13+X13)/2 -> 8.5 | Z13: 10 | AA13: 9 | AB13: =(Z13+AA13)/2 -> 9.5 | AC13: 9 | AD13: 10 | AE13: =(AC13+AD13)/2 -> 9.5 | AF13: 9 | AG13: 10 | AH13: =(AF13+AG13)/2 -> 9.5 | AI13: =AH13-G13 -> 4.1666667
C14: 2 | D14: 5 | E14: 5 | F14: 5 | G14: =(D14+E14+F14)/3 -> 5 | H14: 6 | I14: 6 | J14: =(H14+I14)/2 -> 6 | K14: 7 | L14: 8 | M14: =(K14+L14)/2 -> 7.5 | N14: 8 | O14: 9 | P14: =(N14+O14)/2 -> 8.5 | Q14: 9 | R14: 9 | S14: =(Q14+R14)/2 -> 9 | T14: 10 | U14: 10 | V14: =(T14+U14)/2 -> 10 | W14: 10 | X14: 9 | Y14: =(W14+X14)/2 -> 9.5 | Z14: 9 | AA14: 17 | AB14: =(Z14+AA14)/2 -> 13 | AC14: 10 | AD14: 19 | AE14: =(AC14+AD14)/2 -> 14.5 | AF14: 10 | AG14: 19 | AH14: =(AF14+AG14)/2 -> 14.5 | AI14: =AH14-G14 -> 9.5
C15: 3 | D15: 6 | E15: 6 | F15: 6 | G15: =(D15+E15+F15)/3 -> 6 | H15: 5 | I15: 6 | J15: =(H15+I15)/2 -> 5.5 | K15: 6 | L15: 7 | M15: =(K15+L15)/2 -> 6.5 | N15: 7 | O15: 7 | P15: =(N15+O15)/2 -> 7 | Q15: 8 | R15: 8 | S15: =(Q15+R15)/2 -> 8 | T15: 8 | U15: 9 | V15: =(T15+U15)/2 -> 8.5 | W15: 9 | X15: 8 | Y15: =(W15+X15)/2 -> 8.5 | Z15: 8 | AA15: 8 | AB15: =(Z15+AA15)/2 -> 8 | AC15: 7 | AD15: 8 | AE15: =(AC15+AD15)/2 -> 7.5 | AF15: 7 | AG15: 8 | AH15: =(AF15+AG15)/2 -> 7.5 | AI15: =AH15-G15 -> 1.5
A16: 5 | B16: K1T1 | C16: 1 | D16: 5 | E16: 5 | F16: 5 | G16: =(D16+E16+F16)/3 -> 5 | H16: 6 | I16: 7 | J16: =(H16+I16)/2 -> 6.5 | K16: 6 | L16: 7 | M16: =(K16+L16)/2 -> 6.5 | N16: 7 | O16: 6 | P16: =(N16+O16)/2 -> 6.5 | Q16: 7 | R16: 7 | S16: =(Q16+R16)/2 -> 7 | T16: 8 | U16: 7 | V16: =(T16+U16)/2 -> 7.5 | W16: 9 | X16: 7 | Y16: =(W16+X16)/2 -> 8 | Z16: 8 | AA16: 6 | AB16: =(Z16+AA16)/2 -> 7 | AC16: 8 | AD16: 6 | AE16: =(AC16+AD16)/2 -> 7 | AF16: 8 | AG16: 6 | AH16: =(AF16+AG16)/2 -> 7 | AI16: =AH16-G16 -> 2
C17: 2 | D17: 5 | E17: 5 | F17: 5 | G17: =(D17+E17+F17)/3 -> 5 | H17: 6 | I17: 6 | J17: =(H17+I17)/2 -> 6 | K17: 6 | L17: 6 | M17: =(K17+L17)/2 -> 6 | N17: 7 | O17: 7 | P17: =(N17+O17)/2 -> 7 | Q17: 7 | R17: 5 | S17: =(Q17+R17)/2 -> 6 | T17: 8 | U17: 6 | V17: =(T17+U17)/2 -> 7 | W17: 8 | X17: 6 | Y17: =(W17+X17)/2 -> 7 | Z17: 9 | AA17: 6 | AB17: =(Z17+AA17)/2 -> 7.5 | AC17: 9 | AD17: 8 | AE17: =(AC17+AD17)/2 -> 8.5 | AF17: 9 | AG17: 8 | AH17: =(AF17+AG17)/2 -> 8.5 | AI17: =AH17-G17 -> 3.5
C18: 3 | D18: 6 | E18: 5 | F18: 5 | G18: =(D18+E18+F18)/3 -> 5.3333333 | H18: 6 | I18: 5 | J18: =(H18+I18)/2 -> 5.5 | K18: 6 | L18: 6 | M18: =(K18+L18)/2 -> 6 | N18: 7 | O18: 7 | P18: =(N18+O18)/2 -> 7 | Q18: 7 | R18: 7 | S18: =(Q18+R18)/2 -> 7 | T18: 7 | U18: 8 | V18: =(T18+U18)/2 -> 7.5 | W18: 9 | X18: 9 | Y18: =(W18+X18)/2 -> 9 | Z18: 8 | AA18: 10 | AB18: =(Z18+AA18)/2 -> 9 | AC18: 8 | AD18: 11 | AE18: =(AC18+AD18)/2 -> 9.5 | AF18: 8 | AG18: 11 | AH18: =(AF18+AG18)/2 -> 9.5 | AI18: =AH18-G18 -> 4.1666667
A19: 6 | B19: K1T2 | C19: 1 | D19: 5 | E19: 5 | F19: 5 | G19: =(D19+E19+F19)/3 -> 5 | H19: 5 | I19: 5 | J19: =(H19+I19)/2 -> 5 | K19: 7 | L19: 6 | M19: =(K19+L19)/2 -> 6.5 | N19: 6 | O19: 6 | P19: =(N19+O19)/2 -> 6 | Q19: 6 | R19: 6 | S19: =(Q19+R19)/2 -> 6 | T19: 7 | U19: 5 | V19: =(T19+U19)/2 -> 6 | W19: 7 | X19: 6 | Y19: =(W19+X19)/2 -> 6.5 | Z19: 8 | AA19: 6 | AB19: =(Z19+AA19)/2 -> 7 | AC19: 9 | AD19: 7 | AE19: =(AC19+AD19)/2 -> 8 | AF19: 9 | AG19: 7 | AH19: =(AF19+AG19)/2 -> 8 | AI19: =AH19-G19 -> 3
C20: 2 | D20: 5 | E20: 5 | F20: 5 | G20: =(D20+E20+F20)/3 -> 5 | H20: 6 | I20: 6 | J20: =(H20+I20)/2 -> 6 | K20: 7 | L20: 7 | M20: =(K20+L20)/2 -> 7 | N20: 8 | O20: 6 | P20: =(N20+O20)/2 -> 7 | Q20: 7 | R20: 6 | S20: =(Q20+R20)/2 -> 6.5 | T20: 8 | U20: 7 | V20: =(T20+U20)/2 -> 7.5 | W20: 9 | X20: 8 | Y20: =(W20+X20)/2 -> 8.5 | Z20: 10 | AA20: 9 | AB20: =(Z20+AA20)/2 -> 9.5 | AC20: 10 | AD20: 9 | AE20: =(AC20+AD20)/2 -> 9.5 | AF20: 10 | AG20: 9 | AH20: =(AF20+AG20)/2 -> 9.5 | AI20: =AH20-G20 -> 4.5
C21: 3 | D21: 6 | E21: 6 | F21: 5 | G21: =(D21+E21+F21)/3 -> 5.6666667 | H21: 5 | I21: 6 | J21: =(H21+I21)/2 -> 5.5 | K21: 6 | L21: 7 | M21: =(K21+L21)/2 -> 6.5 | N21: 7 | O21: 8 | P21: =(N21+O21)/2 -> 7.5 | Q21: 8 | R21: 9 | S21: =(Q21+R21)/2 -> 8.5 | T21: 9 | U21: 9 | V21: =(T21+U21)/2 -> 9 | W21: 9 | X21: 10 | Y21: =(W21+X21)/2 -> 9.5 | Z21: 10 | AA21: 10 | AB21: =(Z21+AA21)/2 -> 10 | AC21: 8 | AD21: 11 | AE21: =(AC21+AD21)/2 -> 9.5 | AF21: 8 | AG21: 11 | AH21: =(AF21+AG21)/2 -> 9.5 | AI21: =AH21-G21 -> 3.8333333
A22: 7 | B22: K2T0 | C22: 1 | D22: 5 | E22: 5 | F22: 6 | G22: =(D22+E22+F22)/3 -> 5.3333333 | H22: 6 | I22: 5 | J22: =(H22+I22)/2 -> 5.5 | K22: 6 | L22: 6 | M22: =(K22+L22)/2 -> 6 | N22: 7 | O22: 6 | P22: =(N22+O22)/2 -> 6.5 | Q22: 7 | R22: 6 | S22: =(Q22+R22)/2 -> 6.5 | T22: 7 | U22: 7 | V22: =(T22+U22)/2 -> 7 | W22: 8 | X22: 8 | Y22: =(W22+X22)/2 -> 8 | Z22: 8 | AA22: 8 | AB22: =(Z22+AA22)/2 -> 8 | AC22: 10 | AD22: 9 | AE22: =(AC22+AD22)/2 -> 9.5 | AF22: 10 | AG22: 9 | AH22: =(AF22+AG22)/2 -> 9.5 | AI22: =AH22-G22 -> 4.1666667
C23: 2 | D23: 5 | E23: 5 | F23: 5 | G23: =(D23+E23+F23)/3 -> 5 | H23: 5 | I23: 6 | J23: =(H23+I23)/2 -> 5.5 | K23: 6 | L23: 7 | M23: =(K23+L23)/2 -> 6.5 | N23: 7 | O23: 8 | P23: =(N23+O23)/2 -> 7.5 | Q23: 7 | R23: 9 | S23: =(Q23+R23)/2 -> 8 | T23: 9 | U23: 9 | V23: =(T23+U23)/2 -> 9 | W23: 9 | X23: 10 | Y23: =(W23+X23)/2 -> 9.5 | Z23: 9 | AA23: 11 | AB23: =(Z23+AA23)/2 -> 10 | AC23: 10 | AD23: 14 | AE23: =(AC23+AD23)/2 -> 12 | AF23: 10 | AG23: 14 | AH23: =(AF23+AG23)/2 -> 12 | AI23: =AH23-G23 -> 7
C24: 3 | D24: 5 | E24: 5 | F24: 5 | G24: =(D24+E24+F24)/3 -> 5 | H24: 6 | I24: 6 | J24: =(H24+I24)/2 -> 6 | K24: 8 | L24: 6 | M24: =(K24+L24)/2 -> 7 | N24: 9 | O24: 7 | P24: =(N24+O24)/2 -> 8 | Q24: 10 | R24: 7 | S24: =(Q24+R24)/2 -> 8.5 | T24: 11 | U24: 8 | V24: =(T24+U24)/2 -> 9.5 | W24: 11 | X24: 9 | Y24: =(W24+X24)/2 -> 10 | Z24: 11 | AA24: 9 | AB24: =(Z24+AA24)/2 -> 10 | AC24: 11 | AD24: 9 | AE24: =(AC24+AD24)/2 -> 10 | AF24: 11 | AG24: 9 | AH24: =(AF24+AG24)/2 -> 10 | AI24: =AH24-G24 -> 5
A25: 8 | B25: K2T1 | C25: 1 | D25: 6 | E25: 6 | F25: 5 | G25: =(D25+E25+F25)/3 -> 5.6666667 | H25: 5 | I25: 5 | J25: =(H25+I25)/2 -> 5 | K25: 5 | L25: 6 | M25: =(K25+L25)/2 -> 5.5 | N25: 6 | O25: 7 | P25: =(N25+O25)/2 -> 6.5 | Q25: 7 | R25: 7 | S25: =(Q25+R25)/2 -> 7 | T25: 8 | U25: 8 | V25: =(T25+U25)/2 -> 8 | W25: 9 | X25: 9 | Y25: =(W25+X25)/2 -> 9 | Z25: 10 | AA25: 10 | AB25: =(Z25+AA25)/2 -> 10 | AC25: 11 | AD25: 11 | AE25: =(AC25+AD25)/2 -> 11 | AF25: 11 | AG25: 11 | AH25: =(AF25+AG25)/2 -> 11 | AI25: =AH25-G25 -> 5.3333333
C26: 2 | D26: 5 | E26: 5 | F26: 5 | G26: =(D26+E26+F26)/3 -> 5 | H26: 6 | I26: 5 | J26: =(H26+I26)/2 -> 5.5 | K26: 6 | L26: 5 | M26: =(K26+L26)/2 -> 5.5 | N26: 7 | O26: 6 | P26: =(N26+O26)/2 -> 6.5 | Q26: 8 | R26: 6 | S26: =(Q26+R26)/2 -> 7 | T26: 9 | U26: 7 | V26: =(T26+U26)/2 -> 8 | W26: 10 | X26: 8 | Y26: =(W26+X26)/2 -> 9 | Z26: 10 | AA26: 8 | AB26: =(Z26+AA26)/2 -> 9 | AC26: 10 | AD26: 10 | AE26: =(AC26+AD26)/2 -> 10 | AF26: 10 | AG26: 10 | AH26: =(AF26+AG26)/2 -> 10 | AI26: =AH26-G26 -> 5
C27: 3 | D27: 5 | E27: 5 | F27: 5 | G27: =(D27+E27+F27)/3 -> 5 | H27: 5 | I27: 7 | J27: =(H27+I27)/2 -> 6 | K27: 6 | L27: 7 | M27: =(K27+L27)/2 -> 6.5 | N27: 7 | O27: 8 | P27: =(N27+O27)/2 -> 7.5 | Q27: 6 | R27: 8 | S27: =(Q27+R27)/2 -> 7 | T27: 7 | U27: 9 | V27: =(T27+U27)/2 -> 8 | W27: 8 | X27: 10 | Y27: =(W27+X27)/2 -> 9 | Z27: 9 | AA27: 12 | AB27: =(Z27+AA27)/2 -> 10.5 | AC27: 10 | AD27: 12 | AE27: =(AC27+AD27)/2 -> 11 | AF27: 10 | AG27: 12 | AH27: =(AF27+AG27)/2 -> 11 | AI27: =AH27-G27 -> 6
A28: 9 | B28: K2T2 | C28: 1 | D28: 6 | E28: 5 | F28: 6 | G28: =(D28+E28+F28)/3 -> 5.6666667 | H28: 6 | I28: 6 | J28: =(H28+I28)/2 -> 6 | K28: 6 | L28: 7 | M28: =(K28+L28)/2 -> 6.5 | N28: 6 | O28: 8 | P28: =(N28+O28)/2 -> 7 | Q28: 7 | R28: 8 | S28: =(Q28+R28)/2 -> 7.5 | T28: 7 | U28: 9 | V28: =(T28+U28)/2 -> 8 | W28: 8 | X28: 8 | Y28: =(W28+X28)/2 -> 8 | Z28: 8 | AA28: 10 | AB28: =(Z28+AA28)/2 -> 9 | AC28: 7 | AD28: 12 | AE28: =(AC28+AD28)/2 -> 9.5 | AF28: 7 | AG28: 12 | AH28: =(AF28+AG28)/2 -> 9.5 | AI28: =AH28-G28 -> 3.8333333
C29: 2 | D29: 5 | E29: 5 | F29: 5 | G29: =(D29+E29+F29)/3 -> 5 | H29: 6 | I29: 6 | J29: =(H29+I29)/2 -> 6 | K29: 7 | L29: 7 | M29: =(K29+L29)/2 -> 7 | N29: 6 | O29: 8 | P29: =(N29+O29)/2 -> 7 | Q29: 6 | R29: 8 | S29: =(Q29+R29)/2 -> 7 | T29: 7 | U29: 8 | V29: =(T29+U29)/2 -> 7.5 | W29: 8 | X29: 9 | Y29: =(W29+X29)/2 -> 8.5 | Z29: 8 | AA29: 9 | AB29: =(Z29+AA29)/2 -> 8.5 | AC29: 10 | AD29: 10 | AE29: =(AC29+AD29)/2 -> 10 | AF29: 10 | AG29: 10 | AH29: =(AF29+AG29)/2 -> 10 | AI29: =AH29-G29 -> 5
C30: 3 | D30: 5 | E30: 5 | F30: 5 | G30: =(D30+E30+F30)/3 -> 5 | H30: 5 | I30: 6 | J30: =(H30+I30)/2 -> 5.5 | K30: 6 | L30: 7 | M30: =(K30+L30)/2 -> 6.5 | N30: 7 | O30: 8 | P30: =(N30+O30)/2 -> 7.5 | Q30: 6 | R30: 8 | S30: =(Q30+R30)/2 -> 7 | T30: 7 | U30: 9 | V30: =(T30+U30)/2 -> 8 | W30: 7 | X30: 10 | Y30: =(W30+X30)/2 -> 8.5 | Z30: 8 | AA30: 11 | AB30: =(Z30+AA30)/2 -> 9.5 | AC30: 7 | AD30: 12 | AE30: =(AC30+AD30)/2 -> 9.5 | AF30: 7 | AG30: 12 | AH30: =(AF30+AG30)/2 -> 9.5 | AI30: =AH30-G30 -> 4.5

Sheet Sheet6
B1: Hari/Tanggal | C1: : | D1: Senin, 2 Desember 2025
B2: Suhu | C2: : | D2: 32
B3: Pengamatan ke | C3: : | D3: 6
A5: No. | B5: Kode Tanaman | C5: Ulangan | D5: Tinggi Tanaman (cm) | G5: Jumlah daun | J5: ph Tanah | P5: Keparahan penyakit | S5: Catatan
D6: Tanaman ke- | G6: Tanaman ke- | J6: Tanaman ke- | P6: Tanaman ke-
D7: 1 | E7: 2 | F7: 3 | G7: 1 | H7: 2 | I7: 3 | J7: 1 (atas) | K7: 1 (bawah) | L7: 2 (atas) | M7: 2 (bawah) | N7: 3 (atas) | O7: 3 (bawah) | P7: 1 | Q7: 2 | R7: 3
A8: 1 | B8: K0T0 | C8: 1 | E8: 4 | F8: 4.5 | H8: 5 (2) | I8: 5 (1) | L8: 9.0 | M8: HH | N8: 9.0 | O8: HH
C9: 2 | E9: 7 | F9: 6 | H9: 6 (1) | I9: 8 (1) | L9: 8.5 | M9: HH | N9: HH | O9: HH
C10: 3 | E10: 8 | F10: 7.5 | H10: 7 (2) | I10: 8 | L10: 8.5 | M10: HH | N10: 9.0 | O10: HH
A11: 2 | B11: K0T1 | C11: 1 | E11: 5.5 | F11: 7.5 | H11: 7 | I11: 6 (1) | L11: HH | M11: HH | N11: 9.0 | O11: HH
C12: 2 | E12: 10 | F12: 5 | H12: 8 | I12: 5 (2) | L12: 8.0 | M12: HH | N12: 9.0 | O12: HH
C13: 3 | E13: 4.5 | F13: 6 | H13: 8 (1) | I13: 6 (1) | L13: 8.0 | M13: HH | N13: HH | O13: HH
A14: 3 | B14: K0T2 | C14: 1 | E14: 4.5 | F14: 5.5 | H14: 6 (1) | I14: 8 | L14: 7.5 | M14: HH | N14: 9.0 | O14: HH
C15: 2 | E15: 4.5 | F15: 8.5 | H15: 7 (1) | I15: 6 (2) | L15: 8.5 | M15: HH | N15: 8.5 | O15: HH | R15: 1 ULAT
C16: 3 | E16: 4.5 | F16: 11 | H16: 5 (3) | I16: 6 (2) | L16: HH | M16: HH | N16: 9.0 | O16: HH | Q16: 2 MATI
A17: 4 | B17: K1T0 | C17: 1 | E17: 3.5 | F17: 5 | H17: 8 (1) | I17: 7 (1) | L17: 6.5 | M17: 6.5 | N17: 6.5 | O17: 7.0
C18: 2 | E18: 5 | F18: 5 | H18: 10 | I18: 10 (2) | L18: 6.0 | M18: 6.5 | N18: 6.5 | O18: 7.0 | R18: BUNGA
C19: 3 | E19: 6 | F19: 6 | H19: 8 | I19: 9 | L19: 6.5 | M19: 7.0 | N19: 6.0 | O19: 6.5
A20: 5 | B20: K1T1 | C20: 1 | E20: 5.5 | F20: 5.5 | H20: 8 | I20: 7 (1) | L20: 5.5 | M20: 6.0 | N20: 5.5 | O20: 6.0
C21: 2 | E21: 5 | F21: 9.5 | H21: 8 | I21: 6 (2) | L21: 5.5 | M21: 6.5 | N21: 5.5 | O21: 6.0
C22: 3 | E22: 5 | F22: 7 | H22: 7 | I22: 8 | L22: 5.0 | M22: 6.5 | N22: 5.5 | O22: 6.0
A23: 6 | B23: K1T2 | C23: 1 | E23: 6 | F23: 7.5 | H23: 7 (2) | I23: 5 (2) | L23: 5.0 | M23: 6.5 | N23: 5.0 | O23: 6.5
C24: 2 | E24: 7 | F24: 5.5 | H24: 8 (1) | I24: 7 (1) | L24: 5.0 | M24: 6.0 | N24: 5.0 | O24: 6.0
C25: 3 | E25: 3.5 | F25: 4 | H25: 9 | I25: 9 | L25: 5.0 | M25: 6.0 | N25: 5.0 | O25: 5.5
A26: 7 | B26: K2T0 | C26: 1 | E26: 5 | F26: 6.5 | H26: 7 | I26: 7 (1) | L26: 5.5 | M26: 6.0 | N26: 5.0 | O26: 5.5
C27: 2 | E27: 4.5 | F27: 4 | H27: 9 | I27: 9 (1) | L27: 5.0 | M27: 5.5 | N27: 5.0 | O27: 5.5
C28: 3 | E28: 4 | F28: 5.5 | H28: 11 | I28: 8 | L28: 5.0 | M28: 5.5 | N28: 5.5 | O28: 6.0
A29: 8 | B29: K2T1 | C29: 1 | E29: 3.5 | F29: 7 | H29: 8 | I29: 8 | L29: 5.0 | M29: 6.0 | N29: 5.5 | O29: 6.0
C30: 2 | E30: 7.5 | F30: 4.5 | H30: 9 | I30: 7 | L30: 5.0 | M30: 5.5 | N30: 4.5 | O30: 5.0
C31: 3 | E31: 4.5 | F31: 9 | H31: 7 (1) | I31: 9 | L31: 5.0 | M31: 5.5 | N31: 5.0 | O31: 5.5
A32: 9 | B32: K2T2 | C32: 1 | E32: 6.5 | F32: 7.5 | H32: 7 | I32: 9 (1) | L32: 4.5 | M32: 5.0 | N32: 4.5 | O32: 5.0
C33: 2 | E33: 6 | F33: 5.5 | H33: 7 (1) | I33: 8 | L33: 5.0 | M33: 5.5 | N33: 5.0 | O33: 5.5
C34: 3 | E34: 5.5 | F34: 5 | H34: 7 (1) | I34: 9 | L34: 4.5 | M34: 5.0 | N34: 5.5 | O34: 6.0

Sheet Sheet7
B1: Hari/Tanggal | C1: : | D1: Rabu, 4 Desember 2025
B2: Suhu | C2: :
B3: Pengamatan ke | C3: : | D3: 7
A5: No. | B5: Kode Tanaman | C5: Ulangan | D5: Tinggi Tanaman (cm) | G5: Jumlah daun | J5: ph Tanah | P5: Keparahan penyakit | S5: Catatan
D6: Tanaman ke- | G6: Tanaman ke- | J6: Tanaman ke- | P6: Tanaman ke-
D7: 1 | E7: 2 | F7: 3 | G7: 1 | H7: 2 | I7: 3 | J7: 1 (atas) | K7: 1 (bawah) | L7: 2 (atas) | M7: 2 (bawah) | N7: 3 (atas) | O7: 3 (bawah) | P7: 1 | Q7: 2 | R7: 3
A8: 1 | B8: K0T0 | C8: 1 | E8: 4 | F8: 4.5 | H8: 5 (2) | I8: 5 (2) | L8: 9.0 | M8: HH | N8: 9.0 | O8: HH
C9: 2 | E9: 7 | F9: 6 | H9: 6 (2) | I9: 7 (2) | L9: 8.5 | M9: 9.0 | N9: 9.0 | O9: HH
C10: 3 | E10: 8 | F10: 7.5 | H10: 7 (2) | I10: 8 (1) | L10: 8.5 | M10: 9.0 | N10: 9.0 | O10: HH
A11: 2 | B11: K0T1 | C11: 1 | E11: 5.5 | F11: 7.5 | H11: 8 | I11: 6 (2) | L11: 7.5 | M11: 9.0 | N11: 7.0 | O11: 9.0
C12: 2 | E12: 10 | F12: 5 | H12: 7 (1) | I12: 6 (2) | L12: 8.0 | M12: 9.0 | N12: 8.0 | O12: 9.0
C13: 3 | E13: 4.5 | F13: 6 | H13: 8 (2) | I13: 6 (2) | L13: 8.0 | M13: 9.0 | N13: 7.5 | O13: 8.0
A14: 3 | B14: K0T2 | C14: 1 | E14: 4.5 | F14: 5.5 | H14: 5 (2) | I14: 9 (1) | L14: 6.0 | M14: 8.0 | N14: 5.0 | O14: 8.0
C15: 2 | E15: 4.5 | F15: 8.5 | H15: 8 (1) | I15: 6 (3) | L15: 7.5 | M15: 9.0 | N15: 7.5 | O15: 8.5 | R15: 1 ULAT
C16: 3 | E16: 4.5 | F16: 11 | H16: 5 (3) | I16: 6 (3) | L16: 8.0 | M16: 9.0 | N16: 7.0 | O16: 8.5 | Q16: 2 MATI
A17: 4 | B17: K1T0 | C17: 1 | E17: 3.5 | F17: 5 | H17: 9 (1) | I17: 8 (1) | L17: 6.0 | M17: 6.5 | N17: 6.0 | O17: 6.5
C18: 2 | E18: 5 | F18: 5.5 | H18: 10 (1) | I18: 9 (3) | L18: 6.0 | M18: 6.5 | N18: 5.0 | O18: 6.5 | R18: BUNGA
C19: 3 | E19: 6 | F19: 6 | H19: 9 (1) | I19: 8 (1) | L19: 6.0 | M19: 6.5 | N19: 6.0 | O19: 6.5
A20: 5 | B20: K1T1 | C20: 1 | E20: 5.5 | F20: 5.5 | H20: 9 | I20: 7 (2) | L20: 5.5 | M20: 6.0 | N20: 5.5 | O20: 6.0 | R20: ULAT
C21: 2 | E21: 5 | F21: 9.5 | H21: 8 (1) | I21: 6 (2) | L21: 5.5 | M21: 6.0 | N21: 5.5 | O21: 6.0
C22: 3 | E22: 5 | F22: 7 | H22: 9 | I22: 9 | L22: 5.0 | M22: 6.5 | N22: 5.5 | O22: 6.0
A23: 6 | B23: K1T2 | C23: 1 | E23: 6 | F23: 7.5 | H23: 7 (2) | I23: 6 (2) | L23: 5.0 | M23: 6.5 | N23: 5.0 | O23: 6.5
C24: 2 | E24: 7 | F24: 5.5 | H24: 9 (1) | I24: 8 (1) | L24: 5.0 | M24: 6.5 | N24: 5.0 | O24: 6.0
C25: 3 | E25: 3.5 | F25: 4 | H25: 9 | I25: 10 | L25: 5.0 | M25: 6.5 | N25: 5.0 | O25: 5.5
A26: 7 | B26: K2T0 | C26: 1 | E26: 5 | F26: 7 | H26: 8 | I26: 8 (1) | L26: 5.5 | M26: 6.0 | N26: 5.0 | O26: 6.0
C27: 2 | E27: 4.5 | F27: 4 | H27: 9 | I27: 10 (1) | L27: 5.0 | M27: 5.5 | N27: 5.0 | O27: 5.5
C28: 3 | E28: 4 | F28: 5.5 | H28: 11 | I28: 9 (1) | L28: 5.0 | M28: 5.5 | N28: 5.5 | O28: 6.0
A29: 8 | B29: K2T1 | C29: 1 | E29: 3.5 | F29: 7 | H29: 9 | I29: 9 | L29: 5.0 | M29: 6.0 | N29: 5.5 | O29: 6.0
C30: 2 | E30: 7.5 | F30: 4.5 | H30: 10 | I30: 8 | L30: 5.0 | M30: 5.5 | N30: 4.5 | O30: 5.0
C31: 3 | E31: 4.5 | F31: 9.5 | H31: 8 (1) | I31: 10 | L31: 5.0 | M31: 5.5 | N31: 5.0 | O31: 5.5
A32: 9 | B32: K2T2 | C32: 1 | E32: 6.5 | F32: 7.5 | H32: 8 | I32: 8 (2) | L32: 4.5 | M32: 5.0 | N32: 4.5 | O32: 5.0
C33: 2 | E33: 6 | F33: 5.5 | H33: 8 (1) | I33: 9 | L33: 5.0 | M33: 5.5 | N33: 5.0 | O33: 5.5
C34: 3 | E34: 5.5 | F34: 5 | H34: 7 (1) | I34: 10 | L34: 4.5 | M34: 5.0 | N34: 5.5 | O34: 6.0

Sheet Sheet8
B1: Hari/Tanggal | C1: : | D1: Jumat, 6 Desember 2025
B2: Suhu | C2: :
B3: Pengamatan ke | C3: : | D3: 8
A5: No. | B5: Kode Tanaman | C5: Ulangan | D5: Tinggi Tanaman (cm) | G5: Jumlah daun | J5: ph Tanah | P5: Keparahan penyakit | S5: Catatan
D6: Tanaman ke- | G6: Tanaman ke- | J6: Tanaman ke- | P6: Tanaman ke-
D7: 1 | E7: 2 | F7: 3 | G7: 1 | H7: 2 | I7: 3 | J7: 1 (atas) | K7: 1 (bawah) | L7: 2 (atas) | M7: 2 (bawah) | N7: 3 (atas) | O7: 3 (bawah) | P7: 1 | Q7: 2 | R7: 3
A8: 1 | B8: K0T0 | C8: 1 | E8: 4.5 | F8: 4.5 | H8: 5 (3) | I8: 5 (2) | L8: 8.5 | M8: 9.0 | N8: 8.5 | O8: 9.0
C9: 2 | E9: 7.5 | F9: 6 | H9: 6 (2) | I9: 8 (2) | L9: 8.5 | M9: 9.0 | N9: 8.0 | O9: 9.0
C10: 3 | E10: 8.5 | F10: 7.5 | H10: 8 (2) | I10: 9 (1) | L10: 7.5 | M10: 9.0 | N10: 8.5 | O10: 9.0 | R10: BUNGA
A11: 2 | B11: K0T1 | C11: 1 | E11: 5.5 | F11: 7.5 | H11: 7 (1) | I11: 6 (3) | L11: 7.5 | M11: 9.0 | N11: 7.0 | O11: 9.0
C12: 2 | E12: 10 | F12: 5 | H12: 7 (1) | I12: 6 (2) | L12: 8.0 | M12: 9.0 | N12: 8.0 | O12: 9.0
C13: 3 | E13: 4.5 | F13: 6 | H13: 8 (2) | I13: 6 (2) | L13: 7.5 | M13: 9.0 | N13: 7.5 | O13: 8.0
A14: 3 | B14: K0T2 | C14: 1 | E14: 4.5 | F14: 5.5 | H14: 5 (2) | I14: 8 (2) | L14: 6.0 | M14: 8.0 | N14: 5.0 | O14: 8.0
C15: 2 | E15: 4.5 | F15: 8.5 | H15: 7 (2) | I15: 5 (4) | L15: 5.0 | M15: 9.0 | N15: 5.5 | O15: 8.5 | R15: 1 ULAT
C16: 3 | E16: 4.5 | F16: 11 | H16: 4 (4) | I16: 7 (3) | L16: 5.0 | M16: 9.0 | N16: 5.0 | O16: 8.5 | Q16: 2 MATI
A17: 4 | B17: K1T0 | C17: 1 | E17: 3.5 | F17: 5 | H17: 10 (1) | I17: 9 (1) | L17: 5.0 | M17: 6.5 | N17: 5.0 | O17: 6.5
C18: 2 | E18: 5 | F18: 5.5 | H18: 9 (2) | I18: 17 (4) | L18: 5.0 | M18: 6.5 | N18: 5.0 | O18: 6.5 | R18: BUNGA
C19: 3 | E19: 6 | F19: 6 | H19: 8 (2) | I19: 8 (1) | L19: 5.0 | M19: 6.5 | N19: 5.0 | O19: 6.5
A20: 5 | B20: K1T1 | C20: 1 | E20: 5.5 | F20: 5.5 | H20: 8 (1) | I20: 6 (3) | L20: 5.0 | M20: 6.0 | N20: 5.0 | O20: 6.0 | R20: ULAT
C21: 2 | E21: 5 | F21: 9.5 | H21: 9 (1) | I21: 6 (2) | L21: 5.0 | M21: 6.0 | N21: 5.0 | O21: 6.0
C22: 3 | E22: 5 | F22: 7 | H22: 8 (1) | I22: 10 | L22: 5.0 | M22: 6.5 | N22: 5.5 | O22: 6.0
A23: 6 | B23: K1T2 | C23: 1 | E23: 6 | F23: 7.5 | H23: 8 (2) | I23: 6 (2) | L23: 5.0 | M23: 6.5 | N23: 5.0 | O23: 6.5
C24: 2 | E24: 7 | F24: 5.5 | H24: 10 (1) | I24: 9 (1) | L24: 5.0 | M24: 6.5 | N24: 5.0 | O24: 6.0
C25: 3 | E25: 3.5 | F25: 4 | H25: 10 | I25: 10 (1) | L25: 5.0 | M25: 6.5 | N25: 5.0 | O25: 5.5
A26: 7 | B26: K2T0 | C26: 1 | E26: 5 | F26: 7 | H26: 8 | I26: 8 (2) | L26: 5.5 | M26: 6.0 | N26: 5.0 | O26: 6.0
C27: 2 | E27: 4.5 | F27: 4 | H27: 9 (1) | I27: 11 (2) | L27: 5.0 | M27: 5.5 | N27: 5.0 | O27: 5.5
C28: 3 | E28: 4 | F28: 5.5 | H28: 11 | I28: 9 (2) | L28: 5.0 | M28: 5.5 | N28: 5.0 | O28: 6.0
A29: 8 | B29: K2T1 | C29: 1 | E29: 3.5 | F29: 7 | H29: 10 | I29: 10 | L29: 5.0 | M29: 6.0 | N29: 5.5 | O29: 6.0
C30: 2 | E30: 7.5 | F30: 4.5 | H30: 10 (1) | I30: 8 | L30: 5.0 | M30: 5.5 | N30: 4.5 | O30: 5.0
C31: 3 | E31: 4.5 | F31: 9.5 | H31: 9 (1) | I31: 12 | L31: 5.0 | M31: 5.5 | N31: 5.0 | O31: 5.5
A32: 9 | B32: K2T2 | C32: 1 | E32: 6.5 | F32: 7.5 | H32: 8 (1) | I32: 10 (2) | L32: 4.5 | M32: 5.0 | N32: 4.5 | O32: 5.0
C33: 2 | E33: 6 | F33: 5.5 | H33: 8 (2) | I33: 9 (2) | L33: 5.0 | M33: 5.5 | N33: 5.0 | O33: 5.5
C34: 3 | E34: 5.5 | F34: 5 | H34: 8 (1) | I34: 11 (1) | L34: 4.5 | M34: 5.0 | N34: 5.5 | O34: 6.0

Sheet Sheet9
B1: Hari/Tanggal | C1: : | D1: Minggu, 8 Desember 2025
B2: Suhu | C2: :
B3: Pengamatan ke | C3: : | D3: 9
A5: No. | B5: Kode Tanaman | C5: Ulangan | D5: Tinggi Tanaman (cm) | G5: Jumlah daun | J5: ph Tanah | P5: Keparahan penyakit | S5: Catatan
D6: Tanaman ke- | G6: Tanaman ke- | J6: Tanaman ke- | P6: Tanaman ke-
D7: 1 | E7: 2 | F7: 3 | G7: 1 | H7: 2 | I7: 3 | J7: 1 (atas) | K7: 1 (bawah) | L7: 2 (atas) | M7: 2 (bawah) | N7: 3 (atas) | O7: 3 (bawah) | P7: 1 | Q7: 2 | R7: 3
A8: 1 | B8: K0T0 | C8: 1 | E8: 4.5 | F8: 4.5 | H8: 7 (3) | I8: 5 (2) | L8: 8.5 | M8: 9.0 | N8: 8.5 | O8: 9.0
C9: 2 | E9: 8 | F9: 6 | H9: 6 (2) | I9: 8 (2) | L9: 7.5 | M9: 9.0 | N9: 8.0 | O9: 9.0
C10: 3 | E10: 8.5 | F10: 7.5 | H10: 9 (2) | I10: 11 (2) | L10: 7.5 | M10: 9.0 | N10: 8.5 | O10: 9.0 | R10: BUNGA
A11: 2 | B11: K0T1 | C11: 1 | E11: 5.5 | F11: 7.5 | H11: 6 (2) | I11: 6 (3) | L11: 7.5 | M11: 9.0 | N11: 7.0 | O11: 9.0
C12: 2 | E12: 10 | F12: 5 | H12: 6 (2) | I12: 6 (3) | L12: 8.0 | M12: 9.0 | N12: 8.0 | O12: 9.0
C13: 3 | E13: 4.5 | F13: 6 | H13: 7 (3) | I13: 6 (2) | L13: 7.5 | M13: 9.0 | N13: 7.5 | O13: 8.0
A14: 3 | B14: K0T2 | C14: 1 | E14: 4.5 | F14: 5.5 | H14: 5 (3) | I14: 6 (4) | L14: 6.0 | M14: 8.0 | N14: 5.0 | O14: 8.0
C15: 2 | E15: 4.5 | F15: 8.5 | H15: 8 (8) | I15: 4 (5) | L15: 5.0 | M15: 9.0 | N15: 5.5 | O15: 8.5 | R15: 1 ULAT
C16: 3 | E16: 4.5 | F16: 11 | H16: 4 (5) | I16: 6 (4) | L16: 5.0 | M16: 9.0 | N16: 5.0 | O16: 8.5
A17: 4 | B17: K1T0 | C17: 1 | E17: 3.5 | F17: 5 | H17: 9 (2) | I17: 10 (2) | L17: 5.0 | M17: 6.5 | N17: 5.0 | O17: 6.5
C18: 2 | E18: 5 | F18: 5.5 | H18: 10 (2) | I18: 19 (5) | L18: 5.0 | M18: 6.5 | N18: 5.0 | O18: 6.5 | R18: BUNGA
C19: 3 | E19: 6 | F19: 6 | H19: 7 (3) | I19: 8 (2) | L19: 5.0 | M19: 6.5 | N19: 5.0 | O19: 6.5
A20: 5 | B20: K1T1 | C20: 1 | E20: 5.5 | F20: 5.5 | H20: 8 (2) | I20: 6 (3) | L20: 5.0 | M20: 6.0 | N20: 5.0 | O20: 6.0 | R20: ULAT
C21: 2 | E21: 5 | F21: 9.5 | H21: 9 (2) | I21: 8 (2) | L21: 5.0 | M21: 6.0 | N21: 5.0 | O21: 6.0
C22: 3 | E22: 5 | F22: 7 | H22: 8 (3) | I22: 11 | L22: 5.0 | M22: 6.5 | N22: 5.5 | O22: 6.0
A23: 6 | B23: K1T2 | C23: 1 | E23: 6 | F23: 7.5 | H23: 9 (2) | I23: 7 (3) | L23: 5.0 | M23: 6.5 | N23: 5.0 | O23: 6.5
C24: 2 | E24: 7 | F24: 5.5 | H24: 10 (2) | I24: 9 (2) | L24: 5.0 | M24: 6.5 | N24: 5.0 | O24: 6.0
C25: 3 | E25: 3.5 | F25: 4 | H25: 8 (2) | I25: 11 (2) | L25: 5.0 | M25: 6.5 | N25: 5.0 | O25: 5.5
A26: 7 | B26: K2T0 | C26: 1 | E26: 5 | F26: 7 | H26: 10 (1) | I26: 9 (2) | L26: 5.5 | M26: 6.0 | N26: 5.0 | O26: 6.0
C27: 2 | E27: 4.5 | F27: 4 | H27: 10 (1) | I27: 14 (2) | L27: 5.0 | M27: 5.5 | N27: 5.0 | O27: 5.5
C28: 3 | E28: 4 | F28: 5.5 | H28: 11 (1) | I28: 9 (3) | L28: 5.0 | M28: 5.5 | N28: 5.0 | O28: 6.0
A29: 8 | B29: K2T1 | C29: 1 | E29: 3.5 | F29: 7 | H29: 11 | I29: 11 (1) | L29: 5.0 | M29: 6.0 | N29: 5.5 | O29: 6.0
C30: 2 | E30: 7.5 | F30: 4.5 | H30: 10 (1) | I30: 10 | L30: 5.0 | M30: 5.5 | N30: 4.5 | O30: 5.0
C31: 3 | E31: 4.5 | F31: 9.5 | H31: 10 (1) | I31: 12 | L31: 5.0 | M31: 5.5 | N31: 5.0 | O31: 5.5
A32: 9 | B32: K2T2 | C32: 1 | E32: 6.5 | F32: 7.5 | H32: 7 (2) | I32: 12 (3) | L32: 4.5 | M32: 5.0 | N32: 4.5 | O32: 5.0
C33: 2 | E33: 6 | F33: 5.5 | H33: 10 (2) | I33: 10 (2) | L33: 5.0 | M33: 5.5 | N33: 5.0 | O33: 5.5
C34: 3 | E34: 5.5 | F34: 5 | H34: 7 (2) | I34: 12 (1) | L34: 4.5 | M34: 5.0 | N34: 5.5 | O34: 6.0

Sheet 0-19
A1: No. | B1: Kode Tanaman | C1: Ulangan | D1: ph (hari ke-0) | E1: ph (hari ke-19) | F1: TPC (hari ke-0) | R1: TPC (hari ke-19) | AD1: Al (hari ke-0) | AE1: Al (hari ke-19) | AF1: Al (hari ke-0) | AG1: Al (hari ke-19) | AH1: 0-awal | AI1: 19-awal | AJ1: 0-19 | AK1: AWAL | AL1: rata2 | AM1: rata2 | AN1: rata2 | AO1: rata2 tanaman | AP1: rata2 tanah 0 | AQ1: rata2 tanah 19
D2: Tanaman ke- | E2: Tanaman ke- | F2: Tanaman ke- | R2: Tanaman ke- | AD2: Tanaman | AE2: Tanaman | AF2: Tanah | AG2: Tanah
D3: 1 | E3: 1 | F3: 6 | H3: 7 | J3: 8 | R3: 6 | T3: 7 | V3: 8 | AD3: 1 | AE3: 1 | AF3: 1 | AG3: 1
A4: 1 | B4: K0T0 | C4: 1 | D4: 9.96 | E4: 8.79 | F4: 55 | G4: 42 | H4: 8 | I4: 4 | J4: 2 | K4: 1 | L4: 5,5 x 10^7 | M4: 4,2 x 10^7 | N4: 8 x 10^7 | O4: 4 x 10^7 | P4: 2 x 10^8 | Q4: 1 x 10^8 | R4: 3 | S4: 5 | T4: 79 | U4: 49 | V4: 3 | W4: 45 | X4: 3 x 10^6 | Y4: 5 x 10^6 | Z4: 7,9 x 10^8 | AA4: 4,9 x 10^8 | AB4: 3 x 10^8 | AC4: 4,5 x 10^9 | AD4: 0.035 | AE4: 0.487 | AF4: 0.08 | AG4: 0.068 | AH4: =AK4-D4 -> 0.24 | AI4: =AK4-E4 -> 1.41 | AJ4: =D4-E4 -> 1.17 | AK4: 10.2 | AL4: =AVERAGE(AH4,AH5,AH6) -> 0.42 | AM4: =AVERAGE(AI4,AI5,AI6) -> 1.2166667 | AN4: =AVERAGE(AJ4,AJ5,AJ6) -> 0.79666667 | AO4: =AVERAGE(AE4,AE5,AE6) -> 0.35033333 | AP4: =AVERAGE(AF4,AF5,AF6) -> 0.073666667 | AQ4: =AVERAGE(AG4,AG5,AG6) -> 0.097333333
C5: 2 | D5: 9.71 | E5: 9.09 | AE5: 0.29 | AF5: 0.06 | AG5: 0.085 | AH5: =AK5-D5 -> 0.49 | AI5: =AK5-E5 -> 1.11 | AJ5: =D5-E5 -> 0.62 | AK5: 10.2
C6: 3 | D6: 9.67 | E6: 9.07 | AE6: 0.274 | AF6: 0.081 | AG6: 0.139 | AH6: =AK6-D6 -> 0.53 | AI6: =AK6-E6 -> 1.13 | AJ6: =D6-E6 -> 0.6 | AK6: 10.2
A7: 2 | B7: K0T1 | C7: 1 | D7: 9.88 | E7: 8.94 | F7: 26 zb= 1 | G7: 32 | H7: 6 | I7: 4 | J7: 2 | K7: 1 | L7: 2,6 x 10^7 | M7: 3,2 x 10^7 | N7: 6 x 10^7 | O7: 4 x 10^7 | P7: 2 x 10^8 | Q7: 1 x 10^8 | R7: 2 | S7: 2 | T7: 15 | U7: 2 | V7: 2 | W7: 3 | X7: 2 x 10^6 | Y7: 2 x 10^6 | Z7: 1,5 x 10^8 | AA7: 2 x 10^7 | AB7: 2 x 10^8 | AC7: 3 x 10^8 | AD7: 0.139 | AE7: 0.421 | AF7: 0.078 | AG7: 0.103 | AH7: =AK7-D7 -> 0.32 | AI7: =AK7-E7 -> 1.26 | AJ7: =D7-E7 -> 0.94 | AK7: 10.2 | AL7: =AVERAGE(AH7,AH8,AH9) -> 0.70333333 | AM7: =AVERAGE(AI7,AI8,AI9) -> 1.36 | AN7: =AVERAGE(AJ7,AJ8,AJ9) -> 0.65666667 | AO7: =AVERAGE(AE7,AE8,AE9) -> 0.16766667 | AP7: =AVERAGE(AF7,AF8,AF9) -> 0.089666667 | AQ7: =AVERAGE(AG7,AG8,AG9) -> 0.085
C8: 2 | D8: 9.54 | E8: 8.82 | AE8: 0.013 | AF8: 0.112 | AG8: 0.052 | AH8: =AK8-D8 -> 0.66 | AI8: =AK8-E8 -> 1.38 | AJ8: =D8-E8 -> 0.72 | AK8: 10.2
C9: 3 | D9: 9.07 | E9: 8.76 | AE9: 0.069 | AF9: 0.079 | AG9: 0.1 | AH9: =AK9-D9 -> 1.13 | AI9: =AK9-E9 -> 1.44 | AJ9: =D9-E9 -> 0.31 | AK9: 10.2
A10: 3 | B10: K0T2 | C10: 1 | D10: 10.17 | E10: 8.64 | F10: 82 zb= 1 | G10: 71 | H10: 9 | I10: 4 | J10: 1 | K10: 2 | L10: 8,2 x 10^7 | M10: 7,1 x 10^7 | N10: 9 x 10^7 | O10: 4 x 10^7 | P10: 1 x 10^8 | Q10: 2 x 10^8 | R10: 22 | S10: 19 | T10: 7 | U10: 12 | V10: 3 | W10: 5 | X10: 2,2 x 10^7 | Y10: 1,9 x 10^7 | Z10: 7 x 10^7 | AA10: 1,2 x 10^8 | AB10: 3 x 10^8 | AC10: 5 x 10^8 | AD10: 0.428 | AE10: 0.158 | AF10: 0.111 | AG10: 0.11 | AH10: =AK10-D10 -> 0.03 | AI10: =AK10-E10 -> 1.56 | AJ10: =D10-E10 -> 1.53 | AK10: 10.2 | AL10: =AVERAGE(AH10,AH11,AH12) -> 0.33 | AM10: =AVERAGE(AI10,AI11,AI12) -> 1.4933333 | AN10: =AVERAGE(AJ10,AJ11,AJ12) -> 1.1633333 | AO10: =AVERAGE(AE10,AE11,AE12) -> 0.10433333 | AP10: =AVERAGE(AF10,AF11,AF12) -> 0.1 | AQ10: =AVERAGE(AG10,AG11,AG12) -> 0.11433333
C11: 2 | D11: 9.71 | E11: 8.85 | AE11: 0.104 | AF11: 0.121 | AG11: 0.13 | AH11: =AK11-D11 -> 0.49 | AI11: =AK11-E11 -> 1.35 | AJ11: =D11-E11 -> 0.86 | AK11: 10.2
C12: 3 | D12: 9.73 | E12: 8.63 | AE12: 0.051 | AF12: 0.068 | AG12: 0.103 | AH12: =AK12-D12 -> 0.47 | AI12: =AK12-E12 -> 1.57 | AJ12: =D12-E12 -> 1.1 | AK12: 10.2
A13: 4 | B13: K1T0 | C13: 1 | D13: 9.64 | E13: 8.73 | F13: 8 | G13: 8 | H13: 3 | I13: 2 | J13: 1 | K13: 1 | L13: 8 x 10^6 | M13: 8 x 10^6 | N13: 3 x 10^7 | O13: 2 x 10^7 | P13: 1 x 10^8 | Q13: 1 x 10^8 | R13: 175 | S13: 155 | T13: 26 | U13: 48 | V13: 17 | W13: 54 | X13: 1,75 x 10^8 | Y13: 1,55 x 10^8 | Z13: 2,6 x 10^8 | AA13: 4,8 x 10^8 | AB13: 1,7 x 10^9 | AC13: 5,4 x 10^9 | AD13: 0.534 | AE13: 0.293 | AF13: 0.09 | AG13: 0.127 | AH13: =AK13-D13 -> 0.56 | AI13: =AK13-E13 -> 1.47 | AJ13: =D13-E13 -> 0.91 | AK13: 10.2 | AL13: =AVERAGE(AH13,AH14,AH15) -> 0.57666667 | AM13: =AVERAGE(AI13,AI14,AI15) -> 1.45 | AN13: =AVERAGE(AJ13,AJ14,AJ15) -> 0.87333333 | AO13: =AVERAGE(AE13,AE14,AE15) -> 0.239 | AP13: =AVERAGE(AF13,AF14,AF15) -> 0.105 | AQ13: =AVERAGE(AG13,AG14,AG15) -> 0.089666667
C14: 2 | D14: 9.68 | E14: 8.63 | AE14: 0.22 | AF14: 0.113 | AG14: 0.077 | AH14: =AK14-D14 -> 0.52 | AI14: =AK14-E14 -> 1.57 | AJ14: =D14-E14 -> 1.05 | AK14: 10.2
C15: 3 | D15: 9.55 | E15: 8.89 | AE15: 0.204 | AF15: 0.112 | AG15: 0.065 | AH15: =AK15-D15 -> 0.65 | AI15: =AK15-E15 -> 1.31 | AJ15: =D15-E15 -> 0.66 | AK15: 10.2
A16: 5 | B16: K1T1 | C16: 1 | D16: 9.73 | E16: 8.63 | F16: 6 | G16: 7 | H16: 4 | I16: 3 | J16: 2 | K16: 2 | L16: 6 x 10^6 | M16: 7 x 10^6 | N16: 4 x 10^7 | O16: 3 x 10^7 | P16: 2 x 10^8 | Q16: 2 x 10^8 | R16: 189 | S16: 27 | T16: 35 | U16: 15 | V16: 6 | W16: 3 | X16: 1,89 x 10^8 | Y16: 2,7 x 10^7 | Z16: 3,5 x 10^8 | AA16: 1,5 x 10^8 | AB16: 6 x 10^8 | AC16: 3 x 10^8 | AD16: 0.655 | AE16: 0.17 | AF16: 0.104 | AG16: 0.098 | AH16: =AK16-D16 -> 0.47 | AI16: =AK16-E16 -> 1.57 | AJ16: =D16-E16 -> 1.1 | AK16: 10.2 | AL16: =AVERAGE(AH16,AH17,AH18) -> 0.63666667 | AM16: =AVERAGE(AI16,AI17,AI18) -> 1.5433333 | AN16: =AVERAGE(AJ16,AJ17,AJ18) -> 0.90666667 | AO16: =AVERAGE(AE16,AE17,AE18) -> 0.18166667 | AP16: =AVERAGE(AF16,AF17,AF18) -> 0.10533333 | AQ16: =AVERAGE(AG16,AG17,AG18) -> 0.101
C17: 2 | D17: 9.48 | E17: 8.67 | AE17: 0.165 | AF17: 0.116 | AG17: 0.11 | AH17: =AK17-D17 -> 0.72 | AI17: =AK17-E17 -> 1.53 | AJ17: =D17-E17 -> 0.81 | AK17: 10.2
C18: 3 | D18: 9.48 | E18: 8.67 | AE18: 0.21 | AF18: 0.096 | AG18: 0.095 | AH18: =AK18-D18 -> 0.72 | AI18: =AK18-E18 -> 1.53 | AJ18: =D18-E18 -> 0.81 | AK18: 10.2
A19: 6 | B19: K1T2 | C19: 1 | D19: 9.46 | E19: 8.72 | F19: 40 | G19: 33 | H19: 3 | I19: 2 | J19: 1 | K19: 1 | L19: 4 x 10^7 | M19: 3,3 x 10^7 | N19: 3 x 10^7 | O19: 2 x 10^7 | P19: 1 x 10^8 | Q19: 1 x 10^8 | R19: 83 | S19: 35 | T19: 18 | U19: 12 | V19: 5 | W19: 7 | X19: 8,3 x 10^7 | Y19: 3,5 x 10^7 | Z19: 1,8 x 10^8 | AA19: 1,2 x 10^8 | AB19: 5 x 10^8 | AC19: 7 x 10^8 | AD19: 0.719 | AE19: 0.164 | AF19: 0.101 | AG19: 0.082 | AH19: =AK19-D19 -> 0.74 | AI19: =AK19-E19 -> 1.48 | AJ19: =D19-E19 -> 0.74 | AK19: 10.2 | AL19: =AVERAGE(AH19,AH20,AH21) -> 0.73666667 | AM19: =AVERAGE(AI19,AI20,AI21) -> 1.5233333 | AN19: =AVERAGE(AJ19,AJ20,AJ21) -> 0.78666667 | AO19: =AVERAGE(AE19,AE20,AE21) -> 0.14633333 | AP19: =AVERAGE(AF19,AF20,AF21) -> 0.10933333 | AQ19: =AVERAGE(AG19,AG20,AG21) -> 0.095
C20: 2 | D20: 9.26 | E20: 8.54 | AE20: 0.115 | AF20: 0.119 | AG20: 0.127 | AH20: =AK20-D20 -> 0.94 | AI20: =AK20-E20 -> 1.66 | AJ20: =D20-E20 -> 0.72 | AK20: 10.2
C21: 3 | D21: 9.67 | E21: 8.77 | AE21: 0.16 | AF21: 0.108 | AG21: 0.076 | AH21: =AK21-D21 -> 0.53 | AI21: =AK21-E21 -> 1.43 | AJ21: =D21-E21 -> 0.9 | AK21: 10.2
A22: 7 | B22: K2T0 | C22: 1 | D22: 9.29 | E22: 8.36 | F22: 89 | G22: 84 | H22: 36 | I22: 50 zb= 2 | J22: 1 | K22: 3 | L22: 8,9 x 10^7 | M22: 8,4 x 10^7 | N22: 3,6 x 10^8 | O22: 5 x 10^8 | P22: 1 x 10^8 | Q22: 3 x 10^8 | R22: 137 | S22: 49 | T22: 122 | U22: 64 | V22: 4 | W22: 2 | X22: 1,37 x 10^8 | Y22: 4,9 x 10^7 | Z22: 1,22 x 10^9 | AA22: 6,4 x 10^8 | AB22: 4 x 10^8 | AC22: 2 x 10^8 | AD22: 0.397 | AE22: 0.116 | AF22: 0.057 | AG22: 0.084 | AH22: =AK22-D22 -> 0.91 | AI22: =AK22-E22 -> 1.84 | AJ22: =D22-E22 -> 0.93 | AK22: 10.2 | AL22: =AVERAGE(AH22,AH23,AH24) -> 0.80666667 | AM22: =AVERAGE(AI22,AI23,AI24) -> 1.6766667 | AN22: =AVERAGE(AJ22,AJ23,AJ24) -> 0.87 | AO22: =AVERAGE(AE22,AE23,AE24) -> 0.184 | AP22: =AVERAGE(AF22,AF23,AF24) -> 0.071 | AQ22: =AVERAGE(AG22,AG23,AG24) -> 0.10066667
C23: 2 | D23: 9.43 | E23: 8.69 | AE23: 0.166 | AF23: 0.054 | AG23: 0.09 | AH23: =AK23-D23 -> 0.77 | AI23: =AK23-E23 -> 1.51 | AJ23: =D23-E23 -> 0.74 | AK23: 10.2
C24: 3 | D24: 9.46 | E24: 8.52 | AE24: 0.27 | AF24: 0.102 | AG24: 0.128 | AH24: =AK24-D24 -> 0.74 | AI24: =AK24-E24 -> 1.68 | AJ24: =D24-E24 -> 0.94 | AK24: 10.2
A25: 8 | B25: K2T1 | C25: 1 | D25: 9.3 | E25: 8.7 | F25: 2 | G25: 2 | H25: 0 | I25: 0 | J25: 0 | K25: 0 | L25: 2 x 10^6 | M25: 2 x 10^6 | N25: 0 | O25: 0 | P25: =J25*$J$3 -> 0 | Q25: =K25*$J$3 -> 0 | R25: 35 | S25: 5 | T25: 0 | U25: 6 | V25: 0 | W25: 0 | X25: 3,5 x 10^7 | Y25: 5 x 10^6 | Z25: 0 | AA25: 6 x 10^7 | AB25: =V25*$V$3 -> 0 | AC25: 0 | AD25: 0.638 | AE25: 0.493 | AF25: 0.138 | AG25: 0.064 | AH25: =AK25-D25 -> 0.9 | AI25: =AK25-E25 -> 1.5 | AJ25: =D25-E25 -> 0.6 | AK25: 10.2 | AL25: =AVERAGE(AH25,AH26,AH27) -> 0.75 | AM25: =AVERAGE(AI25,AI26,AI27) -> 1.5233333 | AN25: =AVERAGE(AJ25,AJ26,AJ27) -> 0.77333333 | AO25: =AVERAGE(AE25,AE26,AE27) -> 0.56733333 | AP25: =AVERAGE(AF25,AF26,AF27) -> 0.10166667 | AQ25: =AVERAGE(AG25,AG26,AG27) -> 0.097666667
C26: 2 | D26: 9.66 | E26: 8.67 | AE26: 0.629 | AF26: 0.102 | AG26: 0.124 | AH26: =AK26-D26 -> 0.54 | AI26: =AK26-E26 -> 1.53 | AJ26: =D26-E26 -> 0.99 | AK26: 10.2
C27: 3 | D27: 9.39 | E27: 8.66 | AE27: 0.58 | AF27: 0.065 | AG27: 0.105 | AH27: =AK27-D27 -> 0.81 | AI27: =AK27-E27 -> 1.54 | AJ27: =D27-E27 -> 0.73 | AK27: 10.2
A28: 9 | B28: K2T2 | C28: 1 | D28: 9.29 | E28: 8.67 | F28: 169 | G28: ~ | H28: ~ | I28: ~ | J28: 0 | K28: 0 | L28: 1,69 x 10^8 | M28: =(G28*G27)/1 -> #VALUE! | N28: =(H28*H27)/1 -> #VALUE! | O28: =(I28*I27)/1 -> #VALUE! | P28: =J28*$J$3 -> 0 | Q28: =K28*$J$3 -> 0 | R28: 7 | S28: 11 | T28: 10 | U28: 5 | V28: ~ | W28: 1 | X28: 7 x 10^6 | Y28: 1,1 x 10^7 | Z28: 1 x 10^8 | AA28: 5 x 10^7 | AB28: =V28*$V$3 -> #VALUE! | AC28: 1 x 10^8 | AD28: 0.712 | AE28: 0.257 | AF28: 0.08 | AG28: 0.086 | AH28: =AK28-D28 -> 0.91 | AI28: =AK28-E28 -> 1.53 | AJ28: =D28-E28 -> 0.62 | AK28: 10.2 | AL28: =AVERAGE(AH28,AH29,AH30) -> 1.0366667 | AM28: =AVERAGE(AI28,AI29,AI30) -> 1.42 | AN28: =AVERAGE(AJ28,AJ29,AJ30) -> 0.38333333 | AO28: =AVERAGE(AE28,AE29,AE30) -> 0.351 | AP28: =AVERAGE(AF28,AF29,AF30) -> 0.064333333 | AQ28: =AVERAGE(AG28,AG29,AG30) -> 0.10633333
C29: 2 | D29: 8.96 | E29: 8.57 | AE29: 0.305 | AF29: 0.036 | AG29: 0.146 | AH29: =AK29-D29 -> 1.24 | AI29: =AK29-E29 -> 1.63 | AJ29: =D29-E29 -> 0.39 | AK29: 10.2
C30: 3 | D30: 9.24 | E30: 9.1 | AE30: 0.491 | AF30: 0.077 | AG30: 0.087 | AH30: =AK30-D30 -> 0.96 | AI30: =AK30-E30 -> 1.1 | AJ30: =D30-E30 -> 0.14 | AK30: 10.2

Sheet Sheet10
B1: Hari/Tanggal | C1: : | D1: Selasa, 10 Desember 2025 (PANEN)
B2: Suhu | C2: :
B3: Pengamatan ke | C3: : | D3: 10
A5: No. | B5: Kode Tanaman | C5: Ulangan | D5: Tinggi Tanaman (cm) | G5: Jumlah daun | J5: ph Tanah | P5: Keparahan penyakit | S5: Catatan
D6: Tanaman ke- | G6: Tanaman ke- | J6: Tanaman ke- | P6: Tanaman ke-
D7: 1 | E7: 2 | F7: 3 | G7: 1 | H7: 2 | I7: 3 | J7: 1 (atas) | K7: 1 (bawah) | L7: 2 (atas) | M7: 2 (bawah) | N7: 3 (atas) | O7: 3 (bawah) | P7: 1 | Q7: 2 | R7: 3
A8: 1 | B8: K0T0 | C8: 1 | E8: 4.5 | F8: 4.5 | H8: 6 (4) | I8: 5 (2) | L8: 8.5 | M8: 9.0 | N8: 8.5 | O8: 9.0
C9: 2 | E9: 8 | F9: 6 | H9: 5 (3) | I9: 8 (2) | L9: 7.5 | M9: 9.0 | N9: 8.0 | O9: 9.0
C10: 3 | E10: 8.5 | F10: 7.5 | H10: 8 (3) | I10: 11 (2) | L10: 7.5 | M10: 9.0 | N10: 8.5 | O10: 9.0 | R10: BUNGA
A11: 2 | B11: K0T1 | C11: 1 | E11: 5.5 | F11: 7.5 | H11: 6 (2) | I11: 5 (4) | L11: 7.5 | M11: 9.0 | N11: 7.0 | O11: 9.0
C12: 2 | E12: 10 | F12: 5 | H12: 6 (2) | I12: 6 (3) | L12: 8.0 | M12: 9.0 | N12: 8.0 | O12: 9.0
C13: 3 | E13: 4.5 | F13: 6 | H13: 7 (3) | I13: 6 (2) | L13: 7.5 | M13: 9.0 | N13: 7.5 | O13: 8.0
A14: 3 | B14: K0T2 | C14: 1 | E14: 4.5 | F14: 5.5 | H14: 5 (3) | I14: 6 (4) | L14: 6.0 | M14: 8.0 | N14: 5.0 | O14: 8.0
C15: 2 | E15: 4.5 | F15: 8.5 | H15: 7 (9) | I15: 3 (6) | L15: 5.0 | M15: 9.0 | N15: 5.5 | O15: 8.5 | R15: 1 ULAT
C16: 3 | E16: 4.5 | F16: 11 | H16: 3 (6) | I16: 5 (5) | L16: 5.0 | M16: 9.0 | N16: 5.0 | O16: 8.5
A17: 4 | B17: K1T0 | C17: 1 | E17: 3.5 | F17: 5 | H17: 9 (2) | I17: 10 (2) | L17: 5.0 | M17: 6.5 | N17: 5.0 | O17: 6.5
C18: 2 | E18: 5 | F18: 5.5 | H18: 10 (2) | I18: 19 (6) | L18: 5.0 | M18: 6.5 | N18: 5.0 | O18: 6.5 | R18: BUNGA
C19: 3 | E19: 6 | F19: 6 | H19: 7 (3) | I19: 8 (2) | L19: 5.0 | M19: 6.5 | N19: 5.0 | O19: 6.5
A20: 5 | B20: K1T1 | C20: 1 | E20: 5.5 | F20: 5.5 | H20: 8 (2) | I20: 6 (4) | L20: 5.0 | M20: 6.0 | N20: 5.0 | O20: 6.0 | R20: ULAT
C21: 2 | E21: 5 | F21: 9.5 | H21: 9 (2) | I21: 8 (2) | L21: 5.0 | M21: 6.0 | N21: 5.0 | O21: 6.0
C22: 3 | E22: 5 | F22: 7 | H22: 8 (3) | I22: 11 | L22: 5.0 | M22: 6.5 | N22: 5.5 | O22: 6.0
A23: 6 | B23: K1T2 | C23: 1 | E23: 6 | F23: 7.5 | H23: 9 (2) | I23: 7 (3) | L23: 5.0 | M23: 6.5 | N23: 5.0 | O23: 6.5
C24: 2 | E24: 7 | F24: 5.5 | H24: 10 (2) | I24: 9 (2) | L24: 5.0 | M24: 6.5 | N24: 5.0 | O24: 6.0
C25: 3 | E25: 3.5 | F25: 4 | H25: 8 (2) | I25: 11 (2) | L25: 5.0 | M25: 6.5 | N25: 5.0 | O25: 5.5
A26: 7 | B26: K2T0 | C26: 1 | E26: 5 | F26: 7 | H26: 10 (1) | I26: 9 (2) | L26: 5.5 | M26: 6.0 | N26: 5.0 | O26: 6.0
C27: 2 | E27: 4.5 | F27: 4 | H27: 10 (1) | I27: 14 (2) | L27: 5.0 | M27: 5.5 | N27: 5.0 | O27: 5.5
C28: 3 | E28: 4 | F28: 5.5 | H28: 11 (1) | I28: 9 (3) | L28: 5.0 | M28: 5.5 | N28: 5.0 | O28: 6.0
A29: 8 | B29: K2T1 | C29: 1 | E29: 3.5 | F29: 7 | H29: 11 | I29: 11 (1) | L29: 5.0 | M29: 6.0 | N29: 5.5 | O29: 6.0
C30: 2 | E30: 7.5 | F30: 4.5 | H30: 10 (1) | I30: 10 | L30: 5.0 | M30: 5.5 | N30: 4.5 | O30: 5.0
C31: 3 | E31: 4.5 | F31: 9.5 | H31: 10 (1) | I31: 12 | L31: 5.0 | M31: 5.5 | N31: 5.0 | O31: 5.5
A32: 9 | B32: K2T2 | C32: 1 | E32: 6.5 | F32: 7.5 | H32: 7 (2) | I32: 12 (3) | L32: 4.5 | M32: 5.0 | N32: 4.5 | O32: 5.0
C33: 2 | E33: 6 | F33: 5.5 | H33: 10 (2) | I33: 10 (2) | L33: 5.0 | M33: 5.5 | N33: 5.0 | O33: 5.5
C34: 3 | E34: 5.5 | F34: 5 | H34: 7 (2) | I34: 12 (1) | L34: 4.5 | M34: 5.0 | N34: 5.5 | O34: 6.0

Sheet tpc
A1: TPC (hari ke-0) | Y1: TPC (hari ke-19) | AW1: rata hari 0 | BC1: rata hari 19 | BI1: delta
A2: Tanaman ke- | Y2: Tanaman ke-
A3: 10^6 | C3: 10^7 | E3: 10^8 | G3: 6 | I3: 7 | K3: 8 | M3: 6 | O3: 7 | Q3: 8 | S3: 6 | U3: 7 | W3: 8 | Y3: 6 | AA3: 7 | AC3: 8 | AQ3: 6 | AS3: 7 | AU3: 8 | AW3: 6 | AY3: 7 | BA3: 8 | BC3: 6 | BE3: 7 | BG3: 8 | BI3: 6 | BK3: 7 | BM3: 8
A4: 55 | B4: 42 | C4: 8 | D4: 4 | E4: 2 | F4: 1 | G4: =(A4+B4)/2 -> 48.5 | H4: 4.85 x 10^7 | I4: 8 x 10^7 | J4: 4 x 10^7 | K4: 2 x 10^8 | L4: 1 x 10^8 | M4: =(A4+B4)/2 -> 48.5 | N4: =B4*10^6 -> 42000000 | O4: =C4*10^7 -> 80000000 | P4: =D4*10^7 -> 40000000 | Q4: =E4*10^8 -> 200000000 | R4: =(E4+F4)/2 -> 1.5 | S4: =LOG10(M4) -> 1.6857417 | T4: =LOG10(N4) -> 7.6232493 | U4: =LOG10(O4) -> 7.90309 | V4: =LOG10(P4) -> 7.60206 | W4: =LOG10(Q4) -> 8.30103 | X4: =LOG10(R4) -> 0.17609126 | Y4: 3 | Z4: 5 | AA4: 79 | AB4: 49 | AC4: 3 | AD4: 45 | AE4: =AC4 -> 3 | AF4: 5 | AG4: 7,9 x 10^8 | AH4: 4,9 x 10^8 | AI4: 3 x 10^8 | AJ4: 4,5 x 10^9 | AK4: =Y4*10^6 -> 3000000 | AL4: =Z4*10^6 -> 5000000 | AM4: =AA4*10^7 -> 790000000 | AN4: =AB4*10^7 -> 490000000 | AO4: =AC4*10^8 -> 300000000 | AP4: =AD4*10^8 -> 4500000000 | AQ4: =LOG10(AK4) -> 6.4771213 | AR4: =LOG10(AL4) -> 6.69897 | AS4: =LOG10(AM4) -> 8.8976271 | AT4: =LOG10(AN4) -> 8.6901961 | AU4: =LOG10(AO4) -> 8.4771213 | AV4: =LOG10(AP4) -> 9.6532125 | AW4: =(S4+T4)/2 -> 4.6544955 | AY4: =(U4+V4)/2 -> 7.752575 | BA4: =(W4+X4)/2 -> 4.2385606 | BC4: =(AQ4+AR4)/2 -> 6.5880456 | BE4: =(AS4+AT4)/2 -> 8.7939116 | BG4: =(AU4+AV4)/2 -> 9.0651669 | BI4: =BC4-AW4 -> 1.9335501 | BK4: =BE4-AY4 -> 1.0413366 | BM4: =BG4-BA4 -> 4.8266063
