Workbook

Sheet Sheet1
B1: Hari/Tanggal | C1: : | D1: Sabtu, 22 November 2025
B2: Suhu | C2: : | D2: 30
B3: Pengamatan ke | C3: : | D3: 1
A5: No. | B5: Kode Tanaman | C5: Ulangan | D5: Tinggi Tanaman (cm) | G5: Jumlah daun | J5: ph Tanah | P5: Keparahan penyakit | S5: Catatan
D6: Tanaman ke- | G6: Tanaman ke- | J6: Tanaman ke- | P6: Tanaman ke-
D7: 1 | E7: 2 | F7: 3 | G7: 1 | H7: 2 | I7: 3 | J7: 1 (atas) | K7: 1 (bawah) | L7: 2 (atas) | M7: 2 (bawah) | N7: 3 (atas) | O7: 3 (bawah) | P7: 1 | Q7: 2 | R7: 3
A8: 1 | B8: K0T0 | C8: 1 | D8: 7.5 | E8: 5 | F8: 6.5 | G8: 5 | H8: 5 | I8: 5 | J8: HH | K8: HH | L8: HH | M8: HH | N8: HH | O8: HH
C9: 2 | D9: 5.5 | E9: 4 | F9: 5 | G9: 5 | H9: 5 | I9: 5 | J9: HH | K9: HH | L9: HH | M9: HH | N9: HH | O9: HH
C10: 3 | D10: 4 | E10: 3.5 | F10: 4 | G10: 5 | H10: 6 | I10: 5 | J10: HH | K10: HH | L10: HH | M10: HH | N10: HH | O10: HH
A11: 2 | B11: K0T1 | C11: 1 | D11: 3 | E11: 4 | F11: 5 | G11: 5 | H11: 5 | I11: 5 | J11: 7.5 | K11: 9.0 | L11: 7.5 | M11: 9.0 | N11: 7.5 | O11: 9.0
C12: 2 | D12: 4 | E12: 3 | F12: 3 | G12: 5 | H12: 5 | I12: 6 | J12: 7.5 | K12: 9.0 | L12: 7.0 | M12: 9.0 | N12: 7.5 | O12: 9.0
C13: 3 | D13: 3 | E13: 4 | F13: 4 | G13: 6 | H13: 6 | I13: 5 | J13: 7.5 | K13: 9.0 | L13: 7.5 | M13: 9.0 | N13: 7.0 | O13: 9.0
A14: 3 | B14: K0T2 | C14: 1 | D14: 6 | E14: 4 | F14: 4 | G14: 5 | H14: 5 | I14: 5 | J14: 7.0 | K14: 9.0 | L14: 7.0 | M14: 9.0 | N14: 7.0 | O14: 9.0
C15: 2 | D15: 5 | E15: 5 | F15: 4 | G15: 5 | H15: 5 | I15: 5 | J15: 7.0 | K15: 9.0 | L15: 7.0 | M15: 9.0 | N15: 7.0 | O15: 9.0
C16: 3 | D16: 5.5 | E16: 4 | F16: 3 | G16: 5 | H16: 5 | I16: 5 | J16: 7.0 | K16: 9.0 | L16: 7.5 | M16: 9.0 | N16: 7.5 | O16: 9.0
A17: 4 | B17: K1T0 | C17: 1 | D17: 5 | E17: 4 | F17: 4.5 | G17: 5 | H17: 6 | I17: 5 | J17: 7.0 | K17: 9.0 | L17: 7.0 | M17: 9.0 | N17: 7.0 | O17: 9.0
C18: 2 | D18: 4 | E18: 3 | F18: 4 | G18: 5 | H18: 5 | I18: 5 | J18: 7.0 | K18: 9.0 | L18: 7.0 | M18: 9.0 | N18: 7.0 | O18: 9.0
C19: 3 | D19: 4.5 | E19: 4 | F19: 3 | G19: 6 | H19: 6 | I19: 6 | J19: 7.0 | K19: 9.0 | L19: 7.5 | M19: 9.0 | N19: 6.5 | O19: 9.0
A20: 5 | B20: K1T1 | C20: 1 | D20: 3 | E20: 4 | F20: 3 | G20: 5 | H20: 5 | I20: 5 | J20: 6.5 | K20: 8.5 | L20: 6.5 | M20: 8.5 | N20: 6.5 | O20: 8.5
C21: 2 | D21: 4 | E21: 4 | F21: 3.5 | G21: 5 | H21: 5 | I21: 5 | J21: 6.5 | K21: 8.5 | L21: 6.5 | M21: 8.5 | N21: 7.0 | O21: 8.5
C22: 3 | D22: 5 | E22: 3 | F22: 4 | G22: 6 | H22: 5 | I22: 5 | J22: 6.5 | K22: 8.5 | L22: 7.0 | M22: 8.5 | N22: 6.5 | O22: 8.5
A23: 6 | B23: K1T2 | C23: 1 | D23: 4 | E23: 3 | F23: 4 | G23: 5 | H23: 5 | I23: 5 | J23: 6.5 | K23: 8.5 | L23: 6.5 | M23: 8.5 | N23: 6.5 | O23: 8.5
C24: 2 | D24: 4 | E24: 4 | F24: 3 | G24: 5 | H24: 5 | I24: 5 | J24: 6.5 | K24: 8.5 | L24: 6.5 | M24: 8.5 | N24: 7.0 | O24: 8.5
C25: 3 | D25: 3 | E25: 4 | F25: 3.5 | G25: 6 | H25: 6 | I25: 5 | J25: 6.5 | K25: 8.5 | L25: 7.0 | M25: 8.5 | N25: 6.5 | O25: 8.5
A26: 7 | B26: K2T0 | C26: 1 | D26: 4 | E26: 4 | F26: 4 | G26: 5 | H26: 5 | I26: 6 | J26: 6.5 | K26: 8.5 | L26: 6.5 | M26: 8.5 | N26: 6.5 | O26: 8.5
C27: 2 | D27: 5 | E27: 4 | F27: 3.5 | G27: 5 | H27: 5 | I27: 5 | J27: 7.0 | K27: 8.5 | L27: 7.0 | M27: 8.5 | N27: 6.5 | O27: 8.5
C28: 3 | D28: 4 | E28: 3 | F28: 4 | G28: 5 | H28: 5 | I28: 5 | J28: 6.5 | K28: 8.5 | L28: 6.5 | M28: 8.5 | N28: 7.0 | O28: 8.5
A29: 8 | B29: K2T1 | C29: 1 | D29: 6.5 | E29: 5 | F29: 4 | G29: 6 | H29: 6 | I29: 5 | J29: 7.0 | K29: 8.5 | L29: 7.0 | M29: 8.5 | N29: 6.5 | O29: 8.5
C30: 2 | D30: 4 | E30: 3 | F30: 4.5 | G30: 5 | H30: 5 | I30: 5 | J30: 6.5 | K30: 8.5 | L30: 6.5 | M30: 8.5 | N30: 6.5 | O30: 8.5
C31: 3 | D31: 5 | E31: 4 | F31: 6 | G31: 5 | H31: 5 | I31: 5 | J31: 6.5 | K31: 8.5 | L31: 6.5 | M31: 8.5 | N31: 7.0 | O31: 8.5
A32: 9 | B32: K2T2 | C32: 1 | D32: 2 | E32: 4 | F32: 5 | G32: 6 | H32: 5 | I32: 6 | J32: 6.5 | K32: 8.5 | L32: 6.5 | M32: 8.5 | N32: 7.0 | O32: 8.5
C33: 2 | D33: 4 | E33: 3 | F33: 4 | G33: 5 | H33: 5 | I33: 5 | J33: 6.5 | K33: 8.5 | L33: 6.5 | M33: 8.5 | N33: 6.5 | O33: 8.5
C34: 3 | D34: 3 | E34: 3 | F34: 3 | G34: 5 | H34: 5 | I34: 5 | J34: 7.0 | K34: 8.5 | L34: 7.0 | M34: 8.5 | N34: 6.5 | O34: 8.5

Sheet Sheet2
B1: Hari/Tanggal | C1: : | D1: Senin, 24 November 2025
B2: Suhu | C2: : | D2: 28
B3: Pengamatan ke | C3: : | D3: 2
A5: No. | B5: Kode Tanaman | C5: Ulangan | D5: Tinggi Tanaman (cm) | G5: Jumlah daun | J5: ph Tanah | P5: Keparahan penyakit | S5: Catatan
D6: Tanaman ke- | G6: Tanaman ke- | J6: Tanaman ke- | P6: Tanaman ke-
D7: 1 | E7: 2 | F7: 3 | G7: 1 | H7: 2 | I7: 3 | J7: 1 (atas) | K7: 1 (bawah) | L7: 2 (atas) | M7: 2 (bawah) | N7: 3 (atas) | O7: 3 (bawah) | P7: 1 | Q7: 2 | R7: 3
A8: 1 | B8: K0T0 | C8: 1 | E8: 2.5 | F8: 3 | H8: 6 | I8: 5 | L8: HH | M8: HH | N8: HH | O8: HH
C9: 2 | E9: 5 | F9: 5 | H9: 6 | I9: 6 | L9: HH | M9: HH | N9: HH | O9: HH
C10: 3 | E10: 5.5 | F10: 5 | H10: 6 | I10: 5 | L10: HH | M10: HH | N10: HH | O10: HH
A11: 2 | B11: K0T1 | C11: 1 | E11: 5 | F11: 5 | H11: 5 | I11: 5 | L11: HH | M11: HH | N11: 8.5 | O11: HH
C12: 2 | E12: 6.5 | F12: 4 | H12: 6 | I12: 5 | L12: 8.5 | M12: HH | N12: 9.0 | O12: HH
C13: 3 | E13: 3.5 | F13: 3.5 | H13: 6 | I13: 5 | L13: 9.0 | M13: HH | N13: 8.5 | O13: HH
A14: 3 | B14: K0T2 | C14: 1 | E14: 3 | F14: 3 | H14: 5 | I14: 5 | L14: 9.0 | M14: HH | N14: HH | O14: HH
C15: 2 | E15: 2.5 | F15: 4 | H15: 6 | I15: 6 | L15: HH | M15: HH | N15: HH | O15: HH
C16: 3 | E16: 2.5 | F16: 7 | H16: 6 | I16: 6 | L16: HH | M16: HH | N16: HH | O16: HH
A17: 4 | B17: K1T0 | C17: 1 | E17: 3 | F17: 2.5 | H17: 6 | I17: 6 | L17: 6.5 | M17: 9.0 | N17: 6.5 | O17: 9.0
C18: 2 | E18: 4 | F18: 3 | H18: 6 | I18: 6 | L18: 6.5 | M18: 9.0 | N18: 6.5 | O18: 9.0
C19: 3 | E19: 4.5 | F19: 4 | H19: 5 | I19: 6 | L19: 6.5 | M19: 9.0 | N19: 6.5 | O19: 9.0
A20: 5 | B20: K1T1 | C20: 1 | E20: 4 | F20: 3 | H20: 6 | I20: 7 | L20: 6.5 | M20: 8.5 | N20: 6.5 | O20: 8.5
C21: 2 | E21: 4 | F21: 6 | H21: 6 | I21: 6 | L21: 6.5 | M21: 8.5 | N21: 7.0 | O21: 8.5
C22: 3 | E22: 4 | F22: 5 | H22: 6 | I22: 5 | L22: 7.0 | M22: 8.5 | N22: 6.5 | O22: 8.5
A23: 6 | B23: K1T2 | C23: 1 | E23: 5 | F23: 5.5 | H23: 5 | I23: 5 | L23: 6.5 | M23: 8.5 | N23: 6.5 | O23: 8.5
C24: 2 | E24: 6 | F24: 4 | H24: 6 | I24: 6 | L24: 6.5 | M24: 8.5 | N24: 7.0 | O24: 8.5
C25: 3 | E25: 3 | F25: 2 | H25: 5 | I25: 6 | L25: 7.0 | M25: 8.5 | N25: 6.5 | O25: 8.5
A26: 7 | B26: K2T0 | C26: 1 | E26: 3.5 | F26: 5 | H26: 6 | I26: 5 | L26: 6.5 | M26: 8.5 | N26: 6.5 | O26: 8.5
C27: 2 | E27: 3 | F27: 3 | H27: 5 | I27: 6 | L27: 7.0 | M27: 8.5 | N27: 6.5 | O27: 8.5
C28: 3 | E28: 3 | F28: 4 | H28: 6 | I28: 6 | L28: 6.5 | M28: 8.5 | N28: 7.0 | O28: 8.5
A29: 8 | B29: K2T1 | C29: 1 | E29: 3 | F29: 5 | H29: 5 | I29: 5 | L29: 7.0 | M29: 8.5 | N29: 6.5 | O29: 8.5
C30: 2 | E30: 5 | F30: 3.5 | H30: 6 | I30: 5 | L30: 6.5 | M30: 8.5 | N30: 6.5 | O30: 8.5
C31: 3 | E31: 3.5 | F31: 5 | H31: 5 | I31: 7 | L31: 6.5 | M31: 8.5 | N31: 7.0 | O31: 8.5
A32: 9 | B32: K2T2 | C32: 1 | E32: 4.5 | F32: 5 | H32: 6 | I32: 6 | L32: 6.5 | M32: 8.5 | N32: 7.0 | O32: 8.5
C33: 2 | E33: 5 | F33: 4.5 | H33: 6 | I33: 6 | L33: 6.5 | M33: 8.5 | N33: 6.5 | O33: 8.5
C34: 3 | E34: 4 | F34: 3.5 | H34: 5 | I34: 6 | L34: 7.0 | M34: 8.5 | N34: 6.5 | O34: 8.5

Sheet Sheet3
B1: Hari/Tanggal | C1: : | D1: Rabu, 26 November 2025
B2: Suhu | C2: : | D2: 26
B3: Pengamatan ke | C3: : | D3: 3
A5: No. | B5: Kode Tanaman | C5: Ulangan | D5: Tinggi Tanaman (cm) | G5: Jumlah daun | J5: ph Tanah | P5: Keparahan penyakit | S5: Catatan
D6: Tanaman ke- | G6: Tanaman ke- | J6: Tanaman ke- | P6: Tanaman ke-
D7: 1 | E7: 2 | F7: 3 | G7: 1 | H7: 2 | I7: 3 | J7: 1 (atas) | K7: 1 (bawah) | L7: 2 (atas) | M7: 2 (bawah) | N7: 3 (atas) | O7: 3 (bawah) | P7: 1 | Q7: 2 | R7: 3
A8: 1 | B8: K0T0 | C8: 1 | E8: 2.5 | F8: 3.5 | H8: 6 | I8: 5 | L8: 9.0 | M8: HH | N8: 9.0 | O8: HH
C9: 2 | E9: 5.5 | F9: 5 | H9: 6 | I9: 7 | L9: 8.5 | M9: HH | N9: HH | O9: HH
C10: 3 | E10: 6 | F10: 6 | H10: 7 | I10: 6 | L10: 8.5 | M10: HH | N10: 9.0 | O10: HH
A11: 2 | B11: K0T1 | C11: 1 | E11: 5 | F11: 5.5 | H11: 6 | I11: 6 | L11: HH | M11: 9.0 | N11: HH | O11: 9.0
C12: 2 | E12: 8 | F12: 4 | H12: 6 | I12: 5 | L12: 8.5 | M12: 9.0 | N12: HH | O12: 9.0
C13: 3 | E13: 4 | F13: 4 | H13: 7 | I13: 6 | L13: 9.0 | M13: 9.0 | N13: HH | O13: 9.0
A14: 3 | B14: K0T2 | C14: 1 | E14: 3.5 | F14: 3 | H14: 6 | I14: 6 | L14: 9.0 | M14: 9.0 | N14: HH | O14: 9.0
C15: 2 | E15: 3 | F15: 5 | H15: 6 | I15: 6 | L15: HH | M15: 9.0 | N15: HH | O15: 9.0
C16: 3 | E16: 2.5 | F16: 8.5 | H16: 7 | I16: 7 | L16: HH | M16: 9.0 | N16: HH | O16: 9.0
A17: 4 | B17: K1T0 | C17: 1 | E17: 3 | F17: 2.5 | H17: 7 | I17: 7 | L17: 6.5 | M17: 9.0 | N17: 6.5 | O17: 9.0
C18: 2 | E18: 4.5 | F18: 3.5 | H18: 7 | I18: 8 | L18: 6.5 | M18: 9.0 | N18: 6.5 | O18: 9.0
C19: 3 | E19: 5 | F19: 4.5 | H19: 6 | I19: 7 | L19: 6.5 | M19: 9.0 | N19: 6.5 | O19: 9.0
A20: 5 | B20: K1T1 | C20: 1 | E20: 4.5 | F20: 3.5 | H20: 6 | I20: 7 | L20: 7.5 | M20: 8.5 | N20: 6.5 | O20: 8.5
C21: 2 | E21: 4 | F21: 7 | H21: 6 | I21: 6 | L21: 6.5 | M21: 8.5 | N21: 6.0 | O21: 8.5
C22: 3 | E22: 4.5 | F22: 5 | H22: 6 | I22: 6 | L22: 6.5 | M22: 8.5 | N22: 6.5 | O22: 8.5
A23: 6 | B23: K1T2 | C23: 1 | E23: 5 | F23: 6 | H23: 7 | I23: 6 | L23: 6.0 | M23: 8.5 | N23: 6.5 | O23: 8.5
C24: 2 | E24: 6.5 | F24: 4 | H24: 7 | I24: 7 | L24: 6.0 | M24: 8.5 | N24: 6.0 | O24: 8.5
C25: 3 | E25: 3 | F25: 2 | H25: 6 | I25: 7 | L25: 6.0 | M25: 8.5 | N25: 6.5 | O25: 8.5
A26: 7 | B26: K2T0 | C26: 1 | E26: 4 | F26: 5.5 | H26: 6 | I26: 6 | L26: 6.5 | M26: 8.5 | N26: 6.5 | O26: 8.5
C27: 2 | E27: 3.5 | F27: 3 | H27: 6 | I27: 7 | L27: 6.5 | M27: 8.5 | N27: 6.0 | O27: 8.5
C28: 3 | E28: 3 | F28: 4.5 | H28: 8 | I28: 6 | L28: 6.0 | M28: 8.5 | N28: 6.5 | O28: 8.5
A29: 8 | B29: K2T1 | C29: 1 | E29: 3 | F29: 6 | H29: 5 | I29: 6 | L29: 6.5 | M29: 8.5 | N29: 6.0 | O29: 8.5
C30: 2 | E30: 6 | F30: 4 | H30: 6 | I30: 5 | L30: 6.0 | M30: 8.5 | N30: 6.0 | O30: 8.5
C31: 3 | E31: 4 | F31: 7 | H31: 6 | I31: 7 | L31: 6.0 | M31: 8.5 | N31: 6.0 | O31: 8.5
A32: 9 | B32: K2T2 | C32: 1 | E32: 5 | F32: 5.5 | H32: 6 | I32: 7 | L32: 6.0 | M32: 8.5 | N32: 6.5 | O32: 8.5
C33: 2 | E33: 5.5 | F33: 5 | H33: 7 | I33: 7 | L33: 6.0 | M33: 8.5 | N33: 6.5 | O33: 8.5
C34: 3 | E34: 5 | F34: 4 | H34: 6 | I34: 7 | L34: 6.0 | M34: 8.5 | N34: 6.5 | O34: 8.5

Sheet Sheet4
B1: Hari/Tanggal | C1: : | D1: Kamis, 28 November 2025
B2: Suhu | C2: : | D2: 28
B3: Pengamatan ke | C3: : | D3: 4
A5: No. | B5: Kode Tanaman | C5: Ulangan | D5: Tinggi Tanaman (cm) | G5: Jumlah daun | J5: ph Tanah | P5: Keparahan penyakit | S5: Catatan
D6: Tanaman ke- | G6: Tanaman ke- | J6: Tanaman ke- | P6: Tanaman ke-
D7: 1 | E7: 2 | F7: 3 | G7: 1 | H7: 2 | I7: 3 | J7: 1 (atas) | K7: 1 (bawah) | L7: 2 (atas) | M7: 2 (bawah) | N7: 3 (atas) | O7: 3 (bawah) | P7: 1 | Q7: 2 | R7: 3
A8: 1 | B8: K0T0 | C8: 1 | E8: 2.5 | F8: 3.5 | H8: 6 | I8: 5 | L8: 9.0 | M8: HH | N8: 9.0 | O8: HH
C9: 2 | E9: 6.5 | F9: 5 | H9: 6 | I9: 7 | L9: 8.5 | M9: HH | N9: HH | O9: HH
C10: 3 | E10: 7 | F10: 6.5 | H10: 8 | I10: 7 | L10: 8.5 | M10: HH | N10: 9.0 | O10: HH
A11: 2 | B11: K0T1 | C11: 1 | E11: 5 | F11: 7 | H11: 6 | I11: 6 | L11: HH | M11: 9.0 | N11: HH | O11: 9.0
C12: 2 | E12: 9 | F12: 4 | H12: 7 | I12: 5 | L12: 8.5 | M12: 9.0 | N12: 9.0 | O12: 9.0
C13: 3 | E13: 4 | F13: 4.5 | H13: 8 | I13: 6 | L13: 9.0 | M13: 9.0 | N13: HH | O13: 9.0
A14: 3 | B14: K0T2 | C14: 1 | E14: 3.5 | F14: 3.5 | H14: 5 (1) | I14: 6 | L14: 9.0 | M14: 9.0 | N14: HH | O14: 9.0
C15: 2 | E15: 3 | F15: 6.5 | H15: 6 | I15: 5 (1) | L15: HH | M15: 9.0 | N15: HH | O15: 9.0
C16: 3 | E16: 3.5 | F16: 10 | H16: 7 | I16: 6 (1) | L16: HH | M16: 9.0 | N16: HH | O16: 9.0
A17: 4 | B17: K1T0 | C17: 1 | E17: 3.5 | F17: 4 | H17: 8 | I17: 6 (1) | L17: 6.5 | M17: 9.0 | N17: 6.5 | O17: 9.0
C18: 2 | E18: 5 | F18: 4 | H18: 8 | I18: 9 | L18: 6.5 | M18: 9.0 | N18: 6.5 | O18: 9.0
C19: 3 | E19: 5.5 | F19: 5 | H19: 7 | I19: 7 | L19: 6.5 | M19: 9.0 | N19: 6.5 | O19: 9.0
A20: 5 | B20: K1T1 | C20: 1 | E20: 5.5 | F20: 4 | H20: 7 | I20: 6 (1) | L20: 7.5 | M20: 8.5 | N20: 6.5 | O20: 8.5
C21: 2 | E21: 4.5 | F21: 8 | H21: 7 | I21: 7 | L21: 6.5 | M21: 8.5 | N21: 6.0 | O21: 8.5
C22: 3 | E22: 5 | F22: 6 | H22: 7 | I22: 7 | L22: 6.5 | M22: 8.5 | N22: 6.5 | O22: 8.5
A23: 6 | B23: K1T2 | C23: 1 | E23: 6 | F23: 6.5 | H23: 6 (1) | I23: 6 | L23: 6.0 | M23: 8.5 | N23: 6.5 | O23: 8.5
C24: 2 | E24: 7 | F24: 5 | H24: 8 | I24: 6 (1) | L24: 6.0 | M24: 8.5 | N24: 6.0 | O24: 8.5
C25: 3 | E25: 3.5 | F25: 2 | H25: 7 | I25: 8 | L25: 6.0 | M25: 8.5 | N25: 6.5 | O25: 8.5
A26: 7 | B26: K2T0 | C26: 1 | E26: 4.5 | F26: 6.5 | H26: 7 | I26: 6 | L26: 6.5 | M26: 8.5 | N26: 6.5 | O26: 8.5
C27: 2 | E27: 4 | F27: 3.5 | H27: 7 | I27: 8 | L27: 6.5 | M27: 8.5 | N27: 6.0 | O27: 8.5
C28: 3 | E28: 4 | F28: 5 | H28: 9 | I28: 7 | L28: 6.0 | M28: 8.5 | N28: 6.5 | O28: 8.5
A29: 8 | B29: K2T1 | C29: 1 | E29: 3 | F29: 6.5 | H29: 6 | I29: 7 | L29: 6.5 | M29: 8.5 | N29: 6.0 | O29: 8.5
C30: 2 | E30: 7 | F30: 4.5 | H30: 7 | I30: 6 | L30: 6.0 | M30: 8.5 | N30: 6.0 | O30: 8.5
C31: 3 | E31: 4.5 | F31: 8 | H31: 7 | I31: 8 | L31: 6.0 | M31: 8.5 | N31: 6.0 | O31: 8.5
A32: 9 | B32: K2T2 | C32: 1 | E32: 6 | F32: 7 | H32: 6 | I32: 8 | L32: 6.0 | M32: 8.5 | N32: 6.5 | O32: 8.5
C33: 2 | E33: 6 | F33: 5.5 | H33: 6 (1) | I33: 8 | L33: 6.0 | M33: 8.5 | N33: 6.5 | O33: 8.5
C34: 3 | E34: 5.5 | F34: 5 | H34: 7 | I34: 8 | L34: 6.0 | M34: 8.5 | N34: 6.5 | O34: 8.5

Sheet Sheet5
B1: Hari/Tanggal | C1: : | D1: Sabtu, 30 November 2025
B2: Suhu | C2: : | D2: 31
B3: Pengamatan ke | C3: : | D3: 5
A5: No. | B5: Kode Tanaman | C5: Ulangan | D5: Tinggi Tanaman (cm) | G5: Jumlah daun | J5: ph Tanah | P5: Keparahan penyakit | S5: Catatan
D6: Tanaman ke- | G6: Tanaman ke- | J6: Tanaman ke- | P6: Tanaman ke-
D7: 1 | E7: 2 | F7: 3 | G7: 1 | H7: 2 | I7: 3 | J7: 1 (atas) | K7: 1 (bawah) | L7: 2 (atas) | M7: 2 (bawah) | N7: 3 (atas) | O7: 3 (bawah) | P7: 1 | Q7: 2 | R7: 3
A8: 1 | B8: K0T0 | C8: 1 | E8: 3.5 | F8: 4.5 | H8: 5 (2) | I8: 5 (1) | L8: 9.0 | M8: HH | N8: 9.0 | O8: HH
C9: 2 | E9: 7 | F9: 5.5 | H9: 5 (1) | I9: 7 (1) | L9: 8.5 | M9: HH | N9: HH | O9: HH
C10: 3 | E10: 7.5 | F10: 7 | H10: 7 (1) | I10: 8 | L10: 8.5 | M10: HH | N10: 9.0 | O10: HH
A11: 2 | B11: K0T1 | C11: 1 | E11: 5.5 | F11: 7.5 | H11: 7 | I11: 7 | L11: HH | M11: HH | N11: 9.0 | O11: HH
C12: 2 | E12: 10 | F12: 5 | H12: 7 | I12: 5 (1) | L12: 8.0 | M12: HH | N12: 9.0 | O12: HH
C13: 3 | E13: 4.5 | F13: 6 | H13: 8 (1) | I13: 7 | L13: 8.0 | M13: HH | N13: HH | O13: HH
A14: 3 | B14: K0T2 | C14: 1 | E14: 4 | F14: 5.5 | H14: 5 (1) | I14: 7 | L14: 7.5 | M14: HH | N14: 9.0 | O14: HH
C15: 2 | E15: 4.5 | F15: 8.5 | H15: 6 (1) | I15: 6 (1) | L15: 8.5 | M15: HH | N15: 8.5 | O15: HH
C16: 3 | E16: 4.5 | F16: 11 | H16: 6 (1) | I16: 5 (2) | L16: HH | M16: HH | N16: 9.0 | O16: HH
A17: 4 | B17: K1T0 | C17: 1 | E17: 3.5 | F17: 4.5 | H17: 9 | I17: 6 (1) | L17: 6.5 | M17: 8.0 | N17: 6.5 | O17: 7.5
C18: 2 | E18: 5 | F18: 4 | H18: 9 | I18: 9 (1) | L18: 6.5 | M18: 7.5 | N18: 6.5 | O18: 8.0
C19: 3 | E19: 6 | F19: 6 | H19: 8 | I19: 8 | L19: 6.5 | M19: 7.5 | N19: 6.0 | O19: 8.0
A20: 5 | B20: K1T1 | C20: 1 | E20: 5.5 | F20: 5.5 | H20: 7 | I20: 7 (1) | L20: 5.5 | M20: 7.5 | N20: 5.5 | O20: 7.5
C21: 2 | E21: 5 | F21: 9 | H21: 7 | I21: 5 (2) | L21: 5.5 | M21: 7.5 | N21: 5.5 | O21: 8.0
C22: 3 | E22: 5 | F22: 7 | H22: 7 | I22: 7 | L22: 5.0 | M22: 8.0 | N22: 5.5 | O22: 7.5
A23: 6 | B23: K1T2 | C23: 1 | E23: 6 | F23: 7.5 | H23: 6 (1) | I23: 6 (1) | L23: 5.0 | M23: 7.5 | N23: 5.0 | O23: 7.5
C24: 2 | E24: 7 | F24: 5 | H24: 7 (1) | I24: 6 (1) | L24: 5.0 | M24: 7.5 | N24: 6.0 | O24: 8.0
C25: 3 | E25: 3.5 | F25: 4 | H25: 8 | I25: 9 | L25: 5.0 | M25: 7.5 | N25: 5.0 | O25: 7.5
A26: 7 | B26: K2T0 | C26: 1 | E26: 5 | F26: 6.5 | H26: 7 | I26: 6 (1) | L26: 6.0 | M26: 8.0 | N26: 5.0 | O26: 7.5
C27: 2 | E27: 4.5 | F27: 4 | H27: 7 | I27: 9 | L27: 5.0 | M27: 7.5 | N27: 5.0 | O27: 8.0
C28: 3 | E28: 4 | F28: 5.5 | H28: 10 | I28: 7 | L28: 5.0 | M28: 7.0 | N28: 5.5 | O28: 7.5
A29: 8 | B29: K2T1 | C29: 1 | E29: 3.5 | F29: 7 | H29: 7 | I29: 7 | L29: 5.0 | M29: 7.0 | N29: 5.5 | O29: 7.0
C30: 2 | E30: 7.5 | F30: 4.5 | H30: 8 | I30: 6 | L30: 5.0 | M30: 7.0 | N30: 5.0 | O30: 7.0
C31: 3 | E31: 4.5 | F31: 9 | H31: 6 (1) | I31: 8 | L31: 5.0 | M31: 7.5 | N31: 5.0 | O31: 7.0
A32: 9 | B32: K2T2 | C32: 1 | E32: 6.5 | F32: 7.5 | H32: 7 | I32: 8 (1) | L32: 5.0 | M32: 7.0 | N32: 5.0 | O32: 7.0
C33: 2 | E33: 6 | F33: 5.5 | H33: 6 (1) | I33: 8 | L33: 5.0 | M33: 7.0 | N33: 5.0 | O33: 7.5
C34: 3 | E34: 5.5 | F34: 5 | H34: 6 (1) | I34: 8 | L34: 5.0 | M34: 7.5 | N34: 5.5 | O34: 7.0

Sheet jumlah daun
A1: No. | B1: Kode Tanaman | C1: Ulangan | D1: Jumlah daun | G1: Jumlah daun | J1: Jumlah daun | M1: Jumlah daun | P1: Jumlah daun | S1: Jumlah daun | V1: Jumlah daun | Y1: Jumlah daun | AB1: Jumlah daun | AE1: Jumlah daun | AI1: Delta
D2: Tanaman ke- | G2: Tanaman ke- | J2: Tanaman ke- | M2: Tanaman ke- | P2: Tanaman ke- | S2: Tanaman ke- | V2: Tanaman ke- | Y2: Tanaman ke- | AB2: Tanaman ke- | AE2: Tanaman ke-
D3: 1 | E3: 2 | F3: 3 | G3: 1 | H3: 2 | I3: 3 | J3: 1 | K3: 2 | L3: 3 | M3: 1 | N3: 2 | O3: 3 | P3: 1 | Q3: 2 | R3: 3 | S3: 1 | T3: 2 | U3: 3 | V3: 1 | W3: 2 | X3: 3 | Y3: 1 | Z3: 2 | AA3: 3 | AB3: 1 | AC3: 2 | AD3: 3 | AE3: 1 | AF3: 2 | AG3: 3
A4: 1 | B4: K0T0 | C4: 1 | D4: 5 | E4: 5 | F4: 5 | G4: =(D4+E4+F4)/3 -> 5 | H4: 6 | I4: 5 | J4: =(H4+I4)/2 -> 5.5 | K4: 6 | L4: 5 | M4: =(K4+L4)/2 -> 5.5 | N4: 6 | O4: 5 | P4: =(N4+O4)/2 -> 5.5 | Q4: 5 | R4: 5 | S4: =(Q4+R4)/2 -> 5 | T4: 5 | U4: 5 | V4: =(T4+U4)/2 -> 5 | W4: 5 | X4: 5 | Y4: =(W4+X4)/2 -> 5 | Z4: 5 | AA4: 5 | AB4: =(Z4+AA4)/2 -> 5 | AC4: 7 | AD4: 5 | AE4: =(AC4+AD4)/2 -> 6 | AF4: 6 | AG4: 5 | AH4: =(AF4+AG4)/2 -> 5.5 | AI4: =AH4-G4 -> 0.5
C5: 2 | D5: 5 | E5: 5 | F5: 5 | G5: =(D5+E5+F5)/3 -> 5 | H5: 6 | I5: 6 | J5: =(H5+I5)/2 -> 6 | K5: 6 | L5: 7 | M5: =(K5+L5)/2 -> 6.5 | N5: 6 | O5: 7 | P5: =(N5+O5)/2 -> 6.5 | Q5: 5 | R5: 7 | S5: =(Q5+R5)/2 -> 6 | T5: 6 | U5: 8 | V5: =(T5+U5)/2 -> 7 | W5: 6 | X5: 7 | Y5: =(W5+X5)/2 -> 6.5 | Z5: 6 | AA5: 8 | AB5: =(Z5+AA5)/2 -> 7 | AC5: 6 | AD5: 8 | AE5: =(AC5+AD5)/2 -> 7 | AF5: 5 | AG5: 8 | AH5: =(AF5+AG5)/2 -> 6.5 | AI5: =AH5-G5 -> 1.5
C6: 3 | D6: 5 | E6: 6 | F6: 5 | G6: =(D6+E6+F6)/3 -> 5.3333333 | H6: 6 | I6: 5 | J6: =(H6+I6)/2 -> 5.5 | K6: 7 | L6: 6 | M6: =(K6+L6)/2 -> 6.5 | N6: 8 | O6: 7 | P6: =(N6+O6)/2 -> 7.5 | Q6: 7 | R6: 8 | S6: =(Q6+R6)/2 -> 7.5 | T6: 7 | U6: 8 | V6: =(T6+U6)/2 -> 7.5 | W6: 7 | X6: 8 | Y6: =(W6+X6)/2 -> 7.5 | Z6: 8 | AA6: 9 | AB6: =(Z6+AA6)/2 -> 8.5 | AC6: 9 | AD6: 11 | AE6: =(AC6+AD6)/2 -> 10 | AF6: 8 | AG6: 11 | AH6: =(AF6+AG6)/2 -> 9.5 | AI6: =AH6-G6 -> 4.1666667
A7: 2 | B7: K0T1 | C7: 1 | D7: 5 | E7: 5 | F7: 5 | G7: =(D7+E7+F7)/3 -> 5 | H7: 5 | I7: 5 | J7: =(H7+I7)/2 -> 5 | K7: 6 | L7: 6 | M7: =(K7+L7)/2 -> 6 | N7: 6 | O7: 6 | P7: =(N7+O7)/2 -> 6 | Q7: 7 | R7: 7 | S7: =(Q7+R7)/2 -> 7 | T7: 7 | U7: 6 | V7: =(T7+U7)/2 -> 6.5 | W7: 8 | X7: 6 | Y7: =(W7+X7)/2 -> 7 | Z7: 7 | AA7: 6 | AB7: =(Z7+AA7)/2 -> 6.5 | AC7: 6 | AD7: 6 | AE7: =(AC7+AD7)/2 -> 6 | AF7: 6 | AG7: 5 | AH7: =(AF7+AG7)/2 -> 5.5 | AI7: =AH7-G7 -> 0.5
C8: 2 | D8: 5 | E8: 5 | F8: 6 | G8: =(D8+E8+F8)/3 -> 5.3333333 | H8: 6 | I8: 5 | J8: =(H8+I8)/2 -> 5.5 | K8: 6 | L8: 5 | M8: =(K8+L8)/2 -> 5.5 | N8: 7 | O8: 5 | P8: =(N8+O8)/2 -> 6 | Q8: 7 | R8: 5 | S8: =(Q8+R8)/2 -> 6 | T8: 8 | U8: 5 | V8: =(T8+U8)/2 -> 6.5 | W8: 7 | X8: 6 | Y8: =(W8+X8)/2 -> 6.5 | Z8: 7 | AA8: 6 | AB8: =(Z8+AA8)/2 -> 6.5 | AC8: 6 | AD8: 6 | AE8: =(AC8+AD8)/2 -> 6 | AF8: 6 | AG8: 6 | AH8: =(AF8+AG8)/2 -> 6 | AI8: =AH8-G8 -> 0.66666667
C9: 3 | D9: 6 | E9: 6 | F9: 5 | G9: =(D9+E9+F9)/3 -> 5.6666667 | H9: 6 | I9: 5 | J9: =(H9+I9)/2 -> 5.5 | K9: 7 | L9: 6 | M9: =(K9+L9)/2 -> 6.5 | N9: 8 | O9: 6 | P9: =(N9+O9)/2 -> 7 | Q9: 8 | R9: 7 | S9: =(Q9+R9)/2 -> 7.5 | T9: 8 | U9: 6 | V9: =(T9+U9)/2 -> 7 | W9: 8 | X9: 6 | Y9: =(W9+X9)/2 -> 7 | Z9: 8 | AA9: 6 | AB9: =(Z9+AA9)/2 -> 7 | AC9: 7 | AD9: 6 | AE9: =(AC9+AD9)/2 -> 6.5 | AF9: 7 | AG9: 6 | AH9: =(AF9+AG9)/2 -> 6.5 | AI9: =AH9-G9 -> 0.83333333
A10: 3 | B10: K0T2 | C10: 1 | D10: 5 | E10: 5 | F10: 5 | G10: =(D10+E10+F10)/3 -> 5 | H10: 5 | I10: 5 | J10: =(H10+I10)/2 -> 5 | K10: 6 | L10: 6 | M10: =(K10+L10)/2 -> 6 | N10: 5 | O10: 6 | P10: =(N10+O10)/2 -> 5.5 | Q10: 5 | R10: 7 | S10: =(Q10+R10)/2 -> 6 | T10: 6 | U10: 8 | V10: =(T10+U10)/2 -> 7 | W10: 5 | X10: 9 | Y10: =(W10+X10)/2 -> 7 | Z10: 5 | AA10: 8 | AB10: =(Z10+AA10)/2 -> 6.5 | AC10: 5 | AD10: 6 | AE10: =(AC10+AD10)/2 -> 5.5 | AF10: 5 | AG10: 6 | AH10: =(AF10+AG10)/2 -> 5.5 | AI10: =AH10-G10 -> 0.5
C11: 2 | D11: 5 | E11: 5 | F11: 5 | G11: =(D11+E11+F11)/3 -> 5 | H11: 6 | I11: 6 | J11: =(H11+I11)/2 -> 6 | K11: 6 | L11: 6 | M11: =(K11+L11)/2 -> 6 | N11: 6 | O11: 5 | P11: =(N11+O11)/2 -> 5.5 | Q11: 6 | R11: 6 | S11: =(Q11+R11)/2 -> 6 | T11: 7 | U11: 6 | V11: =(T11+U11)/2 -> 6.5 | W11: 8 | X11: 6 | Y11: =(W11+X11)/2 -> 7 | Z11: 7 | AA11: 5 | AB11: =(Z11+AA11)/2 -> 6 | AC11: 8 | AD11: 4 | AE11: =(AC11+AD11)/2 -> 6 | AF11: 7 | AG11: 3 | AH11: =(AF11+AG11)/2 -> 5 | AI11: =AH11-G11 -> 0
C12: 3 | D12: 5 | E12: 5 | F12: 5 | G12: =(D12+E12+F12)/3 -> 5 | H12: 6 | I12: 6 | J12: =(H12+I12)/2 -> 6 | K12: 7 | L12: 7 | M12: =(K12+L12)/2 -> 7 | N12: 7 | O12: 6 | P12: =(N12+O12)/2 -> 6.5 | Q12: 6 | R12: 5 | S12: =(Q12+R12)/2 -> 5.5 | T12: 5 | U12: 6 | V12: =(T12+U12)/2 -> 5.5 | W12: 5 | X12: 6 | Y12: =(W12+X12)/2 -> 5.5 | Z12: 4 | AA12: 7 | AB12: =(Z12+AA12)/2 -> 5.5 | AC12: 4 | AD12: 6 | AE12: =(AC12+AD12)/2 -> 5 | AF12: 3 | AG12: 5 | AH12: =(AF12+AG12)/2 -> 4 | AI12: =AH12-G12 -> -1
A13: 4 | B13: K1T0 | C13: 1 | D13: 5 | E13: 6 | F13: 5 | G13: =(D13+E13+F13)/3 -> 5.3333333 | H13: 6 | I13: 6 | J13: =(H13+I13)/2 -> 6 | K13: 7 | L13: 7 | M13: =(K13+L13)/2 -> 7 | N13: 8 | O13: 6 | P13: =(N13+O13)/2 -> 7 | Q13: 9 | R13: 6 | S13: =(Q13+R13)/2 -> 7.5 | T13: 8 | U13: 7 | V13: =(T13+U13)/2 -> 7.5 | W13: 9 | X13: 8 | Y13: =(W13+X13)/2 -> 8.5 | Z13: 10 | AA13: 9 | AB13: =(Z13+AA13)/2 -> 9.5 | AC13: 9 | AD13: 10 | AE13: =(AC13+AD13)/2 -> 9.5 | AF13: 9 | AG13: 10 | AH13: =(AF13+AG13)/2 -> 9.5 | AI13: =AH13-G13 -> 4.1666667
C14: 2 | D14: 5 | E14: 5 | F14: 5 | G14: =(D14+E14+F14)/3 -> 5 | H14: 6 | I14: 6 | J14: =(H14+I14)/2 -> 6 | K14: 7 | L14: 8 | M14: =(K14+L14)/2 -> 7.5 | N14: 8 | O14: 9 | P14: =(N14+O14)/2 -> 8.5 | Q14: 9 | R14: 9 | S14: =(Q14+R14)/2 -> 9 | T14: 10 | U14: 10 | V14: =(T14+U14)/2 -> 10 | W14: 10 | X14: 9 | Y14: =(W14+X14)/2 -> 9.5 | Z14: 9 | AA14: 17 | AB14: =(Z14+AA14)/2 -> 13 | AC14: 10 | AD14: 19 | AE14: =(AC14+AD14)/2 -> 14.5 | AF14: 10 | AG14: 19 | AH14: =(AF14+AG14)/2 -> 14.5 | AI14: =AH14-G14 -> 9.5
C15: 3 | D15: 6 | E15: 6 | F15: 6 | G15: =(D15+E15+F15)/3 -> 6 | H15: 5 | I15: 6 | J15: =(H15+I15)/2 -> 5.5 | K15: 6 | L15: 7 | M15: =(K15+L15)/2 -> 6.5 | N15: 7 | O15: 7 | P15: =(N15+O15)/2 -> 7 | Q15: 8 | R15: 8 | S15: =(Q15+R15)/2 -> 8 | T15: 8 | U15: 9 | V15: =(T15+U15)/2 -> 8.5 | W15: 9 | X15: 8 | Y15: =(W15+X15)/2 -> 8.5 | Z15: 8 | AA15: 8 | AB15: =(Z15+AA15)/2 -> 8 | AC15: 7 | AD15: 8 | AE15: =(AC15+AD15)/2 -> 7.5 | AF15: 7 | AG15: 8 | AH15: =(AF15+AG15)/2 -> 7.5 | AI15: =AH15-G15 -> 1.5
A16: 5 | B16: K1T1 | C16: 1 | D16: 5 | E16: 5 | F16: 5 | G16: =(D16+E16+F16)/3 -> 5 | H16: 6 | I16: 7 | J16: =(H16+I16)/2 -> 6.5 | K16: 6 | L16: 7 | M16: =(K16+L16)/2 -> 6.5 | N16: 7 | O16: 6 | P16: =(N16+O16)/2 -> 6.5 | Q16: 7 | R16: 7 | S16: =(Q16+R16)/2 -> 7 | T16: 8 | U16: 7 | V16: =(T16+U16)/2 -> 7.5 | W16: 9 | X16: 7 | Y16: =(W16+X16)/2 -> 8 | Z16: 8 | AA16: 6 | AB16: =(Z16+AA16)/2 -> 7 | AC16: 8 | AD16: 6 | AE16: =(AC16+AD16)/2 -> 7 | AF16: 8 | AG16: 6 | AH16: =(AF16+AG16)/2 -> 7 | AI16: =AH16-G16 -> 2
C17: 2 | D17: 5 | E17: 5 | F17: 5 | G17: =(D17+E17+F17)/3 -> 5 | H17: 6 | I17: 6 | J17: =(H17+I17)/2 -> 6 | K17: 6 | L17: 6 | M17: =(K17+L17)/2 -> 6 | N17: 7 | O17: 7 | P17: =(N17+O17)/2 -> 7 | Q17: 7 | R17: 5 | S17: =(Q17+R17)/2 -> 6 | T17: 8 | U17: 6 | V17: =(T17+U17)/2 -> 7 | W17: 8 | X17: 6 | Y17: =(W17+X17)/2 -> 7 | Z17: 9 | AA17: 6 | AB17: =(Z17+AA17)/2 -> 7.5 | AC17: 9 | AD17: 8 | AE17: =(AC17+AD17)/2 -> 8.5 | AF17: 9 | AG17: 8 | AH17: =(AF17+AG17)/2 -> 8.5 | AI17: =AH17-G17 -> 3.5
C18: 3 | D18: 6 | E18: 5 | F18: 5 | G18: =(D18+E18+F18)/3 -> 5.3333333 | H18: 6 | I18: 5 | J18: =(H18+I18)/2 -> 5.5 | K18: 6 | L18: 6 | M18: =(K18+L18)/2 -> 6 | N18: 7 | O18: 7 | P18: =(N18+O18)/2 -> 7 | Q18: 7 | R18: 7 | S18: =(Q18+R18)/2 -> 7 | T18: 7 | U18: 8 | V18: =(T18+U18)/2 -> 7.5 | W18: 9 | X18: 9 | Y18: =(W18+X18)/2 -> 9 | Z18: 8 | AA18: 10 | AB18: =(Z18+AA18)/2 -> 9 | AC18: 8 | AD18: 11 | AE18: =(AC18+AD18)/2 -> 9.5 | AF18: 8 | AG18: 11 | AH18: =(AF18+AG18)/2 -> 9.5 | AI18: =AH18-G18 -> 4.1666667
A19: 6 | B19: K1T2 | C19: 1 | D19: 5 | E19: 5 | F19: 5 | G19: =(D19+E19+F19)/3 -> 5 | H19: 5 | I19: 5 | J19: =(H19+I19)/2 -> 5 | K19: 7 | L19: 6 | M19: =(K19+L19)/2 -> 6.5 | N19: 6 | O19: 6 | P19: =(N19+O19)/2 -> 6 | Q19: 6 | R19: 6 | S19: =(Q19+R19)/2 -> 6 | T19: 7 | U19: 5 | V19: =(T19+U19)/2 -> 6 | W19: 7 | X19: 6 | Y19: =(W19+X19)/2 -> 6.5 | Z19: 8 | AA19: 6 | AB19: =(Z19+AA19)/2 -> 7 | AC19: 9 | AD19: 7 | AE19: =(AC19+AD19)/2 -> 8 | AF19: 9 | AG19: 7 | AH19: =(AF19+AG19)/2 -> 8 | AI19: =AH19-G19 -> 3
C20: 2 | D20: 5 | E20: 5 | F20: 5 | G20: =(D20+E20+F20)/3 -> 5 | H20: 6 | I20: 6 | J20: =(H20+I20)/2 -> 6 | K20: 7 | L20: 7 | M20: =(K20+L20)/2 -> 7 | N20: 8 | O20: 6 | P20: =(N20+O20)/2 -> 7 | Q20: 7 | R20: 6 | S20: =(Q20+R20)/2 -> 6.5 | T20: 8 | U20: 7 | V20: =(T20+U20)/2 -> 7.5 | W20: 9 | X20: 8 | Y20: =(W20+X20)/2 -> 8.5 | Z20: 10 | AA20: 9 | AB20: =(Z20+AA20)/2 -> 9.5 | AC20: 10 | AD20: 9 | AE20: =(AC20+AD20)/2 -> 9.5 | AF20: 10 | AG20: 9 | AH20: =(AF20+AG20)/2 -> 9.5 | AI20: =AH20-G20 -> 4.5
C21: 3 | D21: 6 | E21: 6 | F21: 5 | G21: =(D21+E21+F21)/3 -> 5.6666667 | H21: 5 | I21: 6 | J21: =(H21+I21)/2 -> 5.5 | K21: 6 | L21: 7 | M21: =(K21+L21)/2 -> 6.5 | N21: 7 | O21: 8 | P21: =(N21+O21)/2 -> 7.5 | Q21: 8 | R21: 9 | S21: =(Q21+R21)/2 -> 8.5 | T21: 9 | U21: 9 | V21: =(T21+U21)/2 -> 9 | W21: 9 | X21: 10 | Y21: =(W21+X21)/2 -> 9.5 | Z21: 10 | AA21: 10 | AB21: =(Z21+AA21)/2 -> 10 | AC21: 8 | AD21: 11 | AE21: =(AC21+AD21)/2 -> 9.5 | AF21: 8 | AG21: 11 | AH21: =(AF21+AG21)/2 -> 9.5 | AI21: =AH21-G21 -> 3.8333333
A22: 7 | B22: K2T0 | C22: 1 | D22: 5 | E22: 5 | F22: 6 | G22: =(D22+E22+F22)/3 -> 5.3333333 | H22: 6 | I22: 5 | J22: =(H22+I22)/2 -> 5.5 | K22: 6 | L22: 6 | M22: =(K22+L22)/2 -> 6 | N22: 7 | O22: 6 | P22: =(N22+O22)/2 -> 6.5 | Q22: 7 | R22: 6 | S22: =(Q22+R22)/2 -> 6.5 | T22: 7 | U22: 7 | V22: =(T22+U22)/2 -> 7 | W22: 8 | X22: 8 | Y22: =(W22+X22)/2 -> 8 | Z22: 8 | AA22: 8 | AB22: =(Z22+AA22)/2 -> 8 | AC22: 10 | AD22: 9 | AE22: =(AC22+AD22)/2 -> 9.5 | AF22: 10 | AG22: 9 | AH22: =(AF22+AG22)/2 -> 9.5 | AI22: =AH22-G22 -> 4.1666667
C23: 2 | D23: 5 | E23: 5 | F23: 5 | G23: =(D23+E23+F23)/3 -> 5 | H23: 5 | I23: 6 | J23: =(H23+I23)/2 -> 5.5 | K23: 6 | L23: 7 | M23: =(K23+L23)/2 -> 6.5 | N23: 7 | O23: 8 | P23: =(N23+O23)/2 -> 7.5 | Q23: 7 | R23: 9 | S23: =(Q23+R23)/2 -> 8 | T23: 9 | U23: 9 | V23: =(T23+U23)/2 -> 9 | W23: 9 | X23: 10 | Y23: =(W23+X23)/2 -> 9.5 | Z23: 9 | AA23: 11 | AB23: =(Z23+AA23)/2 -> 10 | AC23: 10 | AD23: 14 | AE23: =(AC23+AD23)/2 -> 12 | AF23: 10 | AG23: 14 | AH23: =(AF23+AG23)/2 -> 12 | AI23: =AH23-G23 -> 7
C24: 3 | D24: 5 | E24: 5 | F24: 5 | G24: =(D24+E24+F24)/3 -> 5 | H24: 6 | I24: 6 | J24: =(H24+I24)/2 -> 6 | K24: 8 | L24: 6 | M24: =(K24+L24)/2 -> 7 | N24: 9 | O24: 7 | P24: =(N24+O24)/2 -> 8 | Q24: 10 | R24: 7 | S24: =(Q24+R24)/2 -> 8.5 | T24: 11 | U24: 8 | V24: =(T24+U24)/2 -> 9.5 | W24: 11 | X24: 9 | Y24: =(W24+X24)/2 -> 10 | Z24: 11 | AA24: 9 | AB24: =(Z24+AA24)/2 -> 10 | AC24: 11 | AD24: 9 | AE24: =(AC24+AD24)/2 -> 10 | AF24: 11 | AG24: 9 | AH24: =(AF24+AG24)/2 -> 10 | AI24: =AH24-G24 -> 5
A25: 8 | B25: K2T1 | C25: 1 | D25: 6 | E25: 6 | F25: 5 | G25: =(D25+E25+F25)/3 -> 5.6666667 | H25: 5 | I25: 5 | J25: =(H25+I25)/2 -> 5 | K25: 5 | L25: 6 | M25: =(K25+L25)/2 -> 5.5 | N25: 6 | O25: 7 | P25: =(N25+O25)/2 -> 6.5 | Q25: 7 | R25: 7 | S25: =(Q25+R25)/2 -> 7 | T25: 8 | U25: 8 | V25: =(T25+U25)/2 -> 8 | W25: 9 | X25: 9 | Y25: =(W25+X25)/2 -> 9 | Z25: 10 | AA25: 10 | AB25: =(Z25+AA25)/2 -> 10 | AC25: 11 | AD25: 11 | AE25: =(AC25+AD25)/2 -> 11 | AF25: 11 | AG25: 11 | AH25: =(AF25+AG25)/2 -> 11 | AI25: =AH25-G25 -> 5.3333333
C26: 2 | D26: 5 | E26: 5 | F26: 5 | G26: =(D26+E26+F26)/3 -> 5 | H26: 6 | I26: 5 | J26: =(H26+I26)/2 -> 5.5 | K26: 6 | L26: 5 | M26: =(K26+L26)/2 -> 5.5 | N26: 7 | O26: 6 | P26: =(N26+O26)/2 -> 6.5 | Q26: 8 | R26: 6 | S26: =(Q26+R26)/2 -> 7 | T26: 9 | U26: 7 | V26: =(T26+U26)/2 -> 8 | W26: 10 | X26: 8 | Y26: =(W26+X26)/2 -> 9 | Z26: 10 | AA26: 8 | AB26: =(Z26+AA26)/2 -> 9 | AC26: 10 | AD26: 10 | AE26: =(AC26+AD26)/2 -> 10 | AF26: 10 | AG26: 10 | AH26: =(AF26+AG26)/2 -> 10 | AI26: =AH26-G26 -> 5
C27: 3 | D27: 5 | E27: 5 | F27: 5 | G27: =(D27+E27+F27)/3 -> 5 | H27: 5 | I27: 7 | J27: =(H27+I27)/2 -> 6 | K27: 6 | L27: 7 | M27: =(K27+L27)/2 -> 6.5 | N27: 7 | O27: 8 | P27: =(N27+O27)/2 -> 7.5 | Q27: 6 | R27: 8 | S27: =(Q27+R27)/2 -> 7 | T27: 7 | U27: 9 | V27: =(T27+U27)/2 -> 8 | W27: 8 | X27: 10 | Y27: =(W27+X27)/2 -> 9 | Z27: 9 | AA27: 12 | AB27: =(Z27+AA27)/2 -> 10.5 | AC27: 10 | AD27: 12 | AE27: =(AC27+AD27)/2 -> 11 | AF27: 10 | AG27: 12 | AH27: =(AF27+AG27)/2 -> 11 | AI27: =AH27-G27 -> 6
A28: 9 | B28: K2T2 | C28: 1 | D28: 6 | E28: 5 | F28: 6 | G28: =(D28+E28+F28)/3 -> 5.6666667 | H28: 6 | I28: 6 | J28: =(H28+I28)/2 -> 6 | K28: 6 | L28: 7 | M28: =(K28+L28)/2 -> 6.5 | N28: 6 | O28: 8 | P28: =(N28+O28)/2 -> 7 | Q28: 7 | R28: 8 | S28: =(Q28+R28)/2 -> 7.5 | T28: 7 | U28: 9 | V28: =(T28+U28)/2 -> 8 | W28: 8 | X28: 8 | Y28: =(W28+X28)/2 -> 8 | Z28: 8 | AA28: 10 | AB28: =(Z28+AA28)/2 -> 9 | AC28: 7 | AD28: 12 | AE28: =(AC28+AD28)/2 -> 9.5 | AF28: 7 | AG28: 12 | AH28: =(AF28+AG28)/2 -> 9.5 | AI28: =AH28-G28 -> 3.8333333
C29: 2 | D29: 5 | E29: 5 | F29: 5 | G29: =(D29+E29+F29)/3 -> 5 | H29: 6 | I29: 6 | J29: =(H29+I29)/2 -> 6 | K29: 7 | L29: 7 | M29: =(K29+L29)/2 -> 7 | N29: 6 | O29: 8 | P29: =(N29+O29)/2 -> 7 | Q29: 6 | R29: 8 | S29: =(Q29+R29)/2 -> 7 | T29: 7 | U29: 8 | V29: =(T29+U29)/2 -> 7.5 | W29: 8 | X29: 9 | Y29: =(W29+X29)/2 -> 8.5 | Z29: 8 | AA29: 9 | AB29: =(Z29+AA29)/2 -> 8.5 | AC29: 10 | AD29: 10 | AE29: =(AC29+AD29)/2 -> 10 | AF29: 10 | AG29: 10 | AH29: =(AF29+AG29)/2 -> 10 | AI29: =AH29-G29 -> 5
C30: 3 | D30: 5 | E30: 5 | F30: 5 | G30: =(D30+E30+F30)/3 -> 5 | H30: 5 | I30: 6 | J30: =(H30+I30)/2 -> 5.5 | K30: 6 | L30: 7 | M30: =(K30+L30)/2 -> 6.5 | N30: 7 | O30: 8 | P30: =(N30+O30)/2 -> 7.5 | Q30: 6 | R30: 8 | S30: =(Q30+R30)/2 -> 7 | T30: 7 | U30: 9 | V30: =(T30+U30)/2 -> 8 | W30: 7 | X30: 10 | Y30: =(W30+X30)/2 -> 8.5 | Z30: 8 | AA30: 11 | AB30: =(Z30+AA30)/2 -> 9.5 | AC30: 7 | AD30: 12 | AE30: =(AC30+AD30)/2 -> 9.5 | AF30: 7 | AG30: 12 | AH30: =(AF30+AG30)/2 -> 9.5 | AI30: =AH30-G30 -> 4.5

Sheet Sheet6
B1: Hari/Tanggal | C1: : | D1: Senin, 2 Desember 2025
B2: Suhu | C2: : | D2: 32
B3: Pengamatan ke | C3: : | D3: 6
A5: No. | B5: Kode Tanaman | C5: Ulangan | D5: Tinggi Tanaman (cm) | G5: Jumlah daun | J5: ph Tanah | P5: Keparahan penyakit | S5: Catatan
D6: Tanaman ke- | G6: Tanaman ke- | J6: Tanaman ke- | P6: Tanaman ke-
D7: 1 | E7: 2 | F7: 3 | G7: 1 | H7: 2 | I7: 3 | J7: 1 (atas) | K7: 1 (bawah) | L7: 2 (atas) | M7: 2 (bawah) | N7: 3 (atas) | O7: 3 (bawah) | P7: 1 | Q7: 2 | R7: 3
A8: 1 | B8: K0T0 | C8: 1 | E8: 4 | F8: 4.5 | H8: 5 (2) | I8: 5 (1) | L8: 9.0 | M8: HH | N8: 9.0 | O8: HH
C9: 2 | E9: 7 | F9: 6 | H9: 6 (1) | I9: 8 (1) | L9: 8.5 | M9: HH | N9: HH | O9: HH
C10: 3 | E10: 8 | F10: 7.5 | H10: 7 (2) | I10: 8 | L10: 8.5 | M10: HH | N10: 9.0 | O10: HH
A11: 2 | B11: K0T1 | C11: 1 | E11: 5.5 | F11: 7.5 | H11: 7 | I11: 6 (1) | L11: HH | M11: HH | N11: 9.0 | O11: HH
C12: 2 | E12: 10 | F12: 5 | H12: 8 | I12: 5 (2) | L12: 8.0 | M12: HH | N12: 9.0 | O12: HH
C13: 3 | E13: 4.5 | F13: 6 | H13: 8 (1) | I13: 6 (1) | L13: 8.0 | M13: HH | N13: HH | O13: HH
A14: 3 | B14: K0T2 | C14: 1 | E14: 4.5 | F14: 5.5 | H14: 6 (1) | I14: 8 | L14: 7.5 | M14: HH | N14: 9.0 | O14: HH
C15: 2 | E15: 4.5 | F15: 8.5 | H15: 7 (1) | I15: 6 (2) | L15: 8.5 | M15: HH | N15: 8.5 | O15: HH | R15: 1 ULAT
C16: 3 | E16: 4.5 | F16: 11 | H16: 5 (3) | I16: 6 (2) | L16: HH | M16: HH | N16: 9.0 | O16: HH | Q16: 2 MATI
A17: 4 | B17: K1T0 | C17: 1 | E17: 3.5 | F17: 5 | H17: 8 (1) | I17: 7 (1) | L17: 6.5 | M17: 6.5 | N17: 6.5 | O17: 7.0
C18: 2 | E18: 5 | F18: 5 | H18: 10 | I18: 10 (2) | L18: 6.0 | M18: 6.5 | N18: 6.5 | O18: 7.0 | R18: BUNGA
C19: 3 | E19: 6 | F19: 6 | H19: 8 | I19: 9 | L19: 6.5 | M19: 7.0 | N19: 6.0 | O19: 6.5
A20: 5 | B20: K1T1 | C20: 1 | E20: 5.5 | F20: 5.5 | H20: 8 | I20: 7 (1) | L20: 5.5 | M20: 6.0 | N20: 5.5 | O20: 6.0
C21: 2 | E21: 5 | F21: 9.5 | H21: 8 | I21: 6 (2) | L21: 5.5 | M21: 6.5 | N21: 5.5 | O21: 6.0
C22: 3 | E22: 5 | F22: 7 | H22: 7 | I22: 8 | L22: 5.0 | M22: 6.5 | N22: 5.5 | O22: 6.0
A23: 6 | B23: K1T2 | C23: 1 | E23: 6 | F23: 7.5 | H23: 7 (2) | I23: 5 (2) | L23: 5.0 | M23: 6.5 | N23: 5.0 | O23: 6.5
C24: 2 | E24: 7 | F24: 5.5 | H24: 8 (1) | I24: 7 (1) | L24: 5.0 | M24: 6.0 | N24: 5.0 | O24: 6.0
C25: 3 | E25: 3.5 | F25: 4 | H25: 9 | I25: 9 | L25: 5.0 | M25: 6.0 | N25: 5.0 | O25: 5.5
A26: 7 | B26: K2T0 | C26: 1 | E26: 5 | F26: 6.5 | H26: 7 | I26: 7 (1) | L26: 5.5 | M26: 6.0 | N26: 5.0 | O26: 5.5
C27: 2 | E27: 4.5 | F27: 4 | H27: 9 | I27: 9 (1) | L27: 5.0 | M27: 5.5 | N27: 5.0 | O27: 5.5
C28: 3 | E28: 4 | F28: 5.5 | H28: 11 | I28: 8 | L28: 5.0 | M28: 5.5 | N28: 5.5 | O28: 6.0
A29: 8 | B29: K2T1 | C29: 1 | E29: 3.5 | F29: 7 | H29: 8 | I29: 8 | L29: 5.0 | M29: 6.0 | N29: 5.5 | O29: 6.0
C30: 2 | E30: 7.5 | F30: 4.5 | H30: 9 | I30: 7 | L30: 5.0 | M30: 5.5 | N30: 4.5 | O30: 5.0
C31: 3 | E31: 4.5 | F31: 9 | H31: 7 (1) | I31: 9 | L31: 5.0 | M31: 5.5 | N31: 5.0 | O31: 5.5
A32: 9 | B32: K2T2 | C32: 1 | E32: 6.5 | F32: 7.5 | H32: 7 | I32: 9 (1) | L32: 4.5 | M32: 5.0 | N32: 4.5 | O32: 5.0
C33: 2 | E33: 6 | F33: 5.5 | H33: 7 (1) | I33: 8 | L33: 5.0 | M33: 5.5 | N33: 5.0 | O33: 5.5
C34: 3 | E34: 5.5 | F34: 5 | H34: 7 (1) | I34: 9 | L34: 4.5 | M34: 5.0 | N34: 5.5 | O34: 6.0

Sheet Sheet7
B1: Hari/Tanggal | C1: : | D1: Rabu, 4 Desember 2025
B2: Suhu | C2: :
B3: Pengamatan ke | C3: : | D3: 7
A5: No. | B5: Kode Tanaman | C5: Ulangan | D5: Tinggi Tanaman (cm) | G5: Jumlah daun | J5: ph Tanah | P5: Keparahan penyakit | S5: Catatan
D6: Tanaman ke- | G6: Tanaman ke- | J6: Tanaman ke- | P6: Tanaman ke-
D7: 1 | E7: 2 | F7: 3 | G7: 1 | H7: 2 | I7: 3 | J7: 1 (atas) | K7: 1 (bawah) | L7: 2 (atas) | M7: 2 (bawah) | N7: 3 (atas) | O7: 3 (bawah) | P7: 1 | Q7: 2 | R7: 3
A8: 1 | B8: K0T0 | C8: 1 | E8: 4 | F8: 4.5 | H8: 5 (2) | I8: 5 (2) | L8: 9.0 | M8: HH | N8: 9.0 | O8: HH
C9: 2 | E9: 7 | F9: 6 | H9: 6 (2) | I9: 7 (2) | L9: 8.5 | M9: 9.0 | N9: 9.0 | O9: HH
C10: 3 | E10: 8 | F10: 7.5 | H10: 7 (2) | I10: 8 (1) | L10: 8.5 | M10: 9.0 | N10: 9.0 | O10: HH
A11: 2 | B11: K0T1 | C11: 1 | E11: 5.5 | F11: 7.5 | H11: 8 | I11: 6 (2) | L11: 7.5 | M11: 9.0 | N11: 7.0 | O11: 9.0
C12: 2 | E12: 10 | F12: 5 | H12: 7 (1) | I12: 6 (2) | L12: 8.0 | M12: 9.0 | N12: 8.0 | O12: 9.0
C13: 3 | E13: 4.5 | F13: 6 | H13: 8 (2) | I13: 6 (2) | L13: 8.0 | M13: 9.0 | N13: 7.5 | O13: 8.0
A14: 3 | B14: K0T2 | C14: 1 | E14: 4.5 | F14: 5.5 | H14: 5 (2) | I14: 9 (1) | L14: 6.0 | M14: 8.0 | N14: 5.0 | O14: 8.0
C15: 2 | E15: 4.5 | F15: 8.5 | H15: 8 (1) | I15: 6 (3) | L15: 7.5 | M15: 9.0 | N15: 7.5 | O15: 8.5 | R15: 1 ULAT
C16: 3 | E16: 4.5 | F16: 11 | H16: 5 (3) | I16: 6 (3) | L16: 8.0 | M16: 9.0 | N16: 7.0 | O16: 8.5 | Q16: 2 MATI
A17: 4 | B17: K1T0 | C17: 1 | E17: 3.5 | F17: 5 | H17: 9 (1) | I17: 8 (1) | L17: 6.0 | M17: 6.5 | N17: 6.0 | O17: 6.5
C18: 2 | E18: 5 | F18: 5.5 | H18: 10 (1) | I18: 9 (3) | L18: 6.0 | M18: 6.5 | N18: 5.0 | O18: 6.5 | R18: BUNGA
C19: 3 | E19: 6 | F19: 6 | H19: 9 (1) | I19: 8 (1) | L19: 6.0 | M19: 6.5 | N19: 6.0 | O19: 6.5
A20: 5 | B20: K1T1 | C20: 1 | E20: 5.5 | F20: 5.5 | H20: 9 | I20: 7 (2) | L20: 5.5 | M20: 6.0 | N20: 5.5 | O20: 6.0 | R20: ULAT
C21: 2 | E21: 5 | F21: 9.5 | H21: 8 (1) | I21: 6 (2) | L21: 5.5 | M21: 6.0 | N21: 5.5 | O21: 6.0
C22: 3 | E22: 5 | F22: 7 | H22: 9 | I22: 9 | L22: 5.0 | M22: 6.5 | N22: 5.5 | O22: 6.0
A23: 6 | B23: K1T2 | C23: 1 | E23: 6 | F23: 7.5 | H23: 7 (2) | I23: 6 (2) | L23: 5.0 | M23: 6.5 | N23: 5.0 | O23: 6.5
C24: 2 | E24: 7 | F24: 5.5 | H24: 9 (1) | I24: 8 (1) | L24: 5.0 | M24: 6.5 | N24: 5.0 | O24: 6.0
C25: 3 | E25: 3.5 | F25: 4 | H25: 9 | I25: 10 | L25: 5.0 | M25: 6.5 | N25: 5.0 | O25: 5.5
A26: 7 | B26: K2T0 | C26: 1 | E26: 5 | F26: 7 | H26: 8 | I26: 8 (1) | L26: 5.5 | M26: 6.0 | N26: 5.0 | O26: 6.0
C27: 2 | E27: 4.5 | F27: 4 | H27: 9 | I27: 10 (1) | L27: 5.0 | M27: 5.5 | N27: 5.0 | O27: 5.5
C28: 3 | E28: 4 | F28: 5.5 | H28: 11 | I28: 9 (1) | L28: 5.0 | M28: 5.5 | N28: 5.5 | O28: 6.0
A29: 8 | B29: K2T1 | C29: 1 | E29: 3.5 | F29: 7 | H29: 9 | I29: 9 | L29: 5.0 | M29: 6.0 | N29: 5.5 | O29: 6.0
C30: 2 | E30: 7.5 | F30: 4.5 | H30: 10 | I30: 8 | L30: 5.0 | M30: 5.5 | N30: 4.5 | O30: 5.0
C31: 3 | E31: 4.5 | F31: 9.5 | H31: 8 (1) | I31: 10 | L31: 5.0 | M31: 5.5 | N31: 5.0 | O31: 5.5
A32: 9 | B32: K2T2 | C32: 1 | E32: 6.5 | F32: 7.5 | H32: 8 | I32: 8 (2) | L32: 4.5 | M32: 5.0 | N32: 4.5 | O32: 5.0
C33: 2 | E33: 6 | F33: 5.5 | H33: 8 (1) | I33: 9 | L33: 5.0 | M33: 5.5 | N33: 5.0 | O33: 5.5
C34: 3 | E34: 5.5 | F34: 5 | H34: 7 (1) | I34: 10 | L34: 4.5 | M34: 5.0 | N34: 5.5 | O34: 6.0

Sheet Sheet8
B1: Hari/Tanggal | C1: : | D1: Jumat, 6 Desember 2025
B2: Suhu | C2: :
B3: Pengamatan ke | C3: : | D3: 8
A5: No. | B5: Kode Tanaman | C5: Ulangan | D5: Tinggi Tanaman (cm) | G5: Jumlah daun | J5: ph Tanah | P5: Keparahan penyakit | S5: Catatan
D6: Tanaman ke- | G6: Tanaman ke- | J6: Tanaman ke- | P6: Tanaman ke-
D7: 1 | E7: 2 | F7: 3 | G7: 1 | H7: 2 | I7: 3 | J7: 1 (atas) | K7: 1 (bawah) | L7: 2 (atas) | M7: 2 (bawah) | N7: 3 (atas) | O7: 3 (bawah) | P7: 1 | Q7: 2 | R7: 3
A8: 1 | B8: K0T0 | C8: 1 | E8: 4.5 | F8: 4.5 | H8: 5 (3) | I8: 5 (2) | L8: 8.5 | M8: 9.0 | N8: 8.5 | O8: 9.0
C9: 2 | E9: 7.5 | F9: 6 | H9: 6 (2) | I9: 8 (2) | L9: 8.5 | M9: 9.0 | N9: 8.0 | O9: 9.0
C10: 3 | E10: 8.5 | F10: 7.5 | H10: 8 (2) | I10: 9 (1) | L10: 7.5 | M10: 9.0 | N10: 8.5 | O10: 9.0 | R10: BUNGA
A11: 2 | B11: K0T1 | C11: 1 | E11: 5.5 | F11: 7.5 | H11: 7 (1) | I11: 6 (3) | L11: 7.5 | M11: 9.0 | N11: 7.0 | O11: 9.0
C12: 2 | E12: 10 | F12: 5 | H12: 7 (1) | I12: 6 (2) | L12: 8.0 | M12: 9.0 | N12: 8.0 | O12: 9.0
C13: 3 | E13: 4.5 | F13: 6 | H13: 8 (2) | I13: 6 (2) | L13: 7.5 | M13: 9.0 | N13: 7.5 | O13: 8.0
A14: 3 | B14: K0T2 | C14: 1 | E14: 4.5 | F14: 5.5 | H14: 5 (2) | I14: 8 (2) | L14: 6.0 | M14: 8.0 | N14: 5.0 | O14: 8.0
C15: 2 | E15: 4.5 | F15: 8.5 | H15: 7 (2) | I15: 5 (4) | L15: 5.0 | M15: 9.0 | N15: 5.5 | O15: 8.5 | R15: 1 ULAT
C16: 3 | E16: 4.5 | F16: 11 | H16: 4 (4) | I16: 7 (3) | L16: 5.0 | M16: 9.0 | N16: 5.0 | O16: 8.5 | Q16: 2 MATI
A17: 4 | B17: K1T0 | C17: 1 | E17: 3.5 | F17: 5 | H17: 10 (1) | I17: 9 (1) | L17: 5.0 | M17: 6.5 | N17: 5.0 | O17: 6.5
C18: 2 | E18: 5 | F18: 5.5 | H18: 9 (2) | I18: 17 (4) | L18: 5.0 | M18: 6.5 | N18: 5.0 | O18: 6.5 | R18: BUNGA
C19: 3 | E19: 6 | F19: 6 | H19: 8 (2) | I19: 8 (1) | L19: 5.0 | M19: 6.5 | N19: 5.0 | O19: 6.5
A20: 5 | B20: K1T1 | C20: 1 | E20: 5.5 | F20: 5.5 | H20: 8 (1) | I20: 6 (3) | L20: 5.0 | M20: 6.0 | N20: 5.0 | O20: 6.0 | R20: ULAT
C21: 2 | E21: 5 | F21: 9.5 | H21: 9 (1) | I21: 6 (2) | L21: 5.0 | M21: 6.0 | N21: 5.0 | O21: 6.0
C22: 3 | E22: 5 | F22: 7 | H22: 8 (1) | I22: 10 | L22: 5.0 | M22: 6.5 | N22: 5.5 | O22: 6.0
A23: 6 | B23: K1T2 | C23: 1 | E23: 6 | F23: 7.5 | H23: 8 (2) | I23: 6 (2) | L23: 5.0 | M23: 6.5 | N23: 5.0 | O23: 6.5
C24: 2 | E24: 7 | F24: 5.5 | H24: 10 (1) | I24: 9 (1) | L24: 5.0 | M24: 6.5 | N24: 5.0 | O24: 6.0
C25: 3 | E25: 3.5 | F25: 4 | H25: 10 | I25: 10 (1) | L25: 5.0 | M25: 6.5 | N25: 5.0 | O25: 5.5
A26: 7 | B26: K2T0 | C26: 1 | E26: 5 | F26: 7 | H26: 8 | I26: 8 (2) | L26: 5.5 | M26: 6.0 | N26: 5.0 | O26: 6.0
C27: 2 | E27: 4.5 | F27: 4 | H27: 9 (1) | I27: 11 (2) | L27: 5.0 | M27: 5.5 | N27: 5.0 | O27: 5.5
C28: 3 | E28: 4 | F28: 5.5 | H28: 11 | I28: 9 (2) | L28: 5.0 | M28: 5.5 | N28: 5.0 | O28: 6.0
A29: 8 | B29: K2T1 | C29: 1 | E29: 3.5 | F29: 7 | H29: 10 | I29: 10 | L29: 5.0 | M29: 6.0 | N29: 5.5 | O29: 6.0
C30: 2 | E30: 7.5 | F30: 4.5 | H30: 10 (1) | I30: 8 | L30: 5.0 | M30: 5.5 | N30: 4.5 | O30: 5.0
C31: 3 | E31: 4.5 | F31: 9.5 | H31: 9 (1) | I31: 12 | L31: 5.0 | M31: 5.5 | N31: 5.0 | O31: 5.5
A32: 9 | B32: K2T2 | C32: 1 | E32: 6.5 | F32: 7.5 | H32: 8 (1) | I32: 10 (2) | L32: 4.5 | M32: 5.0 | N32: 4.5 | O32: 5.0
C33: 2 | E33: 6 | F33: 5.5 | H33: 8 (2) | I33: 9 (2) | L33: 5.0 | M33: 5.5 | N33: 5.0 | O33: 5.5
C34: 3 | E34: 5.5 | F34: 5 | H34: 8 (1) | I34: 11 (1) | L34: 4.5 | M34: 5.0 | N34: 5.5 | O34: 6.0

Sheet Sheet9
B1: Hari/Tanggal | C1: : | D1: Minggu, 8 Desember 2025
B2: Suhu | C2: :
B3: Pengamatan ke | C3: : | D3: 9
A5: No. | B5: Kode Tanaman | C5: Ulangan | D5: Tinggi Tanaman (cm) | G5: Jumlah daun | J5: ph Tanah | P5: Keparahan penyakit | S5: Catatan
D6: Tanaman ke- | G6: Tanaman ke- | J6: Tanaman ke- | P6: Tanaman ke-
D7: 1 | E7: 2 | F7: 3 | G7: 1 | H7: 2 | I7: 3 | J7: 1 (atas) | K7: 1 (bawah) | L7: 2 (atas) | M7: 2 (bawah) | N7: 3 (atas) | O7: 3 (bawah) | P7: 1 | Q7: 2 | R7: 3
A8: 1 | B8: K0T0 | C8: 1 | E8: 4.5 | F8: 4.5 | H8: 7 (3) | I8: 5 (2) | L8: 8.5 | M8: 9.0 | N8: 8.5 | O8: 9.0
C9: 2 | E9: 8 | F9: 6 | H9: 6 (2) | I9: 8 (2) | L9: 7.5 | M9: 9.0 | N9: 8.0 | O9: 9.0
C10: 3 | E10: 8.5 | F10: 7.5 | H10: 9 (2) | I10: 11 (2) | L10: 7.5 | M10: 9.0 | N10: 8.5 | O10: 9.0 | R10: BUNGA
A11: 2 | B11: K0T1 | C11: 1 | E11: 5.5 | F11: 7.5 | H11: 6 (2) | I11: 6 (3) | L11: 7.5 | M11: 9.0 | N11: 7.0 | O11: 9.0
C12: 2 | E12: 10 | F12: 5 | H12: 6 (2) | I12: 6 (3) | L12: 8.0 | M12: 9.0 | N12: 8.0 | O12: 9.0
C13: 3 | E13: 4.5 | F13: 6 | H13: 7 (3) | I13: 6 (2) | L13: 7.5 | M13: 9.0 | N13: 7.5 | O13: 8.0
A14: 3 | B14: K0T2 | C14: 1 | E14: 4.5 | F14: 5.5 | H14: 5 (3) | I14: 6 (4) | L14: 6.0 | M14: 8.0 | N14: 5.0 | O14: 8.0
C15: 2 | E15: 4.5 | F15: 8.5 | H15: 8 (8) | I15: 4 (5) | L15: 5.0 | M15: 9.0 | N15: 5.5 | O15: 8.5 | R15: 1 ULAT
C16: 3 | E16: 4.5 | F16: 11 | H16: 4 (5) | I16: 6 (4) | L16: 5.0 | M16: 9.0 | N16: 5.0 | O16: 8.5
A17: 4 | B17: K1T0 | C17: 1 | E17: 3.5 | F17: 5 | H17: 9 (2) | I17: 10 (2) | L17: 5.0 | M17: 6.5 | N17: 5.0 | O17: 6.5
C18: 2 | E18: 5 | F18: 5.5 | H18: 10 (2) | I18: 19 (5) | L18: 5.0 | M18: 6.5 | N18: 5.0 | O18: 6.5 | R18: BUNGA
C19: 3 | E19: 6 | F19: 6 | H19: 7 (3) | I19: 8 (2) | L19: 5.0 | M19: 6.5 | N19: 5.0 | O19: 6.5
A20: 5 | B20: K1T1 | C20: 1 | E20: 5.5 | F20: 5.5 | H20: 8 (2) | I20: 6 (3) | L20: 5.0 | M20: 6.0 | N20: 5.0 | O20: 6.0 | R20: ULAT
C21: 2 | E21: 5 | F21: 9.5 | H21: 9 (2) | I21: 8 (2) | L21: 5.0 | M21: 6.0 | N21: 5.0 | O21: 6.0
C22: 3 | E22: 5 | F22: 7 | H22: 8 (3) | I22: 11 | L22: 5.0 | M22: 6.5 | N22: 5.5 | O22: 6.0
A23: 6 | B23: K1T2 | C23: 1 | E23: 6 | F23: 7.5 | H23: 9 (2) | I23: 7 (3) | L23: 5.0 | M23: 6.5 | N23: 5.0 | O23: 6.5
C24: 2 | E24: 7 | F24: 5.5 | H24: 10 (2) | I24: 9 (2) | L24: 5.0 | M24: 6.5 | N24: 5.0 | O24: 6.0
C25: 3 | E25: 3.5 | F25: 4 | H25: 8 (2) | I25: 11 (2) | L25: 5.0 | M25: 6.5 | N25: 5.0 | O25: 5.5
A26: 7 | B26: K2T0 | C26: 1 | E26: 5 | F26: 7 | H26: 10 (1) | I26: 9 (2) | L26: 5.5 | M26: 6.0 | N26: 5.0 | O26: 6.0
C27: 2 | E27: 4.5 | F27: 4 | H27: 10 (1) | I27: 14 (2) | L27: 5.0 | M27: 5.5 | N27: 5.0 | O27: 5.5
C28: 3 | E28: 4 | F28: 5.5 | H28: 11 (1) | I28: 9 (3) | L28: 5.0 | M28: 5.5 | N28: 5.0 | O28: 6.0
A29: 8 | B29: K2T1 | C29: 1 | E29: 3.5 | F29: 7 | H29: 11 | I29: 11 (1) | L29: 5.0 | M29: 6.0 | N29: 5.5 | O29: 6.0
C30: 2 | E30: 7.5 | F30: 4.5 | H30: 10 (1) | I30: 10 | L30: 5.0 | M30: 5.5 | N30: 4.5 | O30: 5.0
C31: 3 | E31: 4.5 | F31: 9.5 | H31: 10 (1) | I31: 12 | L31: 5.0 | M31: 5.5 | N31: 5.0 | O31: 5.5
A32: 9 | B32: K2T2 | C32: 1 | E32: 6.5 | F32: 7.5 | H32: 7 (2) | I32: 12 (3) | L32: 4.5 | M32: 5.0 | N32: 4.5 | O32: 5.0
C33: 2 | E33: 6 | F33: 5.5 | H33: 10 (2) | I33: 10 (2) | L33: 5.0 | M33: 5.5 | N33: 5.0 | O33: 5.5
C34: 3 | E34: 5.5 | F34: 5 | H34: 7 (2) | I34: 12 (1) | L34: 4.5 | M34: 5.0 | N34: 5.5 | O34: 6.0

Sheet 0-19
A1: No. | B1: Kode Tanaman | C1: Ulangan | D1: ph (hari ke-0) | E1: ph (hari ke-19) | F1: TPC (hari ke-0) | R1: TPC (hari ke-19) | AD1: Al (hari ke-0) | AE1: Al (hari ke-19) | AF1: Al (hari ke-0) | AG1: Al (hari ke-19) | AH1: 0-awal | AI1: 19-awal | AJ1: 0-19 | AK1: AWAL | AL1: rata2 | AM1: rata2 | AN1: rata2 | AO1: rata2 tanaman | AP1: rata2 tanah 0 | AQ1: rata2 tanah 19
D2: Tanaman ke- | E2: Tanaman ke- | F2: Tanaman ke- | R2: Tanaman ke- | AD2: Tanaman | AE2: Tanaman | AF2: Tanah | AG2: Tanah
D3: 1 | E3: 1 | F3: 6 | H3: 7 | J3: 8 | R3: 6 | T3: 7 | V3: 8 | AD3: 1 | AE3: 1 | AF3: 1 | AG3: 1
A4: 1 | B4: K0T0 | C4: 1 | D4: 9.96 | E4: 8.79 | F4: 55 | G4: 42 | H4: 8 | I4: 4 | J4: 2 | K4: 1 | L4: 5,5 x 10^7 | M4: 4,2 x 10^7 | N4: 8 x 10^7 | O4: 4 x 10^7 | P4: 2 x 10^8 | Q4: 1 x 10^8 | R4: 3 | S4: 5 | T4: 79 | U4: 49 | V4: 3 | W4: 45 | X4: 3 x 10^6 | Y4: 5 x 10^6 | Z4: 7,9 x 10^8 | AA4: 4,9 x 10^8 | AB4: 3 x 10^8 | AC4: 4,5 x 10^9 | AD4: 0.035 | AE4: 0.487 | AF4: 0.08 | AG4: 0.068 | AH4: =AK4-D4 -> 0.24 | AI4: =AK4-E4 -> 1.41 | AJ4: =D4-E4 -> 1.17 | AK4: 10.2 | AL4: =AVERAGE(AH4,AH5,AH6) -> 0.42 | AM4: =AVERAGE(AI4,AI5,AI6) -> 1.2166667 | AN4: =AVERAGE(AJ4,AJ5,AJ6) -> 0.79666667 | AO4: =AVERAGE(AE4,AE5,AE6) -> 0.35033333 | AP4: =AVERAGE(AF4,AF5,AF6) -> 0.073666667 | AQ4: =AVERAGE(AG4,AG5,AG6) -> 0.097333333
C5: 2 | D5: 9.71 | E5: 9.09 | AE5: 0.29 | AF5: 0.06 | AG5: 0.085 | AH5: =AK5-D5 -> 0.49 | AI5: =AK5-E5 -> 1.11 | AJ5: =D5-E5 -> 0.62 | AK5: 10.2
C6: 3 | D6: 9.67 | E6: 9.07 | AE6: 0.274 | AF6: 0.081 | AG6: 0.139 | AH6: =AK6-D6 -> 0.53 | AI6: =AK6-E6 -> 1.13 | AJ6: =D6-E6 -> 0.6 | AK6: 10.2
A7: 2 | B7: K0T1 | C7: 1 | D7: 9.88 | E7: 8.94 | F7: 26 zb= 1 | G7: 32 | H7: 6 | I7: 4 | J7: 2 | K7: 1 | L7: 2,6 x 10^7 | M7: 3,2 x 10^7 | N7: 6 x 10^7 | O7: 4 x 10^7 | P7: 2 x 10^8 | Q7: 1 x 10^8 | R7: 2 | S7: 2 | T7: 15 | U7: 2 | V7: 2 | W7: 3 | X7: 2 x 10^6 | Y7: 2 x 10^6 | Z7: 1,5 x 10^8 | AA7: 2 x 10^7 | AB7: 2 x 10^8 | AC7: 3 x 10^8 | AD7: 0.139 | AE7: 0.421 | AF7: 0.078 | AG7: 0.103 | AH7: =AK7-D7 -> 0.32 | AI7: =AK7-E7 -> 1.26 | AJ7: =D7-E7 -> 0.94 | AK7: 10.2 | AL7: =AVERAGE(AH7,AH8,AH9) -> 0.70333333 | AM7: =AVERAGE(AI7,AI8,AI9) -> 1.36 | AN7: =AVERAGE(AJ7,AJ8,AJ9) -> 0.65666667 | AO7: =AVERAGE(AE7,AE8,AE9) -> 0.16766667 | AP7: =AVERAGE(AF7,AF8,AF9) -> 0.089666667 | AQ7: =AVERAGE(AG7,AG8,AG9) -> 0.085
C8: 2 | D8: 9.54 | E8: 8.82 | AE8: 0.013 | AF8: 0.112 | AG8: 0.052 | AH8: =AK8-D8 -> 0.66 | AI8: =AK8-E8 -> 1.38 | AJ8: =D8-E8 -> 0.72 | AK8: 10.2
C9: 3 | D9: 9.07 | E9: 8.76 | AE9: 0.069 | AF9: 0.079 | AG9: 0.1 | AH9: =AK9-D9 -> 1.13 | AI9: =AK9-E9 -> 1.44 | AJ9: =D9-E9 -> 0.31 | AK9: 10.2
A10: 3 | B10: K0T2 | C10: 1 | D10: 10.17 | E10: 8.64 | F10: 82 zb= 1 | G10: 71 | H10: 9 | I10: 4 | J10: 1 | K10: 2 | L10: 8,2 x 10^7 | M10: 7,1 x 10^7 | N10: 9 x 10^7 | O10: 4 x 10^7 | P10: 1 x 10^8 | Q10: 2 x 10^8 | R10: 22 | S10: 19 | T10: 7 | U10: 12 | V10: 3 | W10: 5 | X10: 2,2 x 10^7 | Y10: 1,9 x 10^7 | Z10: 7 x 10^7 | AA10: 1,2 x 10^8 | AB10: 3 x 10^8 | AC10: 5 x 10^8 | AD10: 0.428 | AE10: 0.158 | AF10: 0.111 | AG10: 0.11 | AH10: =AK10-D10 -> 0.03 | AI10: =AK10-E10 -> 1.56 | AJ10: =D10-E10 -> 1.53 | AK10: 10.2 | AL10: =AVERAGE(AH10,AH11,AH12) -> 0.33 | AM10: =AVERAGE(AI10,AI11,AI12) -> 1.4933333 | AN10: =AVERAGE(AJ10,AJ11,AJ12) -> 1.1633333 | AO10: =AVERAGE(AE10,AE11,AE12) -> 0.10433333 | AP10: =AVERAGE(AF10,AF11,AF12) -> 0.1 | AQ10: =AVERAGE(AG10,AG11,AG12) -> 0.11433333
C11: 2 | D11: 9.71 | E11: 8.85 | AE11: 0.104 | AF11: 0.121 | AG11: 0.13 | AH11: =AK11-D11 -> 0.49 | AI11: =AK11-E11 -> 1.35 | AJ11: =D11-E11 -> 0.86 | AK11: 10.2
C12: 3 | D12: 9.73 | E12: 8.63 | AE12: 0.051 | AF12: 0.068 | AG12: 0.103 | AH12: =AK12-D12 -> 0.47 | AI12: =AK12-E12 -> 1.57 | AJ12: =D12-E12 -> 1.1 | AK12: 10.2
A13: 4 | B13: K1T0 | C13: 1 | D13: 9.64 | E13: 8.73 | F13: 8 | G13: 8 | H13: 3 | I13: 2 | J13: 1 | K13: 1 | L13: 8 x 10^6 | M13: 8 x 10^6 | N13: 3 x 10^7 | O13: 2 x 10^7 | P13: 1 x 10^8 | Q13: 1 x 10^8 | R13: 175 | S13: 155 | T13: 26 | U13: 48 | V13: 17 | W13: 54 | X13: 1,75 x 10^8 | Y13: 1,55 x 10^8 | Z13: 2,6 x 10^8 | AA13: 4,8 x 10^8 | AB13: 1,7 x 10^9 | AC13: 5,4 x 10^9 | AD13: 0.534 | AE13: 0.293 | AF13: 0.09 | AG13: 0.127 | AH13: =AK13-D13 -> 0.56 | AI13: =AK13-E13 -> 1.47 | AJ13: =D13-E13 -> 0.91 | AK13: 10.2 | AL13: =AVERAGE(AH13,AH14,AH15) -> 0.57666667 | AM13: =AVERAGE(AI13,AI14,AI15) -> 1.45 | AN13: =AVERAGE(AJ13,AJ14,AJ15) -> 0.87333333 | AO13: =AVERAGE(AE13,AE14,AE15) -> 0.239 | AP13: =AVERAGE(AF13,AF14,AF15) -> 0.105 | AQ13: =AVERAGE(AG13,AG14,AG15) -> 0.089666667
C14: 2 | D14: 9.68 | E14: 8.63 | AE14: 0.22 | AF14: 0.113 | AG14: 0.077 | AH14: =AK14-D14 -> 0.52 | AI14: =AK14-E14 -> 1.57 | AJ14: =D14-E14 -> 1.05 | AK14: 10.2
C15: 3 | D15: 9.55 | E15: 8.89 | AE15: 0.204 | AF15: 0.112 | AG15: 0.065 | AH15: =AK15-D15 -> 0.65 | AI15: =AK15-E15 -> 1.31 | AJ15: =D15-E15 -> 0.66 | AK15: 10.2
A16: 5 | B16: K1T1 | C16: 1 | D16: 9.73 | E16: 8.63 | F16: 6 | G16: 7 | H16: 4 | I16: 3 | J16: 2 | K16: 2 | L16: 6 x 10^6 | M16: 7 x 10^6 | N16: 4 x 10^7 | O16: 3 x 10^7 | P16: 2 x 10^8 | Q16: 2 x 10^8 | R16: 189 | S16: 27 | T16: 35 | U16: 15 | V16: 6 | W16: 3 | X16: 1,89 x 10^8 | Y16: 2,7 x 10^7 | Z16: 3,5 x 10^8 | AA16: 1,5 x 10^8 | AB16: 6 x 10^8 | AC16: 3 x 10^8 | AD16: 0.655 | AE16: 0.17 | AF16: 0.104 | AG16: 0.098 | AH16: =AK16-D16 -> 0.47 | AI16: =AK16-E16 -> 1.57 | AJ16: =D16-E16 -> 1.1 | AK16: 10.2 | AL16: =AVERAGE(AH16,AH17,AH18) -> 0.63666667 | AM16: =AVERAGE(AI16,AI17,AI18) -> 1.5433333 | AN16: =AVERAGE(AJ16,AJ17,AJ18) -> 0.90666667 | AO16: =AVERAGE(AE16,AE17,AE18) -> 0.18166667 | AP16: =AVERAGE(AF16,AF17,AF18) -> 0.10533333 | AQ16: =AVERAGE(AG16,AG17,AG18) -> 0.101
C17: 2 | D17: 9.48 | E17: 8.67 | AE17: 0.165 | AF17: 0.116 | AG17: 0.11 | AH17: =AK17-D17 -> 0.72 | AI17: =AK17-E17 -> 1.53 | AJ17: =D17-E17 -> 0.81 | AK17: 10.2
C18: 3 | D18: 9.48 | E18: 8.67 | AE18: 0.21 | AF18: 0.096 | AG18: 0.095 | AH18: =AK18-D18 -> 0.72 | AI18: =AK18-E18 -> 1.53 | AJ18: =D18-E18 -> 0.81 | AK18: 10.2
A19: 6 | B19: K1T2 | C19: 1 | D19: 9.46 | E19: 8.72 | F19: 40 | G19: 33 | H19: 3 | I19: 2 | J19: 1 | K19: 1 | L19: 4 x 10^7 | M19: 3,3 x 10^7 | N19: 3 x 10^7 | O19: 2 x 10^7 | P19: 1 x 10^8 | Q19: 1 x 10^8 | R19: 83 | S19: 35 | T19: 18 | U19: 12 | V19: 5 | W19: 7 | X19: 8,3 x 10^7 | Y19: 3,5 x 10^7 | Z19: 1,8 x 10^8 | AA19: 1,2 x 10^8 | AB19: 5 x 10^8 | AC19: 7 x 10^8 | AD19: 0.719 | AE19: 0.164 | AF19: 0.101 | AG19: 0.082 | AH19: =AK19-D19 -> 0.74 | AI19: =AK19-E19 -> 1.48 | AJ19: =D19-E19 -> 0.74 | AK19: 10.2 | AL19: =AVERAGE(AH19,AH20,AH21) -> 0.73666667 | AM19: =AVERAGE(AI19,AI20,AI21) -> 1.5233333 | AN19: =AVERAGE(AJ19,AJ20,AJ21) -> 0.78666667 | AO19: =AVERAGE(AE19,AE20,AE21) -> 0.14633333 | AP19: =AVERAGE(AF19,AF20,AF21) -> 0.10933333 | AQ19: =AVERAGE(AG19,AG20,AG21) -> 0.095
C20: 2 | D20: 9.26 | E20: 8.54 | AE20: 0.115 | AF20: 0.119 | AG20: 0.127 | AH20: =AK20-D20 -> 0.94 | AI20: =AK20-E20 -> 1.66 | AJ20: =D20-E20 -> 0.72 | AK20: 10.2
C21: 3 | D21: 9.67 | E21: 8.77 | AE21: 0.16 | AF21: 0.108 | AG21: 0.076 | AH21: =AK21-D21 -> 0.53 | AI21: =AK21-E21 -> 1.43 | AJ21: =D21-E21 -> 0.9 | AK21: 10.2
A22: 7 | B22: K2T0 | C22: 1 | D22: 9.29 | E22: 8.36 | F22: 89 | G22: 84 | H22: 36 | I22: 50 zb= 2 | J22: 1 | K22: 3 | L22: 8,9 x 10^7 | M22: 8,4 x 10^7 | N22: 3,6 x 10^8 | O22: 5 x 10^8 | P22: 1 x 10^8 | Q22: 3 x 10^8 | R22: 137 | S22: 49 | T22: 122 | U22: 64 | V22: 4 | W22: 2 | X22: 1,37 x 10^8 | Y22: 4,9 x 10^7 | Z22: 1,22 x 10^9 | AA22: 6,4 x 10^8 | AB22: 4 x 10^8 | AC22: 2 x 10^8 | AD22: 0.397 | AE22: 0.116 | AF22: 0.057 | AG22: 0.084 | AH22: =AK22-D22 -> 0.91 | AI22: =AK22-E22 -> 1.84 | AJ22: =D22-E22 -> 0.93 | AK22: 10.2 | AL22: =AVERAGE(AH22,AH23,AH24) -> 0.80666667 | AM22: =AVERAGE(AI22,AI23,AI24) -> 1.6766667 | AN22: =AVERAGE(AJ22,AJ23,AJ24) -> 0.87 | AO22: =AVERAGE(AE22,AE23,AE24) -> 0.184 | AP22: =AVERAGE(AF22,AF23,AF24) -> 0.071 | AQ22: =AVERAGE(AG22,AG23,AG24) -> 0.10066667
C23: 2 | D23: 9.43 | E23: 8.69 | AE23: 0.166 | AF23: 0.054 | AG23: 0.09 | AH23: =AK23-D23 -> 0.77 | AI23: =AK23-E23 -> 1.51 | AJ23: =D23-E23 -> 0.74 | AK23: 10.2
C24: 3 | D24: 9.46 | E24: 8.52 | AE24: 0.27 | AF24: 0.102 | AG24: 0.128 | AH24: =AK24-D24 -> 0.74 | AI24: =AK24-E24 -> 1.68 | AJ24: =D24-E24 -> 0.94 | AK24: 10.2
A25: 8 | B25: K2T1 | C25: 1 | D25: 9.3 | E25: 8.7 | F25: 2 | G25: 2 | H25: 0 | I25: 0 | J25: 0 | K25: 0 | L25: 2 x 10^6 | M25: 2 x 10^6 | N25: 0 | O25: 0 | P25: =J25*$J$3 -> 0 | Q25: =K25*$J$3 -> 0 | R25: 35 | S25: 5 | T25: 0 | U25: 6 | V25: 0 | W25: 0 | X25: 3,5 x 10^7 | Y25: 5 x 10^6 | Z25: 0 | AA25: 6 x 10^7 | AB25: =V25*$V$3 -> 0 | AC25: 0 | AD25: 0.638 | AE25: 0.493 | AF25: 0.138 | AG25: 0.064 | AH25: =AK25-D25 -> 0.9 | AI25: =AK25-E25 -> 1.5 | AJ25: =D25-E25 -> 0.6 | AK25: 10.2 | AL25: =AVERAGE(AH25,AH26,AH27) -> 0.75 | AM25: =AVERAGE(AI25,AI26,AI27) -> 1.5233333 | AN25: =AVERAGE(AJ25,AJ26,AJ27) -> 0.77333333 | AO25: =AVERAGE(AE25,AE26,AE27) -> 0.56733333 | AP25: =AVERAGE(AF25,AF26,AF27) -> 0.10166667 | AQ25: =AVERAGE(AG25,AG26,AG27) -> 0.097666667
C26: 2 | D26: 9.66 | E26: 8.67 | AE26: 0.629 | AF26: 0.102 | AG26: 0.124 | AH26: =AK26-D26 -> 0.54 | AI26: =AK26-E26 -> 1.53 | AJ26: =D26-E26 -> 0.99 | AK26: 10.2
C27: 3 | D27: 9.39 | E27: 8.66 | AE27: 0.58 | AF27: 0.065 | AG27: 0.105 | AH27: =AK27-D27 -> 0.81 | AI27: =AK27-E27 -> 1.54 | AJ27: =D27-E27 -> 0.73 | AK27: 10.2
A28: 9 | B28: K2T2 | C28: 1 | D28: 9.29 | E28: 8.67 | F28: 169 | G28: ~ | H28: ~ | I28: ~ | J28: 0 | K28: 0 | L28: 1,69 x 10^8 | M28: =(G28*G27)/1 -> #VALUE! | N28: =(H28*H27)/1 -> #VALUE! | O28: =(I28*I27)/1 -> #VALUE! | P28: =J28*$J$3 -> 0 | Q28: =K28*$J$3 -> 0 | R28: 7 | S28: 11 | T28: 10 | U28: 5 | V28: ~ | W28: 1 | X28: 7 x 10^6 | Y28: 1,1 x 10^7 | Z28: 1 x 10^8 | AA28: 5 x 10^7 | AB28: =V28*$V$3 -> #VALUE! | AC28: 1 x 10^8 | AD28: 0.712 | AE28: 0.257 | AF28: 0.08 | AG28: 0.086 | AH28: =AK28-D28 -> 0.91 | AI28: =AK28-E28 -> 1.53 | AJ28: =D28-E28 -> 0.62 | AK28: 10.2 | AL28: =AVERAGE(AH28,AH29,AH30) -> 1.0366667 | AM28: =AVERAGE(AI28,AI29,AI30) -> 1.42 | AN28: =AVERAGE(AJ28,AJ29,AJ30) -> 0.38333333 | AO28: =AVERAGE(AE28,AE29,AE30) -> 0.351 | AP28: =AVERAGE(AF28,AF29,AF30) -> 0.064333333 | AQ28: =AVERAGE(AG28,AG29,AG30) -> 0.10633333
C29: 2 | D29: 8.96 | E29: 8.57 | AE29: 0.305 | AF29: 0.036 | AG29: 0.146 | AH29: =AK29-D29 -> 1.24 | AI29: =AK29-E29 -> 1.63 | AJ29: =D29-E29 -> 0.39 | AK29: 10.2
C30: 3 | D30: 9.24 | E30: 9.1 | AE30: 0.491 | AF30: 0.077 | AG30: 0.087 | AH30: =AK30-D30 -> 0.96 | AI30: =AK30-E30 -> 1.1 | AJ30: =D30-E30 -> 0.14 | AK30: 10.2

Sheet Sheet10
B1: Hari/Tanggal | C1: : | D1: Selasa, 10 Desember 2025 (PANEN)
B2: Suhu | C2: :
B3: Pengamatan ke | C3: : | D3: 10
A5: No. | B5: Kode Tanaman | C5: Ulangan | D5: Tinggi Tanaman (cm) | G5: Jumlah daun | J5: ph Tanah | P5: Keparahan penyakit | S5: Catatan
D6: Tanaman ke- | G6: Tanaman ke- | J6: Tanaman ke- | P6: Tanaman ke-
D7: 1 | E7: 2 | F7: 3 | G7: 1 | H7: 2 | I7: 3 | J7: 1 (atas) | K7: 1 (bawah) | L7: 2 (atas) | M7: 2 (bawah) | N7: 3 (atas) | O7: 3 (bawah) | P7: 1 | Q7: 2 | R7: 3
A8: 1 | B8: K0T0 | C8: 1 | E8: 4.5 | F8: 4.5 | H8: 6 (4) | I8: 5 (2) | L8: 8.5 | M8: 9.0 | N8: 8.5 | O8: 9.0
C9: 2 | E9: 8 | F9: 6 | H9: 5 (3) | I9: 8 (2) | L9: 7.5 | M9: 9.0 | N9: 8.0 | O9: 9.0
C10: 3 | E10: 8.5 | F10: 7.5 | H10: 8 (3) | I10: 11 (2) | L10: 7.5 | M10: 9.0 | N10: 8.5 | O10: 9.0 | R10: BUNGA
A11: 2 | B11: K0T1 | C11: 1 | E11: 5.5 | F11: 7.5 | H11: 6 (2) | I11: 5 (4) | L11: 7.5 | M11: 9.0 | N11: 7.0 | O11: 9.0
C12: 2 | E12: 10 | F12: 5 | H12: 6 (2) | I12: 6 (3) | L12: 8.0 | M12: 9.0 | N12: 8.0 | O12: 9.0
C13: 3 | E13: 4.5 | F13: 6 | H13: 7 (3) | I13: 6 (2) | L13: 7.5 | M13: 9.0 | N13: 7.5 | O13: 8.0
A14: 3 | B14: K0T2 | C14: 1 | E14: 4.5 | F14: 5.5 | H14: 5 (3) | I14: 6 (4) | L14: 6.0 | M14: 8.0 | N14: 5.0 | O14: 8.0
C15: 2 | E15: 4.5 | F15: 8.5 | H15: 7 (9) | I15: 3 (6) | L15: 5.0 | M15: 9.0 | N15: 5.5 | O15: 8.5 | R15: 1 ULAT
C16: 3 | E16: 4.5 | F16: 11 | H16: 3 (6) | I16: 5 (5) | L16: 5.0 | M16: 9.0 | N16: 5.0 | O16: 8.5
A17: 4 | B17: K1T0 | C17: 1 | E17: 3.5 | F17: 5 | H17: 9 (2) | I17: 10 (2) | L17: 5.0 | M17: 6.5 | N17: 5.0 | O17: 6.5
C18: 2 | E18: 5 | F18: 5.5 | H18: 10 (2) | I18: 19 (6) | L18: 5.0 | M18: 6.5 | N18: 5.0 | O18: 6.5 | R18: BUNGA
C19: 3 | E19: 6 | F19: 6 | H19: 7 (3) | I19: 8 (2) | L19: 5.0 | M19: 6.5 | N19: 5.0 | O19: 6.5
A20: 5 | B20: K1T1 | C20: 1 | E20: 5.5 | F20: 5.5 | H20: 8 (2) | I20: 6 (4) | L20: 5.0 | M20: 6.0 | N20: 5.0 | O20: 6.0 | R20: ULAT
C21: 2 | E21: 5 | F21: 9.5 | H21: 9 (2) | I21: 8 (2) | L21: 5.0 | M21: 6.0 | N21: 5.0 | O21: 6.0
C22: 3 | E22: 5 | F22: 7 | H22: 8 (3) | I22: 11 | L22: 5.0 | M22: 6.5 | N22: 5.5 | O22: 6.0
A23: 6 | B23: K1T2 | C23: 1 | E23: 6 | F23: 7.5 | H23: 9 (2) | I23: 7 (3) | L23: 5.0 | M23: 6.5 | N23: 5.0 | O23: 6.5
C24: 2 | E24: 7 | F24: 5.5 | H24: 10 (2) | I24: 9 (2) | L24: 5.0 | M24: 6.5 | N24: 5.0 | O24: 6.0
C25: 3 | E25: 3.5 | F25: 4 | H25: 8 (2) | I25: 11 (2) | L25: 5.0 | M25: 6.5 | N25: 5.0 | O25: 5.5
A26: 7 | B26: K2T0 | C26: 1 | E26: 5 | F26: 7 | H26: 10 (1) | I26: 9 (2) | L26: 5.5 | M26: 6.0 | N26: 5.0 | O26: 6.0
C27: 2 | E27: 4.5 | F27: 4 | H27: 10 (1) | I27: 14 (2) | L27: 5.0 | M27: 5.5 | N27: 5.0 | O27: 5.5
C28: 3 | E28: 4 | F28: 5.5 | H28: 11 (1) | I28: 9 (3) | L28: 5.0 | M28: 5.5 | N28: 5.0 | O28: 6.0
A29: 8 | B29: K2T1 | C29: 1 | E29: 3.5 | F29: 7 | H29: 11 | I29: 11 (1) | L29: 5.0 | M29: 6.0 | N29: 5.5 | O29: 6.0
C30: 2 | E30: 7.5 | F30: 4.5 | H30: 10 (1) | I30: 10 | L30: 5.0 | M30: 5.5 | N30: 4.5 | O30: 5.0
C31: 3 | E31: 4.5 | F31: 9.5 | H31: 10 (1) | I31: 12 | L31: 5.0 | M31: 5.5 | N31: 5.0 | O31: 5.5
A32: 9 | B32: K2T2 | C32: 1 | E32: 6.5 | F32: 7.5 | H32: 7 (2) | I32: 12 (3) | L32: 4.5 | M32: 5.0 | N32: 4.5 | O32: 5.0
C33: 2 | E33: 6 | F33: 5.5 | H33: 10 (2) | I33: 10 (2) | L33: 5.0 | M33: 5.5 | N33: 5.0 | O33: 5.5
C34: 3 | E34: 5.5 | F34: 5 | H34: 7 (2) | I34: 12 (1) | L34: 4.5 | M34: 5.0 | N34: 5.5 | O34: 6.0

Sheet tpc
A1: TPC (hari ke-0) | Y1: TPC (hari ke-19) | AW1: rata hari 0 | BC1: rata hari 19 | BI1: delta
A2: Tanaman ke- | Y2: Tanaman ke-
A3: 10^6 | C3: 10^7 | E3: 10^8 | G3: 6 | I3: 7 | K3: 8 | M3: 6 | O3: 7 | Q3: 8 | S3: 6 | U3: 7 | W3: 8 | Y3: 6 | AA3: 7 | AC3: 8 | AQ3: 6 | AS3: 7 | AU3: 8 | AW3: 6 | AY3: 7 | BA3: 8 | BC3: 6 | BE3: 7 | BG3: 8 | BI3: 6 | BK3: 7 | BM3: 8
A4: 55 | B4: 42 | C4: 8 | D4: 4 | E4: 2 | F4: 1 | G4: =(A4+B4)/2 -> 48.5 | H4: 4.85 x 10^7 | I4: 8 x 10^7 | J4: 4 x 10^7 | K4: 2 x 10^8 | L4: 1 x 10^8 | M4: =(A4+B4)/2 -> 48.5 | N4: =B4*10^6 -> 42000000 | O4: =C4*10^7 -> 80000000 | P4: =D4*10^7 -> 40000000 | Q4: =E4*10^8 -> 200000000 | R4: =(E4+F4)/2 -> 1.5 | S4: =LOG10(M4) -> 1.6857417 | T4: =LOG10(N4) -> 7.6232493 | U4: =LOG10(O4) -> 7.90309 | V4: =LOG10(P4) -> 7.60206 | W4: =LOG10(Q4) -> 8.30103 | X4: =LOG10(R4) -> 0.17609126 | Y4: 3 | Z4: 5 | AA4: 79 | AB4: 49 | AC4: 3 | AD4: 45 | AE4: =AC4 -> 3 | AF4: 5 | AG4: 7,9 x 10^8 | AH4: 4,9 x 10^8 | AI4: 3 x 10^8 | AJ4: 4,5 x 10^9 | AK4: =Y4*10^6 -> 3000000 | AL4: =Z4*10^6 -> 5000000 | AM4: =AA4*10^7 -> 790000000 | AN4: =AB4*10^7 -> 490000000 | AO4: =AC4*10^8 -> 300000000 | AP4: =AD4*10^8 -> 4500000000 | AQ4: =LOG10(AK4) -> 6.4771213 | AR4: =LOG10(AL4) -> 6.69897 | AS4: =LOG10(AM4) -> 8.8976271 | AT4: =LOG10(AN4) -> 8.6901961 | AU4: =LOG10(AO4) -> 8.4771213 | AV4: =LOG10(AP4) -> 9.6532125 | AW4: =(S4+T4)/2 -> 4.6544955 | AY4: =(U4+V4)/2 -> 7.752575 | BA4: =(W4+X4)/2 -> 4.2385606 | BC4: =(AQ4+AR4)/2 -> 6.5880456 | BE4: =(AS4+AT4)/2 -> 8.7939116 | BG4: =(AU4+AV4)/2 -> 9.0651669 | BI4: =BC4-AW4 -> 1.9335501 | BK4: =BE4-AY4 -> 1.0413366 | BM4: =BG4-BA4 -> 4.8266063
A7: 26 | B7: 32 | C7: 6 | D7: 4 | E7: 2 | F7: 1 | G7: =(A7+B7)/2 -> 29 | H7: 2.9 x 10^7 | I7: 6 x 10^7 | J7: 4 x 10^7 | K7: 2 x 10^8 | L7: 1 x 10^8 | M7: =(A7+B7)/2 -> 29 | N7: =B7*10^6 -> 32000000 | O7: =C7*10^7 -> 60000000 | P7: =D7*10^7 -> 40000000 | Q7: =E7*10^8 -> 200000000 | R7: =(E7+F7)/2 -> 1.5 | S7: =LOG10(M7) -> 1.462398 | T7: =LOG10(N7) -> 7.50515 | U7: =LOG10(O7) -> 7.7781513 | V7: =LOG10(P7) -> 7.60206 | W7: =LOG10(Q7) -> 8.30103 | X7: =LOG10(R7) -> 0.17609126 | Y7: 2 | Z7: 2 | AA7: 15 | AB7: 2 | AC7: 2 | AD7: 3 | AE7: =(AC7+AD7)/2 -> 2.5 | AF7: 2 | AG7: 1,5 x 10^8 | AH7: 2 x 10^7 | AI7: 2 x 10^8 | AJ7: 3 x 10^8 | AK7: =Y7*10^6 -> 2000000 | AL7: =Z7*10^6 -> 2000000 | AM7: =AA7*10^7 -> 150000000 | AN7: =AB7*10^7 -> 20000000 | AO7: =AC7*10^8 -> 200000000 | AP7: =AD7*10^8 -> 300000000 | AQ7: =LOG10(AK7) -> 6.30103 | AR7: =LOG10(AL7) -> 6.30103 | AS7: =LOG10(AM7) -> 8.1760913 | AT7: =LOG10(AN7) -> 7.30103 | AU7: =LOG10(AO7) -> 8.30103 | AV7: =LOG10(AP7) -> 8.4771213 | AW7: =(S7+T7)/2 -> 4.483774 | AY7: =(U7+V7)/2 -> 7.6901056 | BA7: =(W7+X7)/2 -> 4.2385606 | BC7: =(AQ7+AR7)/2 -> 6.30103 | BE7: =(AS7+AT7)/2 -> 7.7385606 | BG7: =(AU7+AV7)/2 -> 8.3890756 | BI7: =BC7-AW7 -> 1.817256 | BK7: =BE7-AY7 -> 0.048455007 | BM7: =BG7-BA7 -> 4.150515
A10: 82 | B10: 71 | C10: 9 | D10: 4 | E10: 1 | F10: 2 | G10: =(A10+B10)/2 -> 76.5 | H10: 7,65 x 10^7 | I10: 9 x 10^7 | J10: 4 x 10^7 | K10: 1 x 10^8 | L10: 2 x 10^8 | M10: =(A10+B10)/2 -> 76.5 | N10: =B10*10^6 -> 71000000 | O10: =C10*10^7 -> 90000000 | P10: =D10*10^7 -> 40000000 | Q10: =E10*10^8 -> 100000000 | R10: =(E10+F10)/2 -> 1.5 | S10: =LOG10(M10) -> 1.8836614 | T10: =LOG10(N10) -> 7.8512583 | U10: =LOG10(O10) -> 7.9542425 | V10: =LOG10(P10) -> 7.60206 | W10: =LOG10(Q10) -> 8 | X10: =LOG10(R10) -> 0.17609126 | Y10: 22 | Z10: 19 | AA10: 7 | AB10: 12 | AC10: 3 | AD10: 5 | AE10: =(AC10+AD10)/2 -> 4 | AF10: 19 | AG10: 7 x 10^7 | AH10: 1,2 x 10^8 | AI10: 3 x 10^8 | AJ10: 5 x 10^8 | AK10: =Y10*10^6 -> 22000000 | AL10: =Z10*10^6 -> 19000000 | AM10: =AA10*10^7 -> 70000000 | AN10: =AB10*10^7 -> 120000000 | AO10: =AC10*10^8 -> 300000000 | AP10: =AD10*10^8 -> 500000000 | AQ10: =LOG10(AK10) -> 7.3424227 | AR10: =LOG10(AL10) -> 7.2787536 | AS10: =LOG10(AM10) -> 7.845098 | AT10: =LOG10(AN10) -> 8.0791812 | AU10: =LOG10(AO10) -> 8.4771213 | AV10: =LOG10(AP10) -> 8.69897 | AW10: =(S10+T10)/2 -> 4.8674599 | AY10: =(U10+V10)/2 -> 7.7781513 | BA10: =(W10+X10)/2 -> 4.0880456 | BC10: =(AQ10+AR10)/2 -> 7.3105881 | BE10: =(AS10+AT10)/2 -> 7.9621396 | BG10: =(AU10+AV10)/2 -> 8.5880456 | BI10: =BC10-AW10 -> 2.4431282 | BK10: =BE10-AY10 -> 0.18398839 | BM10: =BG10-BA10 -> 4.5
A13: 8 | B13: 8 | C13: 3 | D13: 2 | E13: 1 | F13: 1 | G13: =(A13+B13)/2 -> 8 | H13: 0.8 x 10^7 | I13: 3 x 10^7 | J13: 2 x 10^7 | K13: 1 x 10^8 | L13: 1 x 10^8 | M13: =(A13+B13)/2 -> 8 | N13: =B13*10^6 -> 8000000 | O13: =C13*10^7 -> 30000000 | P13: =D13*10^7 -> 20000000 | Q13: =E13*10^8 -> 100000000 | R13: =(E13+F13)/2 -> 1 | S13: =LOG10(M13) -> 0.90308999 | T13: =LOG10(N13) -> 6.90309 | U13: =LOG10(O13) -> 7.4771213 | V13: =LOG10(P13) -> 7.30103 | W13: =LOG10(Q13) -> 8 | X13: =LOG10(R13) -> 0 | Y13: 175 | Z13: 155 | AA13: 26 | AB13: 48 | AC13: 17 | AD13: 54 | AE13: =AC13 -> 17 | AF13: =(AA13+AB13)/2 -> 37 | AG13: 2,6 x 10^8 | AH13: 4,8 x 10^8 | AI13: 1,7 x 10^9 | AJ13: 5,4 x 10^9 | AK13: =Y13*10^6 -> 175000000 | AL13: =Z13*10^6 -> 155000000 | AM13: =AA13*10^7 -> 260000000 | AN13: =AB13*10^7 -> 480000000 | AO13: =AC13*10^8 -> 1700000000 | AP13: =AD13*10^8 -> 5400000000 | AQ13: =LOG10(AK13) -> 8.243038 | AR13: =LOG10(AL13) -> 8.1903317 | AS13: =LOG10(AM13) -> 8.4149733 | AT13: =LOG10(AN13) -> 8.6812412 | AU13: =LOG10(AO13) -> 9.2304489 | AV13: =LOG10(AP13) -> 9.7323938 | AW13: =(S13+T13)/2 -> 3.90309 | AY13: =(U13+V13)/2 -> 7.3890756 | BA13: =(W13+X13)/2 -> 4 | BC13: =(AQ13+AR13)/2 -> 8.2166849 | BE13: =(AS13+AT13)/2 -> 8.5481073 | BG13: =(AU13+AV13)/2 -> 9.4814213 | BI13: =BC13-AW13 -> 4.3135949 | BK13: =BE13-AY13 -> 1.1590317 | BM13: =BG13-BA13 -> 5.4814213
A16: 6 | B16: 7 | C16: 4 | D16: 3 | E16: 2 | F16: 2 | G16: =(A16+B16)/2 -> 6.5 | H16: 0.65 x 10^7 | I16: 4 x 10^7 | J16: 3 x 10^7 | K16: 2 x 10^8 | L16: 2 x 10^8 | M16: =(A16+B16)/2 -> 6.5 | N16: =B16*10^6 -> 7000000 | O16: =C16*10^7 -> 40000000 | P16: =D16*10^7 -> 30000000 | Q16: =E16*10^8 -> 200000000 | R16: =(E16+F16)/2 -> 2 | S16: =LOG10(M16) -> 0.81291336 | T16: =LOG10(N16) -> 6.845098 | U16: =LOG10(O16) -> 7.60206 | V16: =LOG10(P16) -> 7.4771213 | W16: =LOG10(Q16) -> 8.30103 | X16: =LOG10(R16) -> 0.30103 | Y16: 189 | Z16: 27 | AA16: 35 | AB16: 15 | AC16: 6 | AD16: 3 | AE16: =(AC16+AD16)/2 -> 4.5 | AF16: 27 | AG16: 3,5 x 10^8 | AH16: 1,5 x 10^8 | AI16: 6 x 10^8 | AJ16: 3 x 10^8 | AK16: =Y16*10^6 -> 189000000 | AL16: =Z16*10^6 -> 27000000 | AM16: =AA16*10^7 -> 350000000 | AN16: =AB16*10^7 -> 150000000 | AO16: =AC16*10^8 -> 600000000 | AP16: =AD16*10^8 -> 300000000 | AQ16: =LOG10(AK16) -> 8.2764618 | AR16: =LOG10(AL16) -> 7.4313638 | AS16: =LOG10(AM16) -> 8.544068 | AT16: =LOG10(AN16) -> 8.1760913 | AU16: =LOG10(AO16) -> 8.7781513 | AV16: =LOG10(AP16) -> 8.4771213 | AW16: =(S16+T16)/2 -> 3.8290057 | AY16: =(U16+V16)/2 -> 7.5395906 | BA16: =(W16+X16)/2 -> 4.30103 | BC16: =(AQ16+AR16)/2 -> 7.8539128 | BE16: =(AS16+AT16)/2 -> 8.3600797 | BG16: =(AU16+AV16)/2 -> 8.6276363 | BI16: =BC16-AW16 -> 4.0249071 | BK16: =BE16-AY16 -> 0.82048903 | BM16: =BG16-BA16 -> 4.3266063
A19: 40 | B19: 33 | C19: 3 | D19: 2 | E19: 1 | F19: 1 | G19: =(A19+B19)/2 -> 36.5 | H19: 3,65 x 10^7 | I19: 3 x 10^7 | J19: 2 x 10^7 | K19: 1 x 10^8 | L19: 1 x 10^8 | M19: =(A19+B19)/2 -> 36.5 | N19: =B19*10^6 -> 33000000 | O19: =C19*10^7 -> 30000000 | P19: =D19*10^7 -> 20000000 | Q19: =E19*10^8 -> 100000000 | R19: =(E19+F19)/2 -> 1 | S19: =LOG10(M19) -> 1.5622929 | T19: =LOG10(N19) -> 7.5185139 | U19: =LOG10(O19) -> 7.4771213 | V19: =LOG10(P19) -> 7.30103 | W19: =LOG10(Q19) -> 8 | X19: =LOG10(R19) -> 0 | Y19: 83 | Z19: 35 | AA19: 18 | AB19: 12 | AC19: 5 | AD19: 7 | AE19: =(AC19+AD19)/2 -> 6 | AF19: 35 | AG19: 1,8 x 10^8 | AH19: 1,2 x 10^8 | AI19: 5 x 10^8 | AJ19: 7 x 10^8 | AK19: =Y19*10^6 -> 83000000 | AL19: =Z19*10^6 -> 35000000 | AM19: =AA19*10^7 -> 180000000 | AN19: =AB19*10^7 -> 120000000 | AO19: =AC19*10^8 -> 500000000 | AP19: =AD19*10^8 -> 700000000 | AQ19: =LOG10(AK19) -> 7.9190781 | AR19: =LOG10(AL19) -> 7.544068 | AS19: =LOG10(AM19) -> 8.2552725 | AT19: =LOG10(AN19) -> 8.0791812 | AU19: =LOG10(AO19) -> 8.69897 | AV19: =LOG10(AP19) -> 8.845098 | AW19: =(S19+T19)/2 -> 4.5404034 | AY19: =(U19+V19)/2 -> 7.3890756 | BA19: =(W19+X19)/2 -> 4 | BC19: =(AQ19+AR19)/2 -> 7.7315731 | BE19: =(AS19+AT19)/2 -> 8.1672269 | BG19: =(AU19+AV19)/2 -> 8.772034 | BI19: =BC19-AW19 -> 3.1911697 | BK19: =BE19-AY19 -> 0.77815125 | BM19: =BG19-BA19 -> 4.772034
A22: 89 | B22: 84 | C22: 36 | D22: 50 | E22: 1 | F22: 3 | G22: =(A22+B22)/2 -> 86.5 | H22: 8,65 x 10^7 | I22: 3,6 x 10^8 | J22: 5 x 10^8 | K22: 1 x 10^8 | L22: 3 x 10^8 | M22: =(A22+B22)/2 -> 86.5 | N22: =B22*10^6 -> 84000000 | O22: =C22*10^7 -> 360000000 | P22: =D22*10^7 -> 500000000 | Q22: =E22*10^8 -> 100000000 | R22: =(E22+F22)/2 -> 2 | S22: =LOG10(M22) -> 1.9370161 | T22: =LOG10(N22) -> 7.9242793 | U22: =LOG10(O22) -> 8.5563025 | V22: =LOG10(P22) -> 8.69897 | W22: =LOG10(Q22) -> 8 | X22: =LOG10(R22) -> 0.30103 | Y22: 137 | Z22: 55 | AA22: 122 | AB22: 64 | AC22: 4 | AD22: 2 | AE22: =(AC22+AD22)/2 -> 3 | AF22: 55 | AG22: 1,22 x 10^9 | AH22: 6,4 x 10^8 | AI22: 4 x 10^8 | AJ22: 2 x 10^8 | AK22: =Y22*10^6 -> 137000000 | AL22: =Z22*10^6 -> 55000000 | AM22: =AA22*10^7 -> 1220000000 | AN22: =AB22*10^7 -> 640000000 | AO22: =AC22*10^8 -> 400000000 | AP22: =AD22*10^8 -> 200000000 | AQ22: =LOG10(AK22) -> 8.1367206 | AR22: =LOG10(AL22) -> 7.7403627 | AS22: =LOG10(AM22) -> 9.0863598 | AT22: =LOG10(AN22) -> 8.80618 | AU22: =LOG10(AO22) -> 8.60206 | AV22: =LOG10(AP22) -> 8.30103 | AW22: =(S22+T22)/2 -> 4.9306477 | AY22: =(U22+V22)/2 -> 8.6276363 | BA22: =(W22+X22)/2 -> 4.150515 | BC22: =(AQ22+AR22)/2 -> 7.9385416 | BE22: =(AS22+AT22)/2 -> 8.9462699 | BG22: =(AU22+AV22)/2 -> 8.451545 | BI22: =BC22-AW22 -> 3.0078939 | BK22: =BE22-AY22 -> 0.31863365 | BM22: =BG22-BA22 -> 4.30103
A25: 2 | B25: 2 | C25: 0 | D25: 0 | E25: 0 | F25: 0 | G25: =(A25+B25)/2 -> 2 | H25: 0.2 x 10^7 | I25: 0 | J25: 0 | K25: =E25*$J$3 -> 0 | L25: =F25*$J$3 -> 0 | M25: =(A25+B25)/2 -> 2 | N25: =B25*10^6 -> 2000000 | O25: =C25*10^7 -> 0 | P25: =D25*10^7 -> 0 | Q25: =E25*10^8 -> 0 | R25: =(E25+F25)/2 -> 0 | S25: =LOG10(M25) -> 0.30103 | T25: =LOG10(N25) -> 6.30103 | U25: 0 | V25: 0 | W25: 0 | X25: 0 | Y25: 35 | Z25: 5 | AA25: 0 | AB25: 6 | AC25: 0 | AD25: 0 | AE25: =(AC25+AD25)/2 -> 0 | AF25: 5 | AG25: 0 | AH25: 6 x 10^7 | AI25: =AC25*$AH$3 -> 0 | AJ25: 0 | AK25: =Y25*10^6 -> 35000000 | AL25: =Z25*10^6 -> 5000000 | AM25: =AA25*10^7 -> 0 | AN25: =AB25*10^7 -> 60000000 | AO25: =AC25*10^8 -> 0 | AP25: =AD25*10^8 -> 0 | AQ25: =LOG10(AK25) -> 7.544068 | AR25: =LOG10(AL25) -> 6.69897 | AS25: 0 | AT25: =LOG10(AN25) -> 7.7781513 | AU25: 0 | AV25: 0 | AW25: =(S25+T25)/2 -> 3.30103 | AY25: =(U25+V25)/2 -> 0 | BA25: =(W25+X25)/2 -> 0 | BC25: =(AQ25+AR25)/2 -> 7.121519 | BE25: =(AS25+AT25)/2 -> 3.8890756 | BG25: =(AU25+AV25)/2 -> 0 | BI25: =BC25-AW25 -> 3.820489 | BK25: =BE25-AY25 -> 3.8890756 | BM25: =BG25-BA25 -> 0
A28: 169 | B28: ~ | C28: ~ | D28: ~ | E28: 0 | F28: 0 | G28: =A28 -> 169 | H28: 16.9 x 10^7 | I28: =(C28*C27)/1 -> #VALUE! | J28: =(D28*D27)/1 -> #VALUE! | K28: =E28*$J$3 -> 0 | L28: =F28*$J$3 -> 0 | M28: =A28 -> 169 | N28: =B28*10^6 -> #VALUE! | O28: =C28*10^7 -> #VALUE! | P28: =D28*10^7 -> #VALUE! | Q28: =E28*10^8 -> 0 | R28: =(E28+F28)/2 -> 0 | S28: =LOG10(M28) -> 2.2278867 | T28: 0 | U28: 0 | V28: 0 | W28: 0 | X28: 0 | Y28: 7 | Z28: 11 | AA28: 10 | AB28: 5 | AC28: ~ | AD28: 1 | AE28: 1 | AF28: 11 | AG28: 1 x 10^8 | AH28: 5 x 10^7 | AI28: =AC28*$AH$3 -> #VALUE! | AJ28: 1 x 10^8 | AK28: =Y28*10^6 -> 7000000 | AL28: =Z28*10^6 -> 11000000 | AM28: =AA28*10^7 -> 100000000 | AN28: =AB28*10^7 -> 50000000 | AO28: =AC28*10^8 -> #VALUE! | AP28: =AD28*10^8 -> 100000000 | AQ28: =LOG10(AK28) -> 6.845098 | AR28: =LOG10(AL28) -> 7.0413927 | AS28: =LOG10(AM28) -> 8 | AT28: =LOG10(AN28) -> 7.69897 | AU28: 0 | AV28: =LOG10(AP28) -> 8 | AW28: =(S28+T28)/2 -> 1.1139434 | AY28: =(U28+V28)/2 -> 0 | BA28: =(W28+X28)/2 -> 0 | BC28: =(AQ28+AR28)/2 -> 6.9432454 | BE28: =(AS28+AT28)/2 -> 7.849485 | BG28: =(AU28+AV28)/2 -> 4 | BI28: =BC28-AW28 -> 5.829302 | BK28: =BE28-AY28 -> 7.849485 | BM28: =BG28-BA28 -> 4
R31: =AVERAGE(R4:R30) -> 1.1666667 | AE31: =AVERAGE(AE4:AE30) -> 4.5555556 | AV31: rata | AW31: =AVERAGE(AW4:AX30) -> 3.9582055 | AY31: =AVERAGE(AY4:AZ30) -> 6.0184678 | BA31: =AVERAGE(BA4:BB30) -> 3.2240791 | BC31: =AVERAGE(BC4:BD30) -> 7.3339045 | BE31: =AVERAGE(BE4:BF30) -> 7.8060951 | BG31: =AVERAGE(BG4:BH30) -> 7.2638805 | BI31: =AVERAGE(BI4:BJ30) -> 3.375699 | BK31: =AVERAGE(BK4:BL30) -> 1.7876274 | BM31: =AVERAGE(BM4:BN30) -> 4.0398014
A32: =(A4+B4)/2 -> 48.5 | R32: =_xlfn.STDEV.S(R4:R30) -> 0.75 | AE32: =_xlfn.STDEV.S(AE4:AE30) -> 4.9965266 | AV32: stdv | AW32: =_xlfn.STDEV.S(AW4:AX30) -> 1.194457 | AY32: =_xlfn.STDEV.S(AY4:AZ30) -> 3.4318472 | BA32: =_xlfn.STDEV.S(BA4:BB30) -> 1.8308594 | BC32: =_xlfn.STDEV.S(BC4:BD30) -> 0.65142509 | BE32: =_xlfn.STDEV.S(BE4:BF30) -> 1.5263319 | BG32: =_xlfn.STDEV.S(BG4:BH30) -> 3.1651101 | BI32: =_xlfn.STDEV.S(BI4:BJ30) -> 1.2780201 | BK32: =_xlfn.STDEV.S(BK4:BL30) -> 2.5451671 | BM32: =_xlfn.STDEV.S(BM4:BN30) -> 1.578354
AK33: =(AK4+AL4)/2 -> 4000000 | AW33: 3.96±1.2 | AY33: 6.02±3.43 | BA33: 6.33±3.59 | BC33: 7.33±0.65 | BE33: 7.81±1.53 | BG33: 7.26±3.17 | BI33: 0.37±1.28 | BK33: 1.79±2.55 | BM33: 0.93±1.24
A34: TPC (hari ke-0) | K34: TPC (hari ke-19)
A35: 10^6 | C35: 10^7 | E35: 10^8 | G35: 10^6 | H35: 10^7 | I35: 10^8 | K35: 10^6 | M35: 10^7 | O35: 10^8 | Q35: 10^6 | R35: 10^7 | S35: 10^8
A36: =A4 -> 55 | B36: =B4 -> 42 | C36: =C4 -> 8 | D36: =D4 -> 4 | E36: =E4 -> 2 | F36: =F4 -> 1 | G36: =_xlfn.STDEV.S(A36:B36) -> 9.1923882 | H36: =_xlfn.STDEV.S(C36:D36) -> 2.8284271 | I36: =_xlfn.STDEV.S(E36:F36) -> 0.70710678 | J36: 4.85 * 10^7 | K36: =AA4 -> 79 | L36: 63 | M36: =Y4 -> 3 | N36: =Z4 -> 5 | O36: =AC4 -> 3 | P36: =AD4 -> 45 | Q36: =_xlfn.STDEV.S(K36:L36) -> 11.313708 | R36: =_xlfn.STDEV.S(M36:N36) -> 1.4142136 | S36: =_xlfn.STDEV.S(O36:P36) -> 29.698485 | T36: 6.4 * 10^7
A37: =A7 -> 26 | B37: =B7 -> 32 | C37: =C7 -> 6 | D37: =D7 -> 4 | E37: =E7 -> 2 | F37: =F7 -> 1 | G37: =_xlfn.STDEV.S(A37:B37) -> 4.2426407 | H37: =_xlfn.STDEV.S(C37:D37) -> 1.4142136 | I37: =_xlfn.STDEV.S(E37:F37) -> 0.70710678 | J37: 2.9 * 10^7 | K37: =AA7 -> 15 | L37: 12 | M37: 2 | N37: 2 | O37: =AC7 -> 2 | P37: =AD7 -> 3 | Q37: =_xlfn.STDEV.S(K37:L37) -> 2.1213203 | R37: =_xlfn.STDEV.S(M37:N37) -> 0 | S37: =_xlfn.STDEV.S(O37:P37) -> 0.70710678 | T37: 0.85 * 10^7 | Z37: nama perlakuan | AA37: hari ke-0 | AB37: hari ke-19
A38: =A10 -> 82 | B38: =B10 -> 71 | C38: =C10 -> 9 | D38: =D10 -> 4 | E38: =E10 -> 1 | F38: =F10 -> 2 | G38: =_xlfn.STDEV.S(A38:B38) -> 7.7781746 | H38: =_xlfn.STDEV.S(C38:D38) -> 3.5355339 | I38: =_xlfn.STDEV.S(E38:F38) -> 0.70710678 | J38: 7.65 * 10^7 | K38: =Y10 -> 22 | L38: =Z10 -> 19 | M38: =AA10 -> 7 | N38: =AB10 -> 12 | O38: =AC10 -> 3 | P38: =AD10 -> 5 | Q38: =_xlfn.STDEV.S(K38:L38) -> 2.1213203 | R38: =_xlfn.STDEV.S(M38:N38) -> 3.5355339 | S38: =_xlfn.STDEV.S(O38:P38) -> 1.4142136 | T38: 2.1 * 10^7 | Z38: K0T0 | AA38: =R4 -> 1.5 | AB38: =AE4 -> 3 | AV38: nama perlakuan | AW38: hari ke-0 | AX38: hari ke-19
A39: =A13 -> 8 | B39: =B13 -> 8 | C39: =C13 -> 3 | D39: =D13 -> 2 | E39: =E13 -> 1 | F39: =F13 -> 1 | G39: =_xlfn.STDEV.S(A39:B39) -> 0 | H39: =_xlfn.STDEV.S(C39:D39) -> 0.70710678 | I39: =_xlfn.STDEV.S(E39:F39) -> 0 | J39: 0.8 * 10^7 | K39: =Y13 -> 175 | L39: =Z13 -> 155 | M39: =AA13 -> 26 | N39: =AB13 -> 48 | O39: =AC13 -> 17 | P39: =AD13 -> 54 | Q39: =_xlfn.STDEV.S(K39:L39) -> 14.142136 | R39: =_xlfn.STDEV.S(M39:N39) -> 15.556349 | S39: =_xlfn.STDEV.S(O39:P39) -> 26.162951 | T39: 16.5 * 10^7 | Z39: K0T1 | AA39: =R7 -> 1.5 | AB39: =AE7 -> 2.5 | AV39: K0T0 | AW39: =AW4 -> 4.6544955 | AX39: =BC4 -> 6.5880456
A40: =A16 -> 6 | B40: =B16 -> 7 | C40: =C16 -> 4 | D40: =D16 -> 3 | E40: =E16 -> 2 | F40: =F16 -> 2 | G40: =_xlfn.STDEV.S(A40:B40) -> 0.70710678 | H40: =_xlfn.STDEV.S(C40:D40) -> 0.70710678 | I40: =_xlfn.STDEV.S(E40:F40) -> 0 | J40: 0.65 * 10^7 | K40: =Y16 -> 189 | L40: 149 | M40: =AA16 -> 35 | N40: =AB16 -> 15 | O40: =AC16 -> 6 | P40: =AD16 -> 3 | Q40: =_xlfn.STDEV.S(K40:L40) -> 28.284271 | R40: =_xlfn.STDEV.S(M40:N40) -> 14.142136 | S40: =_xlfn.STDEV.S(O40:P40) -> 2.1213203 | T40: 10.8 * 10^7 | Z40: K0T2 | AA40: =R10 -> 1.5 | AB40: =AE10 -> 4 | AV40: K0T1 | AW40: =AW7 -> 4.483774 | AX40: =BC7 -> 6.30103
A41: =A19 -> 40 | B41: =B19 -> 33 | C41: =C19 -> 3 | D41: =D19 -> 2 | E41: =E19 -> 1 | F41: =F19 -> 1 | G41: =_xlfn.STDEV.S(A41:B41) -> 4.9497475 | H41: =_xlfn.STDEV.S(C41:D41) -> 0.70710678 | I41: =_xlfn.STDEV.S(E41:F41) -> 0 | J41: 3.65 * 10^7 | K41: =Y19 -> 83 | L41: 69 | M41: =AA19 -> 18 | N41: =AB19 -> 12 | O41: =AC19 -> 5 | P41: =AD19 -> 7 | Q41: =_xlfn.STDEV.S(K41:L41) -> 9.8994949 | R41: =_xlfn.STDEV.S(M41:N41) -> 4.2426407 | S41: =_xlfn.STDEV.S(O41:P41) -> 1.4142136 | T41: 5.9 * 10^7 | Z41: K1T0 | AA41: =R13 -> 1 | AB41: =AE13 -> 17 | AV41: K0T2 | AW41: =AW10 -> 4.8674599 | AX41: =BC10 -> 7.3105881
A42: =A22 -> 89 | B42: =B22 -> 84 | C42: =C22 -> 36 | D42: =D22 -> 50 | E42: =E22 -> 1 | F42: =F22 -> 3 | G42: =_xlfn.STDEV.S(A42:B42) -> 3.5355339 | H42: =_xlfn.STDEV.S(C42:D42) -> 9.8994949 | I42: =_xlfn.STDEV.S(E42:F42) -> 1.4142136 | J42: 8.65 * 10^7 | K42: =Y22 -> 137 | L42: 124 | M42: =AA22 -> 122 | N42: =AB22 -> 64 | O42: =AC22 -> 4 | P42: =AD22 -> 2 | Q42: =_xlfn.STDEV.S(K42:L42) -> 9.1923882 | R42: =_xlfn.STDEV.S(M42:N42) -> 41.012193 | S42: =_xlfn.STDEV.S(O42:P42) -> 1.4142136 | T42: 9.6 * 10^7 | Z42: K1T1 | AA42: =R16 -> 2 | AB42: =AE16 -> 4.5 | AV42: K1T0 | AW42: =AW13 -> 3.90309 | AX42: =BC13 -> 8.2166849
A43: =A25 -> 2 | B43: =B25 -> 2 | C43: =C25 -> 0 | D43: =D25 -> 0 | E43: =E25 -> 0 | F43: =F25 -> 0 | G43: =_xlfn.STDEV.S(A43:B43) -> 0 | H43: =_xlfn.STDEV.S(C43:D43) -> 0 | I43: =_xlfn.STDEV.S(E43:F43) -> 0 | J43: 0.2 * 10^7 | K43: =Y25 -> 35 | L43: 29 | M43: =AA25 -> 0 | N43: =AB25 -> 6 | O43: =AC25 -> 0 | P43: =AD25 -> 0 | Q43: =_xlfn.STDEV.S(K43:L43) -> 4.2426407 | R43: =_xlfn.STDEV.S(M43:N43) -> 4.2426407 | S43: =_xlfn.STDEV.S(O43:P43) -> 0 | T43: 3.5 * 10^7 | Z43: K1T2 | AA43: =R19 -> 1 | AB43: =AE19 -> 6 | AV43: K1T1 | AW43: =AW16 -> 3.8290057 | AX43: =BC16 -> 7.8539128
A44: =A28 -> 169 | B44: 198 | C44: 0 | D44: 0 | E44: =E28 -> 0 | F44: =F28 -> 0 | G44: =_xlfn.STDEV.S(A44:B44) -> 20.506097 | H44: =_xlfn.STDEV.S(C44:D44) -> 0 | I44: =_xlfn.STDEV.S(E44:F44) -> 0 | J44: 16.9 * 10^7 | K44: 9 | L44: =Z28 -> 11 | M44: =AA28 -> 10 | N44: =AB28 -> 5 | O44: 0 | P44: =AD28 -> 1 | Q44: =_xlfn.STDEV.S(K44:L44) -> 1.4142136 | R44: =_xlfn.STDEV.S(M44:N44) -> 3.5355339 | S44: =_xlfn.STDEV.S(O44:P44) -> 0.70710678 | T44: 0.9 * 10^7 | Z44: K2T0 | AA44: =R22 -> 2 | AB44: =AE22 -> 3 | AV44: K1T2 | AW44: =AW19 -> 4.5404034 | AX44: =BC19 -> 7.7315731
A45: {=A} -> #NAME?
A46: Std | Z46: K2T1 | AA46: =R25 -> 0 | AB46: =AE25 -> 0 | AV46: K2T0 | AW46: =AW22 -> 4.9306477 | AX46: =BC22 -> 7.9385416
A47: Hari ke- | B47: Kode Tanaman | C47: Jumlah Koloni per Pengenceran | F47: Standar Plate Count | G47: Keterangan | H47: STDV | Z47: K2T2 | AA47: =R28 -> 0 | AB47: =AE28 -> 1 | AV47: K2T1 | AW47: =AW25 -> 3.30103 | AX47: =BC25 -> 7.121519
C48: 10^6 | D48: 10^7 | E48: 10^8 | J48: No. | K48: Kode Perlakuan | L48: Hari ke-0 | M48: Hari ke-19 | R48: No. | S48: Kode Perlakuan | T48: Hari ke-0 | U48: Hari ke-19 | AV48: K2T2 | AW48: =AW28 -> 1.1139434 | AX48: =BC28 -> 6.9432454
A49: H0 | B49: K0T0 | C49: =(A36+B36)/2 -> 48.5 | D49: =(C36+D36)/2 -> 6 | E49: =(E36+F36)/2 -> 1.5 | F49: 4.85 * 10^7 | G49: Memenuhi syarat 25 - 250 koloni | H49: 48.5±9.2 | I49: =(G36/C49) -> 0.18953378 | J49: 1 | K49: K0T0 | L49: 4.85 x 10 | M49: 7.1 x 10 | N49: rata | O49: =AVERAGE(C49:C57) -> 53 | Q49: ±21.2 | R49: 1 | S49: K0T0 | T49: 4.85 x 107 CFU/ml | U49: 7.1 x 107 CFU/ml
B50: K0T1 | C50: =(A37+B37)/2 -> 29 | D50: =(C37+D37)/2 -> 5 | E50: =(E37+F37)/2 -> 1.5 | F50: 2.9 * 10^7 | G50: Memenuhi syarat 25 - 250 koloni | H50: 29±4.2 | I50: =(G37/C50) -> 0.14629795 | J50: 2 | K50: K0T1 | L50: 2.9 x 10 | M50: 1.35 x 10 | N50: std | O50: =_xlfn.STDEV.S(C49:C57) -> 57.403724 | Q50: ±9.2 | R50: 2 | S50: K0T1 | T50: 2.9 x 107 CFU/ml | U50: 1.35 x 107 CFU/ml
B51: K0T2 | C51: =(A38+B38)/2 -> 76.5 | D51: =(C38+D38)/2 -> 6.5 | E51: =(E38+F38)/2 -> 1.5 | F51: 7.65 * 10^7 | G51: Memenuhi syarat 25 - 250 koloni | H51: 76.5±7.8 | I51: =(G38/C51) -> 0.10167548 | J51: 3 | K51: K0T2 | L51: 7.65 x 10 | M51: 2.05 x 10 | Q51: ±2.1 | R51: 3 | S51: K0T2 | T51: 7.65 x 107 CFU/ml | U51: 2.05 x 107 CFU/ml
B52: K1T0 | C52: =(A39+B39)/2 -> 8 | D52: =(C39+D39)/2 -> 2.5 | E52: =(E39+F39)/2 -> 1 | F52: 0.8 * 10^7 | G52: Koloni kurang dari 25 | H52: 8±0 | I52: =(G39/C52) -> 0 | J52: 4 | K52: K1T0 | L52: 0.8 x 10 | M52: 16.5 x 10 | Q52: ±14.1 | R52: 4 | S52: K1T0 | T52: 0.8 x 107 CFU/ml | U52: 16.5 x 107 CFU/ml
B53: K1T1 | C53: =(A40+B40)/2 -> 6.5 | D53: =(C40+D40)/2 -> 3.5 | E53: =(E40+F40)/2 -> 2 | F53: 0.65 * 10^7 | G53: Koloni kurang dari 25 | H53: 6.5±0.7 | I53: =(G40/C53) -> 0.10878566 | J53: 5 | K53: K1T1 | L53: 0.65 x 10 | M53: 16.9 x 10 | Q53: ±28.3 | R53: 5 | S53: K1T1 | T53: 0.65 x 107 CFU/ml | U53: 16.9 x 107 CFU/ml
B54: K1T2 | C54: =(A41+B41)/2 -> 36.5 | D54: =(C41+D41)/2 -> 2.5 | E54: =(E41+F41)/2 -> 1 | F54: 3.65 * 10^7 | G54: Memenuhi syarat 25 - 250 koloni | H54: 36.5±4.9 | I54: =(G41/C54) -> 0.13560952 | J54: 6 | K54: K1T2 | L54: 3.65 x 10 | M54: 7.6 x 10 | Q54: ±34 | R54: 6 | S54: K1T2 | T54: 3.65 x 107 CFU/ml | U54: 7.6 x 107 CFU/ml
B55: K2T0 | C55: =(A42+B42)/2 -> 86.5 | D55: =(C42+D42)/2 -> 43 | E55: =(E42+F42)/2 -> 2 | F55: 8.65 * 10^7 | G55: Hasil perbandingan >2, maka gunakan pengenceran terkecil | H55: 86.5±3.5 | I55: =(G42/C55) -> 0.040873224 | J55: 7 | K55: K2T0 | L55: 8.65 x 10 | M55: 13.05 x 10 | Q55: ±9.2 | R55: 7 | S55: K2T0 | T55: 8.65 x 107 CFU/ml | U55: 13.05 x 107 CFU/ml
B56: K2T1 | C56: =(A43+B43)/2 -> 2 | D56: =(C43+D43)/2 -> 0 | E56: =(E43+F43)/2 -> 0 | F56: 0.2 * 10^7 | G56: Koloni kurang dari 25 | H56: 2±0 | I56: =(G43/C56) -> 0 | J56: 8 | K56: K2T1 | L56: 0.2 x 10 | M56: 3.2 x 10 | Q56: ±4.2 | R56: 8 | S56: K2T1 | T56: 0.2 x 107 CFU/ml | U56: 3.2 x 107 CFU/ml
B57: K2T2 | C57: =AVERAGE(A44:B44) -> 183.5 | D57: 0 | E57: =(E44+F44)/2 -> 0 | F57: 18.35 * 10^7 | G57: Memenuhi syarat 25 - 250 koloni | H57: 183.5±20.5 | I57: =(G44/C57) -> 0.11174985 | J57: 9 | K57: K2T2 | L57: 18.35 x 10 | M57: 1 x 10 | Q57: ±2.8 | R57: 9 | S57: K2T2 | T57: 18.35 x 107 CFU/ml | U57: 1 x 107 CFU/ml
A58: H19 | B58: K0T0 | C58: =(K36+L36)/2 -> 71 | D58: =(M36+N36)/2 -> 4 | E58: =O36 -> 3 | F58: 6.4 * 10^7 | G58: Memenuhi syarat 25 - 250 koloni | H58: 71±11.3 | I58: =(Q36/C58) -> 0.15934801
B59: K0T1 | C59: =(K37+L37)/2 -> 13.5 | D59: =(M37+N37)/2 -> 2 | E59: =O37 -> 2 | F59: 0.85 * 10^7 | G59: Koloni kurang dari 25 | H59: 13.5±2.1 | I59: =(Q37/C59) -> 0.15713484
B60: K0T2 | C60: =(K38+L38)/2 -> 20.5 | D60: =(M38+N38)/2 -> 9.5 | E60: =(O38+P38)/2 -> 4 | F60: 2.1 * 10^7 | G60: Koloni kurang dari 25 | H60: 20.5±2.1 | I60: =(Q38/C60) -> 0.10347904
B61: K1T0 | C61: =(K39+L39)/2 -> 165 | D61: =(M39+N39)/2 -> 37 | E61: =O39 -> 17 | F61: 16.5 * 10^7 | G61: Hasil perbandingan >2, maka gunakan pengenceran terkecil | H61: 165±14.1 | I61: =(Q39/C61) -> 0.085709913
B62: K1T1 | C62: =(K40+L40)/2 -> 169 | D62: =(M40+N40)/2 -> 25 | E62: =(O40+P40)/2 -> 4.5 | F62: 10.8 * 10^7 | G62: Hasil perbandingan >2, maka gunakan pengenceran terkecil | H62: 169±28.3 | I62: =(Q40/C62) -> 0.16736255
B63: K1T2 | C63: =(K41+L41)/2 -> 76 | D63: =(M41+N41)/2 -> 15 | E63: =(O41+P41)/2 -> 6 | F63: 5.9 * 10^7 | G63: Memenuhi syarat 25 - 250 koloni | H63: 76±9.8 | I63: =(Q41/C63) -> 0.13025651
B64: K2T0 | C64: =(K42+L42)/2 -> 130.5 | D64: =(M42+N42)/2 -> 93 | E64: =(O42+P42)/2 -> 3 | F64: 9.6 * 10^7 | G64: Hasil perbandingan >2, maka gunakan pengenceran terkecil | H64: 130.5±9.2 | I64: =(Q42/C64) -> 0.070439756
B65: K2T1 | C65: =(K43+L43)/2 -> 32 | D65: =(M43+N43)/2 -> 3 | E65: =(O43+P43)/2 -> 0 | F65: 3.5 * 10^7 | G65: Memenuhi syarat 25 - 250 koloni | H65: 32±4.2 | I65: =(Q43/C65) -> 0.13258252
B66: K2T2 | C66: =(K44+L44)/2 -> 10 | D66: =(M44+N44)/2 -> 7.5 | E66: 1 | F66: 0.9 * 10^7 | G66: Koloni kurang dari 25 | H66: 10±1.4 | I66: =(Q44/C66) -> 0.14142136
O74: Sumber Keragaman | P74: DB | Q74: F-hitung | AA74: F Tabel 5%
Q75: Hari ke-0 | R75: Hari ke-3 | S75: Hari ke-5 | T75: Hari ke-7 | U75: Hari ke-9 | V75: Hari ke-11 | W75: Hari ke-13 | X75: Hari ke-15 | Y75: Hari ke-17 | Z75: Hari ke-19
O76: Kompos | P76: 2 | Q76: 631.6 | R76: 1014.5 | S76: 827.792 | T76: 536.361 | U76: 536.361 | V76: 829.707 | W76: 226.984 | X76: 464.176 | Y76: 428.667 | Z76: 468.063 | AA76: 3.55
O77: Bakteri | P77: 2 | Q77: 302.8 | R77: 14 | S77: 7.042 | T77: 5.528 | U77: 5.528 | V77: 10.397 | W77: 14.702 | X77: 32.309 | Y77: 28.625 | Z77: 31.635 | AA77: 3.55
O78: Kompos & Bakteri | P78: 4 | Q78: 167.8 | R78: 10 | S78: 2.792tn | T78: 2.278tn | U78: 2.278tn | V78: 2.638tn | W78: 3.085 | X78: 17.066 | Y78: 14.979 | Z78: 15.754 | AA78: 2.93
O79: Galat | P79: 18
O80: Total | P80: 27
O81: KK% | Q81: 0.00416 | R81: 0.00925926 | S81: 0.00952381 | T81: 0.01430183 | U81: 0.02504851 | V81: 0.039176 | W81: 0.092922 | X81: 0.03485 | Y81: 0.036955 | Z81: 0.032431
A91: {=A34:F44} -> TPC (hari ke-0) | B91: 0 | C91: 0 | D91: 0 | E91: 0 | F91: 0
A92: 10^6 | B92: 0 | C92: 10^7 | D92: 0 | E92: 10^8 | F92: 0
A93: 55 | B93: 42 | C93: 8 | D93: 4 | E93: 2 | F93: 1 | H93: =(A93+B93)/2 -> 48.5
A94: 26 | B94: 32 | C94: 6 | D94: 4 | E94: 2 | F94: 1
A95: 82 | B95: 71 | C95: 9 | D95: 4 | E95: 1 | F95: 2
A96: 8 | B96: 8 | C96: 3 | D96: 2 | E96: 1 | F96: 1
A97: 6 | B97: 7 | C97: 4 | D97: 3 | E97: 2 | F97: 2
A98: 40 | B98: 33 | C98: 3 | D98: 2 | E98: 1 | F98: 1
A99: 89 | B99: 84 | C99: 36 | D99: 50 | E99: 1 | F99: 3
A100: 2 | B100: 2 | C100: 0 | D100: 0 | E100: 0 | F100: 0
A101: 169 | B101: 198 | C101: 0 | D101: 0 | E101: 0 | F101: 0
A113: {=K34:P44} -> TPC (hari ke-19) | B113: 0 | C113: 0 | D113: 0 | E113: 0 | F113: 0
A114: 10^6 | B114: 0 | C114: 10^7 | D114: 0 | E114: 10^8 | F114: 0
A115: 79 | B115: 63 | C115: 3 | D115: 5 | E115: 3 | F115: 45
A116: 15 | B116: 12 | C116: 2 | D116: 2 | E116: 2 | F116: 3
A117: 22 | B117: 19 | C117: 7 | D117: 12 | E117: 3 | F117: 5
A118: 175 | B118: 155 | C118: 26 | D118: 48 | E118: 17 | F118: 54
A119: 189 | B119: 149 | C119: 35 | D119: 15 | E119: 6 | F119: 3
A120: 83 | B120: 69 | C120: 18 | D120: 12 | E120: 5 | F120: 7
A121: 137 | B121: 124 | C121: 122 | D121: 64 | E121: 4 | F121: 2
A122: 35 | B122: 29 | C122: 0 | D122: 6 | E122: 0 | F122: 0
A123: 9 | B123: 11 | C123: 10 | D123: 5 | E123: 0 | F123: 1

Sheet finish
A1: No. | B1: Kode Tanaman | C1: Ulangan | D1: ph (hari ke-0) | E1: ph (hari ke-3) | F1: ph (hari ke-5) | G1: ph (hari ke-7) | H1: ph (hari ke-9) | I1: ph (hari ke-11) | J1: ph (hari ke-13) | K1: ph (hari ke-15) | L1: ph (hari ke-17) | M1: ph (hari ke-19) | N1: Delta | O1: tinggi (hari ke-0) | P1: tinggi (hari ke-3) | Q1: tinggi (hari ke-5) | R1: tinggi (hari ke-7) | S1: tinggi (hari ke-9) | T1: tinggi (hari ke-11) | U1: tinggi (hari ke-13) | V1: tinggi (hari ke-15) | W1: tinggi (hari ke-17) | X1: tinggi (hari ke-19) | Y1: Delta | Z1: jumlah daun (hari ke-0) | AA1: jumlah daun (hari ke-3) | AB1: jumlah daun (hari ke-5) | AC1: jumlah daun (hari ke-7) | AD1: jumlah daun (hari ke-9) | AE1: jumlah daun (hari ke-11) | AF1: jumlah daun (hari ke-13) | AG1: jumlah daun (hari ke-15) | AH1: jumlah daun (hari ke-17) | AI1: jumlah daun (hari ke-19) | AJ1: Delta | AK1: bobot basah | AL1: bobot kering | AM1: Kadar Air | AN1: Al (hari ke-0) | AO1: Al (hari ke-19) | AP1: Delta | AQ1: Al (hari ke-0) | AR1: Al (hari ke-19) | AS1: Delta | AT1: BAF Hari ke-0 | AU1: BAF Hari ke-19 | AV1: TPC (hari ke-0) | BB1: TPC (hari ke-19) | BH1: No. | BI1: Kode Tanaman | BJ1: TPC (hari ke-0) | BP1: TPC (hari ke-19) | BV1: Delta
A2: 1 | B2: K0T0 | C2: 1 | D2: {=Sheet12!EG4:EG30} -> 10 | E2: {=Sheet12!AR4:AR30} -> 10 | F2: {=Sheet12!AZ4:AZ30} -> 9.5 | G2: {=Sheet12!BG4:BG30} -> 9.5 | H2: {=Sheet12!BN4:BN30} -> 9.5 | I2: {=Sheet12!BU4:BU30} -> 9.5 | J2: {=Sheet12!CB4:CB30} -> 9.5 | K2: {=Sheet12!CI4:CI30} -> 8.75 | L2: {=Sheet12!CP4:CP30} -> 8.75 | M2: {=Sheet12!EN4:EN30} -> 8.75 | N2: {=Sheet12!EO4:EO32} -> -1.25 | O2: {=pertumbuhan!G4:G30} -> 4.3333333 | P2: {=pertumbuhan!J4:J30} -> 2.75 | Q2: {=pertumbuhan!M4:M30} -> 3 | R2: {=pertumbuhan!P4:P30} -> 3 | S2: {=pertumbuhan!S4:S30} -> 4 | T2: {=pertumbuhan!V4:V30} -> 4.25 | U2: {=pertumbuhan!Y4:Y30} -> 4.25 | V2: {=pertumbuhan!AB4:AB30} -> 4.5 | W2: {=pertumbuhan!AE4:AE30} -> 4.5 | X2: =pertumbuhan!AT4 -> 4.5 | Y2: =pertumbuhan!AU4 -> 1.75 | Z2: {='jumlah daun'!G4:G30} -> 5 | AA2: {='jumlah daun'!J4:J30} -> 5.5 | AB2: {='jumlah daun'!M4:M30} -> 5.5 | AC2: {='jumlah daun'!P4:P30} -> 5.5 | AD2: {='jumlah daun'!S4:S30} -> 5 | AE2: {='jumlah daun'!V4:V30} -> 5 | AF2: {='jumlah daun'!Y4:Y30} -> 5 | AG2: {='jumlah daun'!AB4:AB30} -> 5 | AH2: {='jumlah daun'!AE4:AE30} -> 6 | AI2: {='jumlah daun'!AH4:AH30} -> 5.5 | AJ2: {='jumlah daun'!AI4:AI30} -> 0.5 | AK2: {=al!H4:H30} -> 7.14 | AL2: {=al!J4:J30} -> 0.86 | AM2: {=al!K4:K30} -> 0.87955182 | AN2: =Sheet12!K4 -> 0.13019 | AO2: {=Sheet12!L4:L30} -> 0.416758 | AP2: {=Sheet12!N4:N32} -> 0.286568 | AQ2: {=Sheet12!U4:U30} -> 0.03712 | AR2: {=Sheet12!V4:V30} -> 0.032152 | AS2: {=Sheet12!Y4:Y32} -> -0.004968 | AT2: =$AN$2/AQ2 -> 3.5072737 | AU2: =AO2/AR2 -> 12.962117 | AV2: =tpc!G4 -> 48.5 | AW2: =tpc!H4 -> 4.85 x 10^7 | AX2: =tpc!I4 -> 8 x 10^7 | AY2: =tpc!J4 -> 4 x 10^7 | AZ2: =tpc!K4 -> 2 x 10^8 | BA2: =tpc!L4 -> 1 x 10^8 | BB2: =tpc!AE4 -> 3 | BC2: =tpc!AF4 -> 5 | BD2: =tpc!AG4 -> 7,9 x 10^8 | BE2: =tpc!AH4 -> 4,9 x 10^8 | BF2: =tpc!AI4 -> 3 x 10^8 | BG2: =tpc!AJ4 -> 4,5 x 10^9 | BH2: 1 | BI2: K0T0 | BJ2: =tpc!AW4 -> 4.6544955 | BL2: =tpc!AY4 -> 7.752575 | BN2: =tpc!BA4 -> 4.2385606 | BP2: =tpc!BC4 -> 6.5880456 | BR2: =tpc!BE4 -> 8.7939116 | BT2: =tpc!BG4 -> 9.0651669 | BV2: =tpc!BI4 -> 1.9335501 | BX2: =tpc!BK4 -> 1.0413366 | BZ2: =tpc!BM4 -> 4.8266063
C3: 2 | D3: 10 | E3: 10 | F3: 9.625 | G3: 9.625 | H3: 9.625 | I3: 9.625 | J3: 9.125 | K3: 8.625 | L3: 8.375 | M3: 8.375 | N3: -1.625 | O3: 4.8333333 | P3: 5 | Q3: 5.25 | R3: 5.75 | S3: 6.25 | T3: 6.5 | U3: 6.5 | V3: 6.75 | W3: 7 | X3: =pertumbuhan!AT5 -> 7 | Y3: =pertumbuhan!AU5 -> 2.5 | Z3: 5 | AA3: 6 | AB3: 6.5 | AC3: 6.5 | AD3: 6 | AE3: 7 | AF3: 6.5 | AG3: 7 | AH3: 7 | AI3: 6.5 | AJ3: 1.5 | AK3: 6.58 | AL3: 1.05 | AM3: 0.84042553 | AO3: 0.29186 | AP3: 0.16167 | AQ3: 0.02884 | AR3: 0.03919 | AS3: 0.01035 | AT3: =$AN$2/AQ3 -> 4.5142164 | AU3: =AO3/AR3 -> 7.447308
C4: 3 | D4: 10 | E4: 10 | F4: 9.375 | G4: 9.375 | H4: 9.375 | I4: 9.375 | J4: 9.125 | K4: 8.5 | L4: 8.5 | M4: 8.5 | N4: -1.5 | O4: 3.8333333 | P4: 5.25 | Q4: 6 | R4: 6.75 | S4: 7.25 | T4: 7.75 | U4: 7.75 | V4: 8 | W4: 8 | X4: =pertumbuhan!AT6 -> 8 | Y4: =pertumbuhan!AU6 -> 4.25 | Z4: 5.3333333 | AA4: 5.5 | AB4: 6.5 | AC4: 7.5 | AD4: 7.5 | AE4: 7.5 | AF4: 7.5 | AG4: 8.5 | AH4: 10 | AI4: 9.5 | AJ4: 4.1666667 | AK4: 7.29 | AL4: 0.89 | AM4: 0.87791495 | AO4: 0.281716 | AP4: 0.151526 | AQ4: 0.037534 | AR4: 0.061546 | AS4: 0.024012 | AT4: =$AN$2/AQ4 -> 3.4685885 | AU4: =AO4/AR4 -> 4.5773243
A5: 2 | B5: K0T1 | C5: 1 | D5: 8.25 | E5: 9.25 | F5: 9.5 | G5: 9.5 | H5: 9.75 | I5: 9.75 | J5: 8.125 | K5: 8.125 | L5: 8.125 | M5: 8.125 | N5: -0.125 | O5: 4 | P5: 5 | Q5: 5.25 | R5: 6 | S5: 6.5 | T5: 6.5 | U5: 6.5 | V5: 6.5 | W5: 6.5 | X5: =pertumbuhan!AT7 -> 6.5 | Y5: =pertumbuhan!AU7 -> 2 | Z5: 5 | AA5: 5 | AB5: 6 | AC5: 6 | AD5: 7 | AE5: 6.5 | AF5: 7 | AG5: 6.5 | AH5: 6 | AI5: 5.5 | AJ5: 0.5 | AK5: 5.49 | AL5: 1.1 | AM5: 0.7996357 | AN5: =Sheet12!K7 -> 0.196126 | AO5: 0.374914 | AP5: 0.178788 | AQ5: 0.036292 | AR5: 0.046642 | AS5: 0.01035 | AT5: =$AN$5/AQ5 -> 5.4041111 | AU5: =AO5/AR5 -> 8.0381201 | AV5: =tpc!G7 -> 29 | AW5: =tpc!H7 -> 2.9 x 10^7 | AX5: =tpc!I7 -> 6 x 10^7 | AY5: =tpc!J7 -> 4 x 10^7 | AZ5: =tpc!K7 -> 2 x 10^8 | BA5: =tpc!L7 -> 1 x 10^8 | BB5: =tpc!AE7 -> 2.5 | BC5: =tpc!AF7 -> 2 | BD5: =tpc!AG7 -> 1,5 x 10^8 | BE5: =tpc!AH7 -> 2 x 10^7 | BF5: =tpc!AI7 -> 2 x 10^8 | BG5: =tpc!AJ7 -> 3 x 10^8 | BH5: 2 | BI5: K0T1 | BJ5: =tpc!AW7 -> 4.483774 | BL5: =tpc!AY7 -> 7.6901056 | BN5: =tpc!BA7 -> 4.2385606 | BP5: =tpc!BC7 -> 6.30103 | BR5: =tpc!BE7 -> 7.7385606 | BT5: =tpc!BG7 -> 8.3890756 | BV5: =tpc!BI7 -> 1.817256 | BX5: =tpc!BK7 -> 0.048455007 | BZ5: =tpc!BM7 -> 4.150515
C6: 2 | D6: 8.125 | E6: 9.5 | F6: 9.125 | G6: 8.875 | H6: 9.25 | I6: 9.25 | J6: 8.5 | K6: 8.5 | L6: 8.5 | M6: 8.125 | N6: 0 | O6: 3.3333333 | P6: 5.25 | Q6: 6 | R6: 6.5 | S6: 7.5 | T6: 7.5 | U6: 7.5 | V6: 7.5 | W6: 7.5 | X6: =pertumbuhan!AT8 -> 7.5 | Y6: =pertumbuhan!AU8 -> 4.5 | Z6: 5.3333333 | AA6: 5.5 | AB6: 5.5 | AC6: 6 | AD6: 6 | AE6: 6.5 | AF6: 6.5 | AG6: 6.5 | AH6: 6 | AI6: 6 | AJ6: 0.66666667 | AK6: 7.46 | AL6: 0.8 | AM6: 0.89276139 | AO6: 0.116242 | AP6: -0.079884 | AQ6: 0.050368 | AR6: 0.025528 | AS6: -0.02484 | AT6: =$AN$5/AQ6 -> 3.8938612 | AU6: =AO6/AR6 -> 4.5535099
C7: 3 | D7: 8.125 | E7: 9.25 | F7: 9.25 | G7: 9.25 | H7: 9.5 | I7: 9.5 | J7: 8.125 | K7: 8 | L7: 8 | M7: 7.875 | N7: -0.25 | O7: 3.6666667 | P7: 3.5 | Q7: 4 | R7: 4.25 | S7: 5.25 | T7: 5.25 | U7: 5.25 | V7: 5.25 | W7: 5.25 | X7: =pertumbuhan!AT9 -> 5.25 | Y7: =pertumbuhan!AU9 -> 1.25 | Z7: 5.6666667 | AA7: 5.5 | AB7: 6.5 | AC7: 7 | AD7: 7.5 | AE7: 7 | AF7: 7 | AG7: 7 | AH7: 6.5 | AI7: 6.5 | AJ7: 0.83333333 | AK7: 7.46 | AL7: 0.85 | AM7: 0.88605898 | AO7: 0.151746 | AP7: -0.04438 | AQ7: 0.036706 | AR7: 0.0454 | AS7: 0.008694 | AT7: =$AN$5/AQ7 -> 5.3431592 | AU7: =AO7/AR7 -> 3.3424229
A8: 3 | B8: K0T2 | C8: 1 | D8: 8 | E8: 10 | F8: 9.25 | G8: 9.25 | H8: 9.125 | I8: 9.125 | J8: 6.75 | K8: 6.75 | L8: 6.75 | M8: 6.75 | N8: -1.25 | O8: 4.6666667 | P8: 3 | Q8: 3.25 | R8: 3.5 | S8: 4.75 | T8: 5 | U8: 5 | V8: 5 | W8: 5 | X8: =pertumbuhan!AT10 -> 5 | Y8: =pertumbuhan!AU10 -> 1 | Z8: 5 | AA8: 5 | AB8: 6 | AC8: 5.5 | AD8: 6 | AE8: 7 | AF8: 7 | AG8: 6.5 | AH8: 5.5 | AI8: 5.5 | AJ8: 0.5 | AK8: 3.37 | AL8: 0.62 | AM8: 0.81602374 | AN8: =Sheet12!K10 -> 0.379352 | AO8: 0.208172 | AP8: -0.17118 | AQ8: 0.049954 | AR8: 0.04954 | AS8: -0.000414 | AT8: =$AN$8/AQ8 -> 7.5940265 | AU8: =AO8/AR8 -> 4.2020993 | AV8: =tpc!G10 -> 76.5 | AW8: =tpc!H10 -> 7,65 x 10^7 | AX8: =tpc!I10 -> 9 x 10^7 | AY8: =tpc!J10 -> 4 x 10^7 | AZ8: =tpc!K10 -> 1 x 10^8 | BA8: =tpc!L10 -> 2 x 10^8 | BB8: =tpc!AE10 -> 4 | BC8: =tpc!AF10 -> 19 | BD8: =tpc!AG10 -> 7 x 10^7 | BE8: =tpc!AH10 -> 1,2 x 10^8 | BF8: =tpc!AI10 -> 3 x 10^8 | BG8: =tpc!AJ10 -> 5 x 10^8 | BH8: 3 | BI8: K0T2 | BJ8: =tpc!AW10 -> 4.8674599 | BL8: =tpc!AY10 -> 7.7781513 | BN8: =tpc!BA10 -> 4.0880456 | BP8: =tpc!BC10 -> 7.3105881 | BR8: =tpc!BE10 -> 7.9621396 | BT8: =tpc!BG10 -> 8.5880456 | BV8: =tpc!BI10 -> 2.4431282 | BX8: =tpc!BK10 -> 0.18398839 | BZ8: =tpc!BM10 -> 4.5
C9: 2 | D9: 8 | E9: 10 | F9: 9.5 | G9: 9.5 | H9: 9.25 | I9: 9.25 | J9: 8.125 | K9: 7 | L9: 7 | M9: 7 | N9: -1 | O9: 4.3333333 | P9: 3.25 | Q9: 4 | R9: 4.75 | S9: 6.5 | T9: 6.5 | U9: 6.5 | V9: 6.5 | W9: 6.5 | X9: =pertumbuhan!AT11 -> 6.5 | Y9: =pertumbuhan!AU11 -> 2.5 | Z9: 5 | AA9: 6 | AB9: 6 | AC9: 5.5 | AD9: 6 | AE9: 6.5 | AF9: 7 | AG9: 6 | AH9: 6 | AI9: 5 | AJ9: 0 | AK9: 4.09 | AL9: 0.72 | AM9: 0.82396088 | AO9: 0.173936 | AP9: -0.205416 | AQ9: 0.054094 | AR9: 0.05782 | AS9: 0.003726 | AT9: =$AN$8/AQ9 -> 7.0128295 | AU9: =AO9/AR9 -> 3.0082324
C10: 3 | D10: 8.25 | E10: 10 | F10: 9.5 | G10: 9.5 | H10: 9.75 | I10: 9.75 | J10: 8.125 | K10: 6.875 | L10: 6.875 | M10: 6.875 | N10: -1.375 | O10: 4.1666667 | P10: 4.75 | Q10: 5.5 | R10: 6.75 | S10: 7.75 | T10: 7.75 | U10: 7.75 | V10: 7.75 | W10: 7.75 | X10: =pertumbuhan!AT12 -> 7.75 | Y10: =pertumbuhan!AU12 -> 4.25 | Z10: 5 | AA10: 6 | AB10: 7 | AC10: 6.5 | AD10: 5.5 | AE10: 5.5 | AF10: 5.5 | AG10: 5.5 | AH10: 5 | AI10: 4 | AJ10: -1 | AK10: 5 | AL10: 0.8 | AM10: 0.84 | AO10: 0.140334 | AP10: -0.239018 | AQ10: 0.032152 | AR10: 0.046642 | AS10: 0.01449 | AT10: =$AN$8/AQ10 -> 11.798706 | AU10: =AO10/AR10 -> 3.0087475
A11: 4 | B11: K1T0 | C11: 1 | D11: 8 | E11: 7.75 | F11: 7.75 | G11: 7.75 | H11: 7.125 | I11: 6.625 | J11: 6.25 | K11: 5.75 | L11: 5.75 | M11: 5.75 | N11: -2.25 | O11: 4.1666667 | P11: 2.75 | Q11: 2.75 | R11: 3.75 | S11: 4 | T11: 4.25 | U11: 4.25 | V11: 4.25 | W11: 4.25 | X11: =pertumbuhan!AT13 -> 4.25 | Y11: =pertumbuhan!AU13 -> 0.5 | Z11: 5.3333333 | AA11: 6 | AB11: 7 | AC11: 7 | AD11: 7.5 | AE11: 7.5 | AF11: 8.5 | AG11: 9.5 | AH11: 9.5 | AI11: 9.5 | AJ11: 4.1666667 | AK11: 24.06 | AL11: 2.14 | AM11: 0.91105569 | AN11: =Sheet12!K13 -> 0.446556 | AO11: 0.293762 | AP11: -0.152794 | AQ11: 0.04126 | AR11: 0.056578 | AS11: 0.015318 | AT11: =$AN$11/AQ11 -> 10.822976 | AU11: =AO11/AR11 -> 5.1921595 | AV11: =tpc!G13 -> 8 | AW11: =tpc!H13 -> 0.8 x 10^7 | AX11: =tpc!I13 -> 3 x 10^7 | AY11: =tpc!J13 -> 2 x 10^7 | AZ11: =tpc!K13 -> 1 x 10^8 | BA11: =tpc!L13 -> 1 x 10^8 | BB11: =tpc!AE13 -> 17 | BC11: =tpc!AF13 -> 37 | BD11: =tpc!AG13 -> 2,6 x 10^8 | BE11: =tpc!AH13 -> 4,8 x 10^8 | BF11: =tpc!AI13 -> 1,7 x 10^9 | BG11: =tpc!AJ13 -> 5,4 x 10^9 | BH11: 4 | BI11: K1T0 | BJ11: =tpc!AW13 -> 3.90309 | BL11: =tpc!AY13 -> 7.3890756 | BN11: =tpc!BA13 -> 4 | BP11: =tpc!BC13 -> 8.2166849 | BR11: =tpc!BE13 -> 8.5481073 | BT11: =tpc!BG13 -> 9.4814213 | BV11: =tpc!BI13 -> 4.3135949 | BX11: =tpc!BK13 -> 1.1590317 | BZ11: =tpc!BM13 -> 5.4814213
C12: 2 | D12: 8 | E12: 7.75 | F12: 7.75 | G12: 7.75 | H12: 7.125 | I12: 6.5 | J12: 6 | K12: 5.75 | L12: 5.75 | M12: 5.75 | N12: -2.25 | O12: 3.6666667 | P12: 3.5 | Q12: 4 | R12: 4.5 | S12: 4.5 | T12: 5 | U12: 5.25 | V12: 5.25 | W12: 5.25 | X12: =pertumbuhan!AT14 -> 5.25 | Y12: =pertumbuhan!AU14 -> 1.75 | Z12: 5 | AA12: 6 | AB12: 7.5 | AC12: 8.5 | AD12: 9 | AE12: 10 | AF12: 9.5 | AG12: 13 | AH12: 14.5 | AI12: 14.5 | AJ12: 9.5 | AK12: 25.51 | AL12: 2.57 | AM12: 0.89925519 | AO12: 0.24748 | AP12: -0.199076 | AQ12: 0.050782 | AR12: 0.035878 | AS12: -0.014904 | AT12: =$AN$11/AQ12 -> 8.7935883 | AU12: =AO12/AR12 -> 6.8978204
C13: 3 | D13: 8 | E13: 7.75 | F13: 7.75 | G13: 7.75 | H13: 7 | I13: 6.5 | J13: 6.25 | K13: 5.75 | L13: 5.75 | M13: 5.75 | N13: -2.25 | O13: 3.8333333 | P13: 4.25 | Q13: 4.75 | R13: 5.25 | S13: 6 | T13: 6 | U13: 6 | V13: 6 | W13: 6 | X13: =pertumbuhan!AT15 -> 6 | Y13: =pertumbuhan!AU15 -> 2.5 | Z13: 6 | AA13: 5.5 | AB13: 6.5 | AC13: 7 | AD13: 8 | AE13: 8.5 | AF13: 8.5 | AG13: 8 | AH13: 7.5 | AI13: 7.5 | AJ13: 1.5 | AK13: 30.14 | AL13: 2.61 | AM13: 0.91340411 | AO13: 0.237336 | AP13: -0.20922 | AQ13: 0.050368 | AR13: 0.03091 | AS13: -0.019458 | AT13: =$AN$11/AQ13 -> 8.8658672 | AU13: =AO13/AR13 -> 7.6782918
A14: 5 | B14: K1T1 | C14: 1 | D14: 7.5 | E14: 7.5 | F14: 7.75 | G14: 7.75 | H14: 6.5 | I14: 5.75 | J14: 5.75 | K14: 5.5 | L14: 5.5 | M14: 5.5 | N14: -2 | O14: 3.3333333 | P14: 3.5 | Q14: 4 | R14: 4.75 | S14: 5.5 | T14: 5.5 | U14: 5.5 | V14: 5.5 | W14: 5.5 | X14: =pertumbuhan!AT16 -> 5.5 | Y14: =pertumbuhan!AU16 -> 2 | Z14: 5 | AA14: 6.5 | AB14: 6.5 | AC14: 6.5 | AD14: 7 | AE14: 7.5 | AF14: 8 | AG14: 7 | AH14: 7 | AI14: 7 | AJ14: 2 | AK14: 25.75 | AL14: 2.06 | AM14: 0.92 | AN14: =Sheet12!K16 -> 0.52327 | AO14: 0.21578 | AP14: -0.30749 | AQ14: 0.047056 | AR14: 0.044572 | AS14: -0.002484 | AT14: =$AN$14/AQ14 -> 11.120155 | AU14: =AO14/AR14 -> 4.8411559 | AV14: =tpc!G16 -> 6.5 | AW14: =tpc!H16 -> 0.65 x 10^7 | AX14: =tpc!I16 -> 4 x 10^7 | AY14: =tpc!J16 -> 3 x 10^7 | AZ14: =tpc!K16 -> 2 x 10^8 | BA14: =tpc!L16 -> 2 x 10^8 | BB14: =tpc!AE16 -> 4.5 | BC14: =tpc!AF16 -> 27 | BD14: =tpc!AG16 -> 3,5 x 10^8 | BE14: =tpc!AH16 -> 1,5 x 10^8 | BF14: =tpc!AI16 -> 6 x 10^8 | BG14: =tpc!AJ16 -> 3 x 10^8 | BH14: 5 | BI14: K1T1 | BJ14: =tpc!AW16 -> 3.8290057 | BL14: =tpc!AY16 -> 7.5395906 | BN14: =tpc!BA16 -> 4.30103 | BP14: =tpc!BC16 -> 7.8539128 | BR14: =tpc!BE16 -> 8.3600797 | BT14: =tpc!BG16 -> 8.6276363 | BV14: =tpc!BI16 -> 4.0249071 | BX14: =tpc!BK16 -> 0.82048903 | BZ14: =tpc!BM16 -> 4.3266063
C15: 2 | D15: 7.625 | E15: 7.75 | F15: 7.375 | G15: 7.375 | H15: 6.625 | I15: 5.875 | J15: 5.75 | K15: 5.5 | L15: 5.5 | M15: 5.5 | N15: -2.125 | O15: 3.8333333 | P15: 5 | Q15: 5.5 | R15: 6.25 | S15: 7 | T15: 7.25 | U15: 7.25 | V15: 7.25 | W15: 7.25 | X15: =pertumbuhan!AT17 -> 7.25 | Y15: =pertumbuhan!AU17 -> 3.5 | Z15: 5 | AA15: 6 | AB15: 6 | AC15: 7 | AD15: 6 | AE15: 7 | AF15: 7 | AG15: 7.5 | AH15: 8.5 | AI15: 8.5 | AJ15: 3.5 | AK15: 30.24 | AL15: 2.8 | AM15: 0.90740741 | AO15: 0.21261 | AP15: -0.31066 | AQ15: 0.052024 | AR15: 0.04954 | AS15: -0.002484 | AT15: =$AN$14/AQ15 -> 10.058242 | AU15: =AO15/AR15 -> 4.2916835
C16: 3 | D16: 7.625 | E16: 7.5 | F16: 7.5 | G16: 7.5 | H16: 6.5 | I16: 5.75 | J16: 5.75 | K16: 5.75 | L16: 5.75 | M16: 5.75 | N16: -1.875 | O16: 4 | P16: 4.5 | Q16: 4.75 | R16: 5.5 | S16: 6 | T16: 6 | U16: 6 | V16: 6 | W16: 6 | X16: =pertumbuhan!AT18 -> 6 | Y16: =pertumbuhan!AU18 -> 2.5 | Z16: 5.3333333 | AA16: 5.5 | AB16: 6 | AC16: 7 | AD16: 7 | AE16: 7.5 | AF16: 9 | AG16: 9 | AH16: 9.5 | AI16: 9.5 | AJ16: 4.1666667 | AK16: 26.18 | AL16: 1.88 | AM16: 0.92818946 | AO16: 0.24114 | AP16: -0.28213 | AQ16: 0.043744 | AR16: 0.04333 | AS16: -0.000414 | AT16: =$AN$14/AQ16 -> 11.962098 | AU16: =AO16/AR16 -> 5.5651973
A17: 6 | B17: K1T2 | C17: 1 | D17: 7.5 | E17: 7.5 | F17: 7.375 | G17: 7.375 | H17: 6.25 | I17: 5.75 | J17: 5.75 | K17: 5.75 | L17: 5.75 | M17: 5.75 | N17: -1.75 | O17: 3.6666667 | P17: 5.25 | Q17: 5.5 | R17: 6.25 | S17: 6.75 | T17: 6.75 | U17: 6.75 | V17: 6.75 | W17: 6.75 | X17: =pertumbuhan!AT19 -> 6.75 | Y17: =pertumbuhan!AU19 -> 3.25 | Z17: 5 | AA17: 5 | AB17: 6.5 | AC17: 6 | AD17: 6 | AE17: 6 | AF17: 6.5 | AG17: 7 | AH17: 8 | AI17: 8 | AJ17: 3 | AK17: 28.39 | AL17: 2.26 | AM17: 0.92039451 | AN17: =Sheet12!K19 -> 0.563846 | AO17: 0.211976 | AP17: -0.35187 | AQ17: 0.045814 | AR17: 0.037948 | AS17: -0.007866 | AT17: =$AN$17/AQ17 -> 12.307286 | AU17: =AO17/AR17 -> 5.5859597 | AV17: =tpc!G19 -> 36.5 | AW17: =tpc!H19 -> 3,65 x 10^7 | AX17: =tpc!I19 -> 3 x 10^7 | AY17: =tpc!J19 -> 2 x 10^7 | AZ17: =tpc!K19 -> 1 x 10^8 | BA17: =tpc!L19 -> 1 x 10^8 | BB17: =tpc!AE19 -> 6 | BC17: =tpc!AF19 -> 35 | BD17: =tpc!AG19 -> 1,8 x 10^8 | BE17: =tpc!AH19 -> 1,2 x 10^8 | BF17: =tpc!AI19 -> 5 x 10^8 | BG17: =tpc!AJ19 -> 7 x 10^8 | BH17: 6 | BI17: K1T2 | BJ17: =tpc!AW19 -> 4.5404034 | BL17: =tpc!AY19 -> 7.3890756 | BN17: =tpc!BA19 -> 4 | BP17: =tpc!BC19 -> 7.7315731 | BR17: =tpc!BE19 -> 8.1672269 | BT17: =tpc!BG19 -> 8.772034 | BV17: =tpc!BI19 -> 3.1911697 | BX17: =tpc!BK19 -> 0.77815125 | BZ17: =tpc!BM19 -> 4.772034
C18: 2 | D18: 7.625 | E18: 7.75 | F18: 7.25 | G18: 7.25 | H18: 6.625 | I18: 5.5 | J18: 5.625 | K18: 5.625 | L18: 5.625 | M18: 5.625 | N18: -2 | O18: 3.6666667 | P18: 5 | Q18: 5.25 | R18: 6 | S18: 6 | T18: 6.25 | U18: 6.25 | V18: 6.25 | W18: 6.25 | X18: =pertumbuhan!AT20 -> 6.25 | Y18: =pertumbuhan!AU20 -> 2.75 | Z18: 5 | AA18: 6 | AB18: 7 | AC18: 7 | AD18: 6.5 | AE18: 7.5 | AF18: 8.5 | AG18: 9.5 | AH18: 9.5 | AI18: 9.5 | AJ18: 4.5 | AK18: 25.4 | AL18: 2.17 | AM18: 0.91456693 | AO18: 0.18091 | AP18: -0.382936 | AQ18: 0.053266 | AR18: 0.056578 | AS18: 0.003312 | AT18: =$AN$17/AQ18 -> 10.585477 | AU18: =AO18/AR18 -> 3.1975326
C19: 3 | D19: 7.625 | E19: 7.5 | F19: 7.375 | G19: 7.375 | H19: 6.25 | I19: 5.375 | J19: 5.5 | K19: 5.5 | L19: 5.5 | M19: 5.5 | N19: -2.125 | O19: 3.1666667 | P19: 2.5 | Q19: 2.5 | R19: 2.75 | S19: 3.75 | T19: 3.75 | U19: 3.75 | V19: 3.75 | W19: 3.75 | X19: =pertumbuhan!AT21 -> 3.75 | Y19: =pertumbuhan!AU21 -> 0.5 | Z19: 5.6666667 | AA19: 5.5 | AB19: 6.5 | AC19: 7.5 | AD19: 8.5 | AE19: 9 | AF19: 9.5 | AG19: 10 | AH19: 9.5 | AI19: 9.5 | AJ19: 3.8333333 | AK19: 20.5 | AL19: 1.53 | AM19: 0.92536585 | AO19: 0.20944 | AP19: -0.354406 | AQ19: 0.048712 | AR19: 0.035464 | AS19: -0.013248 | AT19: =$AN$17/AQ19 -> 11.575094 | AU19: =AO19/AR19 -> 5.9057072
A20: 7 | B20: K2T0 | C20: 1 | D20: 7.5 | E20: 7.5 | F20: 7.5 | G20: 7.5 | H20: 6.625 | I20: 5.5 | J20: 5.625 | K20: 5.625 | L20: 5.625 | M20: 5.625 | N20: -1.875 | O20: 4 | P20: 4.25 | Q20: 4.75 | R20: 5.5 | S20: 5.75 | T20: 5.75 | U20: 6 | V20: 6 | W20: 6 | X20: =pertumbuhan!AT22 -> 6 | Y20: =pertumbuhan!AU22 -> 2 | Z20: 5.3333333 | AA20: 5.5 | AB20: 6 | AC20: 6.5 | AD20: 6.5 | AE20: 7 | AF20: 8 | AG20: 8 | AH20: 9.5 | AI20: 9.5 | AJ20: 4.1666667 | AK20: 21.82 | AL20: 1.85 | AM20: 0.9152154 | AN20: =Sheet12!K22 -> 0.359698 | AO20: 0.181544 | AP20: -0.178154 | AQ20: 0.027598 | AR20: 0.038776 | AS20: 0.011178 | AT20: =$AN$20/AQ20 -> 13.033481 | AU20: =AO20/AR20 -> 4.6818651 | AV20: =tpc!G22 -> 86.5 | AW20: =tpc!H22 -> 8,65 x 10^7 | AX20: =tpc!I22 -> 3,6 x 10^8 | AY20: =tpc!J22 -> 5 x 10^8 | AZ20: =tpc!K22 -> 1 x 10^8 | BA20: =tpc!L22 -> 3 x 10^8 | BB20: =tpc!AE22 -> 3 | BC20: =tpc!AF22 -> 55 | BD20: =tpc!AG22 -> 1,22 x 10^9 | BE20: =tpc!AH22 -> 6,4 x 10^8 | BF20: =tpc!AI22 -> 4 x 10^8 | BG20: =tpc!AJ22 -> 2 x 10^8 | BH20: 7 | BI20: K2T0 | BJ20: =tpc!AW22 -> 4.9306477 | BL20: =tpc!AY22 -> 8.6276363 | BN20: =tpc!BA22 -> 4.150515 | BP20: =tpc!BC22 -> 7.9385416 | BR20: =tpc!BE22 -> 8.9462699 | BT20: =tpc!BG22 -> 8.451545 | BV20: =tpc!BI22 -> 3.0078939 | BX20: =tpc!BK22 -> 0.31863365 | BZ20: =tpc!BM22 -> 4.30103
C21: 2 | D21: 7.625 | E21: 7.5 | F21: 7.375 | G21: 7.375 | H21: 6.375 | I21: 5.25 | J21: 5.25 | K21: 5.25 | L21: 5.25 | M21: 5.25 | N21: -2.375 | O21: 4.1666667 | P21: 3 | Q21: 3.25 | R21: 3.75 | S21: 4.25 | T21: 4.25 | U21: 4.25 | V21: 4.25 | W21: 4.25 | X21: =pertumbuhan!AT23 -> 4.25 | Y21: =pertumbuhan!AU23 -> 0.5 | Z21: 5 | AA21: 5.5 | AB21: 6.5 | AC21: 7.5 | AD21: 8 | AE21: 9 | AF21: 9.5 | AG21: 10 | AH21: 12 | AI21: 12 | AJ21: 7 | AK21: 26.79 | AL21: 2.23 | AM21: 0.91675999 | AO21: 0.213244 | AP21: -0.146454 | AQ21: 0.026356 | AR21: 0.04126 | AS21: 0.014904 | AT21: =$AN$20/AQ21 -> 13.64767 | AU21: =AO21/AR21 -> 5.1682986
C22: 3 | D22: 7.625 | E22: 7.75 | F22: 7.375 | G22: 7.375 | H22: 6.25 | I22: 5.5 | J22: 5.5 | K22: 5.375 | L22: 5.375 | M22: 5.375 | N22: -2.25 | O22: 3.6666667 | P22: 3.5 | Q22: 3.75 | R22: 4.5 | S22: 4.75 | T22: 4.75 | U22: 4.75 | V22: 4.75 | W22: 4.75 | X22: =pertumbuhan!AT24 -> 4.75 | Y22: =pertumbuhan!AU24 -> 1.25 | Z22: 5 | AA22: 6 | AB22: 7 | AC22: 8 | AD22: 8.5 | AE22: 9.5 | AF22: 10 | AG22: 10 | AH22: 10 | AI22: 10 | AJ22: 5 | AK22: 34.54 | AL22: 2.69 | AM22: 0.92211928 | AO22: 0.27918 | AP22: -0.080518 | AQ22: 0.046228 | AR22: 0.056992 | AS22: 0.010764 | AT22: =$AN$20/AQ22 -> 7.7809553 | AU22: =AO22/AR22 -> 4.8985823
A23: 8 | B23: K2T1 | C23: 1 | D23: 7.625 | E23: 7.5 | F23: 7.375 | G23: 7.375 | H23: 6.125 | I23: 5.625 | J23: 5.625 | K23: 5.625 | L23: 5.625 | M23: 5.625 | N23: -2 | O23: 4.5 | P23: 4 | Q23: 4.5 | R23: 4.75 | S23: 5.25 | T23: 5.25 | U23: 5.25 | V23: 5.25 | W23: 5.25 | X23: =pertumbuhan!AT25 -> 5.25 | Y23: =pertumbuhan!AU25 -> 1.75 | Z23: 5.6666667 | AA23: 5 | AB23: 5.5 | AC23: 6.5 | AD23: 7 | AE23: 8 | AF23: 9 | AG23: 10 | AH23: 11 | AI23: 11 | AJ23: 5.3333333 | AK23: 17.95 | AL23: 1.5 | AM23: 0.91643454 | AN23: =Sheet12!K25 -> 0.512492 | AO23: 0.420562 | AP23: -0.09193 | AQ23: 0.061132 | AR23: 0.030496 | AS23: -0.030636 | AT23: =$AN$23/AQ23 -> 8.3833671 | AU23: =AO23/AR23 -> 13.790727 | AV23: =tpc!G25 -> 2 | AW23: =tpc!H25 -> 0.2 x 10^7 | AX23: =tpc!I25 -> 0 | AY23: =tpc!J25 -> 0 | AZ23: =tpc!K25 -> 0 | BA23: =tpc!L25 -> 0 | BB23: =tpc!AE25 -> 0 | BC23: =tpc!AF25 -> 5 | BD23: =tpc!AG25 -> 0 | BE23: =tpc!AH25 -> 6 x 10^7 | BF23: =tpc!AI25 -> 0 | BG23: =tpc!AJ25 -> 0 | BH23: 8 | BI23: K2T1 | BJ23: =tpc!AW25 -> 3.30103 | BL23: =tpc!AY25 -> 0 | BN23: =tpc!BA25 -> 0 | BP23: =tpc!BC25 -> 7.121519 | BR23: =tpc!BE25 -> 3.8890756 | BT23: =tpc!BG25 -> 0 | BV23: =tpc!BI25 -> 3.820489 | BX23: =tpc!BK25 -> 3.8890756 | BZ23: =tpc!BM25 -> 0
C24: 2 | D24: 7.5 | E24: 7.5 | F24: 7.25 | G24: 7.25 | H24: 6 | I24: 5 | J24: 5 | K24: 5 | L24: 5 | M24: 5 | N24: -2.5 | O24: 3.6666667 | P24: 4.25 | Q24: 5 | R24: 5.75 | S24: 6 | T24: 6 | U24: 6 | V24: 6 | W24: 6 | X24: =pertumbuhan!AT26 -> 6 | Y24: =pertumbuhan!AU26 -> 2.5 | Z24: 5 | AA24: 5.5 | AB24: 5.5 | AC24: 6.5 | AD24: 7 | AE24: 8 | AF24: 9 | AG24: 9 | AH24: 10 | AI24: 10 | AJ24: 5 | AK24: 28.89 | AL24: 2.58 | AM24: 0.91069574 | AO24: 0.506786 | AP24: -0.005706 | AQ24: 0.046228 | AR24: 0.055336 | AS24: 0.009108 | AT24: =$AN$23/AQ24 -> 11.086182 | AU24: =AO24/AR24 -> 9.1583418
C25: 3 | D25: 7.625 | E25: 7.75 | F25: 7.25 | G25: 7.25 | H25: 6.125 | I25: 5.25 | J25: 5.25 | K25: 5.25 | L25: 5.25 | M25: 5.25 | N25: -2.375 | O25: 5 | P25: 4.25 | Q25: 5.5 | R25: 6.25 | S25: 6.75 | T25: 6.75 | U25: 7 | V25: 7 | W25: 7 | X25: =pertumbuhan!AT27 -> 7 | Y25: =pertumbuhan!AU27 -> 2 | Z25: 5 | AA25: 6 | AB25: 6.5 | AC25: 7.5 | AD25: 7 | AE25: 8 | AF25: 9 | AG25: 10.5 | AH25: 11 | AI25: 11 | AJ25: 6 | AK25: 25.22 | AL25: 2.32 | AM25: 0.90800952 | AO25: 0.47572 | AP25: -0.036772 | AQ25: 0.03091 | AR25: 0.04747 | AS25: 0.01656 | AT25: =$AN$23/AQ25 -> 16.580136 | AU25: =AO25/AR25 -> 10.021487
A26: 9 | B26: K2T2 | C26: 1 | D26: 7.625 | E26: 7.75 | F26: 7.375 | G26: 7.375 | H26: 6 | I26: 4.75 | J26: 4.75 | K26: 4.75 | L26: 4.75 | M26: 4.75 | N26: -2.875 | O26: 3.6666667 | P26: 4.75 | Q26: 5.25 | R26: 6.5 | S26: 7 | T26: 7 | U26: 7 | V26: 7 | W26: 7 | X26: =pertumbuhan!AT28 -> 7 | Y26: =pertumbuhan!AU28 -> 2.5 | Z26: 5.6666667 | AA26: 6 | AB26: 6.5 | AC26: 7 | AD26: 7.5 | AE26: 8 | AF26: 8 | AG26: 9 | AH26: 9.5 | AI26: 9.5 | AJ26: 3.8333333 | AK26: 33.3 | AL26: 2.9 | AM26: 0.91291291 | AN26: =Sheet12!K28 -> 0.559408 | AO26: 0.270938 | AP26: -0.28847 | AQ26: 0.03712 | AR26: 0.039604 | AS26: 0.002484 | AT26: =$AN$26/AQ26 -> 15.070259 | AU26: =AO26/AR26 -> 6.8411777 | AV26: =tpc!G28 -> 169 | AW26: 0 | AX26: 0 | AY26: 0 | AZ26: =tpc!K28 -> 0 | BA26: =tpc!L28 -> 0 | BB26: =tpc!AE28 -> 1 | BC26: =tpc!AF28 -> 11 | BD26: =tpc!AG28 -> 1 x 10^8 | BE26: =tpc!AH28 -> 5 x 10^7 | BF26: 0 | BG26: =tpc!AJ28 -> 1 x 10^8 | BH26: 9 | BI26: K2T2 | BJ26: =tpc!AW28 -> 1.1139434 | BL26: =tpc!AY28 -> 0 | BN26: =tpc!BA28 -> 0 | BP26: =tpc!BC28 -> 6.9432454 | BR26: =tpc!BE28 -> 7.849485 | BT26: =tpc!BG28 -> 4 | BV26: =tpc!BI28 -> 5.829302 | BX26: =tpc!BK28 -> 7.849485 | BZ26: =tpc!BM28 -> 4
C27: 2 | D27: 7.5 | E27: 7.5 | F27: 7.375 | G27: 7.375 | H27: 6.125 | I27: 5.25 | J27: 5.25 | K27: 5.25 | L27: 5.25 | M27: 5.25 | N27: -2.25 | O27: 3.6666667 | P27: 4.75 | Q27: 5.25 | R27: 5.75 | S27: 5.75 | T27: 5.75 | U27: 5.75 | V27: 5.75 | W27: 5.75 | X27: =pertumbuhan!AT29 -> 5.75 | Y27: =pertumbuhan!AU29 -> 2.25 | Z27: 5 | AA27: 6 | AB27: 7 | AC27: 7 | AD27: 7 | AE27: 7.5 | AF27: 8.5 | AG27: 8.5 | AH27: 10 | AI27: 10 | AJ27: 5 | AK27: 18.41 | AL27: 2.23 | AM27: 0.87887018 | AO27: 0.30137 | AP27: -0.258038 | AQ27: 0.018904 | AR27: 0.064444 | AS27: 0.04554 | AT27: =$AN$26/AQ27 -> 29.592044 | AU27: =AO27/AR27 -> 4.6764633
C28: 3 | D28: 7.625 | E28: 7.5 | F28: 7.375 | G28: 7.375 | H28: 6.25 | I28: 5.25 | J28: 5.25 | K28: 5.25 | L28: 5.25 | M28: 5.25 | N28: -2.375 | O28: 3 | P28: 3.75 | Q28: 4.5 | R28: 5.25 | S28: 5.25 | T28: 5.25 | U28: 5.25 | V28: 5.25 | W28: 5.25 | X28: =pertumbuhan!AT30 -> 5.25 | Y28: =pertumbuhan!AU30 -> 2.25 | Z28: 5 | AA28: 5.5 | AB28: 6.5 | AC28: 7.5 | AD28: 7 | AE28: 8 | AF28: 8.5 | AG28: 9.5 | AH28: 9.5 | AI28: 9.5 | AJ28: 4.5 | AK28: 28.14 | AL28: 1.98 | AM28: 0.92963753 | AO28: 0.419294 | AP28: -0.140114 | AQ28: 0.035878 | AR28: 0.040018 | AS28: 0.00414 | AT28: =$AN$26/AQ28 -> 15.59195 | AU28: =AO28/AR28 -> 10.477635
B29: rata | C29: rata | D29: =AVERAGE(_xlfn.ANCHORARRAY(D2)) -> 8.0185185 | E29: =AVERAGE(_xlfn.ANCHORARRAY(E2)) -> 8.3333333 | F29: =AVERAGE(_xlfn.ANCHORARRAY(F2)) -> 8.1018519 | G29: =AVERAGE(_xlfn.ANCHORARRAY(G2)) -> 8.0925926 | H29: =AVERAGE(_xlfn.ANCHORARRAY(H2)) -> 7.4444444 | I29: =AVERAGE(_xlfn.ANCHORARRAY(I2)) -> 6.8935185 | J29: =AVERAGE(_xlfn.ANCHORARRAY(J2)) -> 6.5046296 | K29: =AVERAGE(_xlfn.ANCHORARRAY(K2)) -> 6.2731481 | ... M29: =AVERAGE(_xlfn.ANCHORARRAY(M2)) -> 6.2453704 | N29: -1.7731481 | O29: =AVERAGE(_xlfn.ANCHORARRAY(O2)) -> 3.9197531 | P29: =AVERAGE(_xlfn.ANCHORARRAY(P2)) -> 4.0925926 | Q29: =AVERAGE(_xlfn.ANCHORARRAY(Q2)) -> 4.5555556 | R29: =AVERAGE(_xlfn.ANCHORARRAY(R2)) -> 5.1944444 | S29: =AVERAGE(_xlfn.ANCHORARRAY(S2)) -> 5.7777778 | T29: =AVERAGE(_xlfn.ANCHORARRAY(T2)) -> 5.8703704 | U29: =AVERAGE(_xlfn.ANCHORARRAY(U2)) -> 5.8981481 | V29: =AVERAGE(_xlfn.ANCHORARRAY(V2)) -> 5.9259259 | ... X29: =AVERAGE(_xlfn.ANCHORARRAY(X2)) -> 4.5 | Y29: =pertumbuhan!AU31 -> 2.2314815 | Z29: =AVERAGE(_xlfn.ANCHORARRAY(Z2)) -> 5.1975309 | AA29: =AVERAGE(_xlfn.ANCHORARRAY(AA2)) -> 5.6666667 | AB29: =AVERAGE(_xlfn.ANCHORARRAY(AB2)) -> 6.3703704 | AC29: =AVERAGE(_xlfn.ANCHORARRAY(AC2)) -> 6.7962963 | AD29: =AVERAGE(_xlfn.ANCHORARRAY(AD2)) -> 6.9444444 | AE29: =AVERAGE(_xlfn.ANCHORARRAY(AE2)) -> 7.4814815 | AF29: =AVERAGE(_xlfn.ANCHORARRAY(AF2)) -> 7.9074074 | AG29: =AVERAGE(_xlfn.ANCHORARRAY(AG2)) -> 8.2777778 | ... AO29: =AVERAGE(_xlfn.ANCHORARRAY(AO2)) -> 0.26943519 | AP29: -0.13844681 | AQ29: =AVERAGE(_xlfn.ANCHORARRAY(AQ2)) -> 0.04172 | AR29: =AVERAGE(_xlfn.ANCHORARRAY(AR2)) -> 0.044802 | AS29: 0.003082 | AT29: =AVERAGE(AT2:AT28) -> 10.347911 | AU29: =AVERAGE(AU2:AU28) -> 6.2966655 | BG29: rata | BI29: rata | BJ29: =AVERAGE(BJ2:BK28) -> 3.9582055 | BL29: =AVERAGE(BL2:BM28) -> 6.0184678 | BN29: =AVERAGE(BN2:BO28) -> 3.2240791 | BP29: =AVERAGE(BP2:BQ28) -> 7.3339045 | BR29: =AVERAGE(BR2:BS28) -> 7.8060951 | BT29: =AVERAGE(BT2:BU28) -> 7.2638805 | BV29: =AVERAGE(BV2:BW28) -> 3.375699 | BX29: =AVERAGE(BX2:BY28) -> 1.7876274 | BZ29: =AVERAGE(BZ2:CA28) -> 4.0398014
B30: stdv | C30: stdv | D30: =_xlfn.STDEV.S(_xlfn.ANCHORARRAY(D2)) -> 0.75455643 | E30: =_xlfn.STDEV.S(_xlfn.ANCHORARRAY(E2)) -> 1.0629241 | F30: =_xlfn.STDEV.S(_xlfn.ANCHORARRAY(F2)) -> 0.95262607 | G30: =_xlfn.STDEV.S(_xlfn.ANCHORARRAY(G2)) -> 0.94346983 | H30: =_xlfn.STDEV.S(_xlfn.ANCHORARRAY(H2)) -> 1.4852372 | I30: =_xlfn.STDEV.S(_xlfn.ANCHORARRAY(I2)) -> 1.8981594 | J30: =_xlfn.STDEV.S(_xlfn.ANCHORARRAY(J2)) -> 1.4661573 | K30: =_xlfn.STDEV.S(_xlfn.ANCHORARRAY(K2)) -> 1.2780681 | ... M30: =_xlfn.STDEV.S(_xlfn.ANCHORARRAY(M2)) -> 1.2308541 | N30: 0.73301032 | O30: =_xlfn.STDEV.S(_xlfn.ANCHORARRAY(O2)) -> 0.48342256 | P30: =_xlfn.STDEV.S(_xlfn.ANCHORARRAY(P2)) -> 0.8692065 | Q30: =_xlfn.STDEV.S(_xlfn.ANCHORARRAY(Q2)) -> 0.99356907 | R30: =_xlfn.STDEV.S(_xlfn.ANCHORARRAY(R2)) -> 1.1484382 | S30: =_xlfn.STDEV.S(_xlfn.ANCHORARRAY(S2)) -> 1.1230396 | T30: =_xlfn.STDEV.S(_xlfn.ANCHORARRAY(T2)) -> 1.1145247 | U30: =_xlfn.STDEV.S(_xlfn.ANCHORARRAY(U2)) -> 1.1164402 | V30: =_xlfn.STDEV.S(_xlfn.ANCHORARRAY(V2)) -> 1.1262062 | W30: =_xlfn.STDEV.S(_xlfn.ANCHORARRAY(W2)) -> 1.1342411 | X30: =_xlfn.STDEV.S(X2:X28) -> 1.1342411 | Y30: =pertumbuhan!AU32 -> 1.0740065 | Z30: =_xlfn.STDEV.S(_xlfn.ANCHORARRAY(Z2)) -> 0.29611818 | AA30: =_xlfn.STDEV.S(_xlfn.ANCHORARRAY(AA2)) -> 0.39223227 | AB30: =_xlfn.STDEV.S(_xlfn.ANCHORARRAY(AB2)) -> 0.52974218 | AC30: =_xlfn.STDEV.S(_xlfn.ANCHORARRAY(AC2)) -> 0.7501187 | AD30: =_xlfn.STDEV.S(_xlfn.ANCHORARRAY(AD2)) -> 0.96409915 | AE30: =_xlfn.STDEV.S(_xlfn.ANCHORARRAY(AE2)) -> 1.1391755 | AF30: =_xlfn.STDEV.S(_xlfn.ANCHORARRAY(AF2)) -> 1.2862964 | AG30: =_xlfn.STDEV.S(_xlfn.ANCHORARRAY(AG2)) -> 1.8151782 | AH30: =_xlfn.STDEV.S(_xlfn.ANCHORARRAY(AH2)) -> 2.2532028 | AI30: =_xlfn.STDEV.S(AI2:AI28) -> 2.4237665 | AJ30: =_xlfn.STDEV.S(_xlfn.ANCHORARRAY(AJ2)) -> 2.424909 | AK30: =_xlfn.STDEV.S(AK2:AK28) -> 10.416524 | AL30: =_xlfn.STDEV.S(AL2:AL28) -> 0.74543014 | AM30: =_xlfn.STDEV.S(AM2:AM28) -> 0.036997508 | AN30: =_xlfn.STDEV.S(AN2:AN28) -> 0.1573719 | AO30: =_xlfn.STDEV.S(AO2:AO28) -> 0.10382648 | AP30: 0.174867 | AQ30: =_xlfn.STDEV.S(AQ2:AQ28) -> 0.010165776 | AR30: =_xlfn.STDEV.S(AR2:AR28) -> 0.010203964 | AS30: 0.015723338 | AT30: =_xlfn.STDEV.S(AT2:AT28) -> 5.3410746 | AU30: =_xlfn.STDEV.S(AU2:AU28) -> 2.8716572 | BG30: stdv | BI30: stdv | BJ30: =_xlfn.STDEV.S(BJ2:BK28) -> 1.194457 | BL30: =_xlfn.STDEV.S(BL2:BM28) -> 3.4318472 | BN30: =_xlfn.STDEV.S(BN2:BO28) -> 1.8308594 | BP30: =_xlfn.STDEV.S(BP2:BQ28) -> 0.65142509 | BR30: =_xlfn.STDEV.S(BR2:BS28) -> 1.5263319 | BT30: =_xlfn.STDEV.S(BT2:BU28) -> 3.1651101 | BV30: =_xlfn.STDEV.S(BV2:BW28) -> 1.2780201 | BX30: =_xlfn.STDEV.S(BX2:BY28) -> 2.5451671 | BZ30: =_xlfn.STDEV.S(BZ2:CA28) -> 1.578354
BJ31: 6.96±1.2 | BL31: 6.02±3.43 | BN31: 6.33±3.59 | BP31: 7.33±0.65 | BR31: 7.81±1.53 | BT31: 7.26±3.17 | BV31: 0.37±1.28 | BX31: 1.79±2.55 | BZ31: 0.93±1.24
A33: No. | B33: Kode Tanaman | C33: Ulangan | D33: tinggi (hari ke-0) | E33: tinggi (hari ke-3) | F33: tinggi (hari ke-5) | G33: tinggi (hari ke-7) | H33: tinggi (hari ke-9) | I33: tinggi (hari ke-11) | J33: tinggi (hari ke-13) | K33: tinggi (hari ke-15) | L33: tinggi (hari ke-17) | M33: tinggi (hari ke-19) | N33: Delta | O33: Kode Tanaman | P33: 0 | Q33: 3 | R33: 5 | S33: 7 | T33: 9 | U33: 11 | V33: 13 | W33: 15 | X33: 17 | Y33: 19
A34: 1 | B34: K0T0 | C34: 1 | D34: 2.5 | E34: 2.75 | F34: 3 | G34: 3 | H34: 4 | I34: 4.25 | J34: 4.25 | K34: 4.5 | L34: 4.5 | M34: 4.5 | N34: 1.75 | O34: K0T0 | P34: =AVERAGE(D34:D36) -> 3.7222222 | Q34: =AVERAGE(E34:E36) -> 4.3333333 | R34: =AVERAGE(F34:F36) -> 4.75 | S34: =AVERAGE(G34:G36) -> 5.1666667 | T34: =AVERAGE(H34:H36) -> 5.8333333 | U34: =AVERAGE(I34:I36) -> 6.1666667 | V34: =AVERAGE(J34:J36) -> 6.1666667 | W34: =AVERAGE(K34:K36) -> 6.4166667 | ... Y34: =AVERAGE(M34:M36) -> 6.5
C35: 2 | D35: 4.8333333 | E35: 5 | F35: 5.25 | G35: 5.75 | H35: 6.25 | I35: 6.5 | J35: 6.5 | K35: 6.75 | L35: 7 | M35: 7 | N35: 2.5 | O35: K0T1 | P35: =AVERAGE(D37:D39) -> 3.6666667 | Q35: =AVERAGE(E37:E39) -> 4.5833333 | R35: =AVERAGE(F37:F39) -> 5.0833333 | S35: =AVERAGE(G37:G39) -> 5.5833333 | T35: =AVERAGE(H37:H39) -> 6.4166667 | U35: =AVERAGE(I37:I39) -> 6.4166667 | V35: =AVERAGE(J37:J39) -> 6.4166667 | W35: =AVERAGE(K37:K39) -> 6.4166667 | ... Y35: =AVERAGE(M37:M39) -> 6.4166667
C36: 3 | D36: 3.8333333 | E36: 5.25 | F36: 6 | G36: 6.75 | H36: 7.25 | I36: 7.75 | J36: 7.75 | K36: 8 | L36: 8 | M36: 8 | N36: 4.25 | O36: K0T2 | P36: =AVERAGE(D40:D42) -> 3.3888889 | Q36: =AVERAGE(E40:E42) -> 3.6666667 | R36: =AVERAGE(F40:F42) -> 4.25 | S36: =AVERAGE(G40:G42) -> 5 | T36: =AVERAGE(H40:H42) -> 6.3333333 | U36: =AVERAGE(I40:I42) -> 6.4166667 | V36: =AVERAGE(J40:J42) -> 6.4166667 | W36: =AVERAGE(K40:K42) -> 6.4166667 | ... Y36: =AVERAGE(M40:M42) -> 6.4166667
A37: 2 | B37: K0T1 | C37: 1 | D37: 4 | E37: 5 | F37: 5.25 | G37: 6 | H37: 6.5 | I37: 6.5 | J37: 6.5 | K37: 6.5 | L37: 6.5 | M37: 6.5 | N37: 2 | O37: K1T0 | P37: =AVERAGE(D43:D45) -> 3.2211111 | Q37: =AVERAGE(E43:E45) -> 3.5 | R37: =AVERAGE(F43:F45) -> 3.8333333 | S37: =AVERAGE(G43:G45) -> 4.5 | T37: =AVERAGE(H43:H45) -> 4.8333333 | U37: =AVERAGE(I43:I45) -> 5.0833333 | V37: =AVERAGE(J43:J45) -> 5.1666667 | W37: =AVERAGE(K43:K45) -> 5.1666667 | ... Y37: =AVERAGE(M43:M45) -> 5.1666667
C38: 2 | D38: 3.3333333 | E38: 5.25 | F38: 6 | G38: 6.5 | H38: 7.5 | I38: 7.5 | J38: 7.5 | K38: 7.5 | L38: 7.5 | M38: 7.5 | N38: 4.5 | O38: K1T1 | P38: =AVERAGE(D46:D48) -> 3.7222222 | Q38: =AVERAGE(E46:E48) -> 4.3333333 | R38: =AVERAGE(F46:F48) -> 4.75 | S38: =AVERAGE(G46:G48) -> 5.5 | T38: =AVERAGE(H46:H48) -> 6.1666667 | U38: =AVERAGE(I46:I48) -> 6.25 | V38: =AVERAGE(J46:J48) -> 6.25 | W38: =AVERAGE(K46:K48) -> 6.25 | ... Y38: =AVERAGE(M46:M48) -> 6.25
C39: 3 | D39: 3.6666667 | E39: 3.5 | F39: 4 | G39: 4.25 | H39: 5.25 | I39: 5.25 | J39: 5.25 | K39: 5.25 | L39: 5.25 | M39: 5.25 | N39: 1.25 | O39: K1T2 | P39: =AVERAGE(D49:D51) -> 3.2777778 | Q39: =AVERAGE(E49:E51) -> 4.25 | R39: =AVERAGE(F49:F51) -> 4.4166667 | S39: =AVERAGE(G49:G51) -> 5 | T39: =AVERAGE(H49:H51) -> 5.5 | U39: =AVERAGE(I49:I51) -> 5.5833333 | V39: =AVERAGE(J49:J51) -> 5.5833333 | W39: =AVERAGE(K49:K51) -> 5.5833333 | ... Y39: =AVERAGE(M49:M51) -> 5.5833333
A40: 3 | B40: K0T2 | C40: 1 | D40: 3 | E40: 3 | F40: 3.25 | G40: 3.5 | H40: 4.75 | I40: 5 | J40: 5 | K40: 5 | L40: 5 | M40: 5 | N40: 1 | O40: K2T0 | P40: =AVERAGE(D52:D54) -> 3.4166667 | Q40: =AVERAGE(E52:E54) -> 3.5833333 | R40: =AVERAGE(F52:F54) -> 3.9166667 | S40: =AVERAGE(G52:G54) -> 4.5833333 | T40: =AVERAGE(H52:H54) -> 4.9166667 | U40: =AVERAGE(I52:I54) -> 4.9166667 | V40: =AVERAGE(J52:J54) -> 5 | W40: =AVERAGE(K52:K54) -> 5 | ... Y40: =AVERAGE(M52:M54) -> 5
C41: 2 | D41: 3 | E41: 3.25 | F41: 4 | G41: 4.75 | H41: 6.5 | I41: 6.5 | J41: 6.5 | K41: 6.5 | L41: 6.5 | M41: 6.5 | N41: 2.5 | O41: K2T1 | P41: =AVERAGE(D55:D57) -> 3.9722222 | Q41: =AVERAGE(E55:E57) -> 4.5833333 | R41: =AVERAGE(F55:F57) -> 5 | S41: =AVERAGE(G55:G57) -> 5.5833333 | T41: =AVERAGE(H55:H57) -> 6 | U41: =AVERAGE(I55:I57) -> 6 | V41: =AVERAGE(J55:J57) -> 6.0833333 | W41: =AVERAGE(K55:K57) -> 6.0833333 | ... Y41: =AVERAGE(M55:M57) -> 6.0833333
C42: 3 | D42: 4.1666667 | E42: 4.75 | F42: 5.5 | G42: 6.75 | H42: 7.75 | I42: 7.75 | J42: 7.75 | K42: 7.75 | L42: 7.75 | M42: 7.75 | N42: 4.25 | O42: K2T2 | P42: =AVERAGE(D58:D60) -> 3.4444444 | Q42: =AVERAGE(E58:E60) -> 4.4166667 | R42: =AVERAGE(F58:F60) -> 5 | S42: =AVERAGE(G58:G60) -> 5.8333333 | T42: =AVERAGE(H58:H60) -> 6 | U42: =AVERAGE(I58:I60) -> 6 | V42: =AVERAGE(J58:J60) -> 6 | W42: =AVERAGE(K58:K60) -> 6 | ... Y42: =AVERAGE(M58:M60) -> 6
A43: 4 | B43: K1T0 | C43: 1 | D43: 2.5 | E43: 2.75 | F43: 2.75 | G43: 3.75 | H43: 4 | I43: 4.25 | J43: 4.25 | K43: 4.25 | L43: 4.25 | M43: 4.25 | N43: 0.5
C44: 2 | D44: 3.33 | E44: 3.5 | F44: 4 | G44: 4.5 | H44: 4.5 | I44: 5 | J44: 5.25 | K44: 5.25 | L44: 5.25 | M44: 5.25 | N44: 1.75
C45: 3 | D45: 3.8333333 | E45: 4.25 | F45: 4.75 | G45: 5.25 | H45: 6 | I45: 6 | J45: 6 | K45: 6 | L45: 6 | M45: 6 | N45: 2.5
A46: 5 | B46: K1T1 | C46: 1 | D46: 3.3333333 | E46: 3.5 | F46: 4 | G46: 4.75 | H46: 5.5 | I46: 5.5 | J46: 5.5 | K46: 5.5 | L46: 5.5 | M46: 5.5 | N46: 2
C47: 2 | D47: 3.8333333 | E47: 5 | F47: 5.5 | G47: 6.25 | H47: 7 | I47: 7.25 | J47: 7.25 | K47: 7.25 | L47: 7.25 | M47: 7.25 | N47: 3.5
C48: 3 | D48: 4 | E48: 4.5 | F48: 4.75 | G48: 5.5 | H48: 6 | I48: 6 | J48: 6 | K48: 6 | L48: 6 | M48: 6 | N48: 2.5
A49: 6 | B49: K1T2 | C49: 1 | D49: 3.6666667 | E49: 5.25 | F49: 5.5 | G49: 6.25 | H49: 6.75 | I49: 6.75 | J49: 6.75 | K49: 6.75 | L49: 6.75 | M49: 6.75 | N49: 3.25
C50: 2 | D50: 3.6666667 | E50: 5 | F50: 5.25 | G50: 6 | H50: 6 | I50: 6.25 | J50: 6.25 | K50: 6.25 | L50: 6.25 | M50: 6.25 | N50: 2.75
C51: 3 | D51: 2.5 | E51: 2.5 | F51: 2.5 | G51: 2.75 | H51: 3.75 | I51: 3.75 | J51: 3.75 | K51: 3.75 | L51: 3.75 | M51: 3.75 | N51: 0.5
A52: 7 | B52: K2T0 | C52: 1 | D52: 4 | E52: 4.25 | F52: 4.75 | G52: 5.5 | H52: 5.75 | I52: 5.75 | J52: 6 | K52: 6 | L52: 6 | M52: 6 | N52: 2
C53: 2 | D53: 3 | E53: 3 | F53: 3.25 | G53: 3.75 | H53: 4.25 | I53: 4.25 | J53: 4.25 | K53: 4.25 | L53: 4.25 | M53: 4.25 | N53: 0.5
C54: 3 | D54: 3.25 | E54: 3.5 | F54: 3.75 | G54: 4.5 | H54: 4.75 | I54: 4.75 | J54: 4.75 | K54: 4.75 | L54: 4.75 | M54: 4.75 | N54: 1.25
A55: 8 | B55: K2T1 | C55: 1 | D55: 4 | E55: 4.5 | F55: 4.5 | G55: 4.75 | H55: 5.25 | I55: 5.25 | J55: 5.25 | K55: 5.25 | L55: 5.25 | M55: 5.25 | N55: 1.75
C56: 2 | D56: 3.6666667 | E56: 4.25 | F56: 5 | G56: 5.75 | H56: 6 | I56: 6 | J56: 6 | K56: 6 | L56: 6 | M56: 6 | N56: 2.5
C57: 3 | D57: 4.25 | E57: 5 | F57: 5.5 | G57: 6.25 | H57: 6.75 | I57: 6.75 | J57: 7 | K57: 7 | L57: 7 | M57: 7 | N57: 2
A58: 9 | B58: K2T2 | C58: 1 | D58: 3.6666667 | E58: 4.75 | F58: 5.25 | G58: 6.5 | H58: 7 | I58: 7 | J58: 7 | K58: 7 | L58: 7 | M58: 7 | N58: 2.5
C59: 2 | D59: 3.6666667 | E59: 4.75 | F59: 5.25 | G59: 5.75 | H59: 5.75 | I59: 5.75 | J59: 5.75 | K59: 5.75 | L59: 5.75 | M59: 5.75 | N59: 2.25
C60: 3 | D60: 3 | E60: 3.75 | F60: 4.5 | G60: 5.25 | H60: 5.25 | I60: 5.25 | J60: 5.25 | K60: 5.25 | L60: 5.25 | M60: 5.25 | N60: 2.25
C61: rata | D61: 3.9197531 | E61: 4.0925926 | F61: 4.5555556 | G61: 5.1944444 | H61: 5.7777778 | I61: 5.8703704 | J61: 5.8981481 | K61: 5.9259259 | L61: 5.9351852 | M61: 4.5 | N61: 2.2314815
C62: stdv | D62: 0.48342256 | E62: 0.8692065 | F62: 0.99356907 | G62: 1.1484382 | H62: 1.1230396 | I62: 1.1145247 | J62: 1.1164402 | K62: 1.1262062 | L62: 1.1342411 | M62: 1.1342411 | N62: 1.0740065
A65: No. | B65: Kode Tanaman | C65: Ulangan | D65: jumlah daun (hari ke-0) | E65: jumlah daun (hari ke-3) | F65: jumlah daun (hari ke-5) | G65: jumlah daun (hari ke-7) | H65: jumlah daun (hari ke-9) | I65: jumlah daun (hari ke-11) | J65: jumlah daun (hari ke-13) | K65: jumlah daun (hari ke-15) | L65: jumlah daun (hari ke-17) | M65: jumlah daun (hari ke-19) | N65: Delta | O65: Kode Tanaman | P65: 0 | Q65: 3 | R65: 5 | S65: 7 | T65: 9 | U65: 11 | V65: 13 | W65: 15 | X65: 17 | Y65: 19
A66: 1 | B66: K0T0 | C66: 1 | D66: 5 | E66: 5.5 | F66: 5.5 | G66: 5.5 | H66: 5 | I66: 5 | J66: 5 | K66: 5 | L66: 6 | M66: 5.5 | N66: 0.5 | O66: K0T0 | P66: =AVERAGE(D66:D68) -> 5.1111111 | Q66: =AVERAGE(E66:E68) -> 5.6666667 | R66: =AVERAGE(F66:F68) -> 6.1666667 | S66: =AVERAGE(G66:G68) -> 6.5 | T66: =AVERAGE(H66:H68) -> 6.1666667 | U66: =AVERAGE(I66:I68) -> 6.5 | V66: =AVERAGE(J66:J68) -> 6.3333333 | W66: =AVERAGE(K66:K68) -> 6.8333333 | ... Y66: =AVERAGE(M66:M68) -> 7.1666667
C67: 2 | D67: 5 | E67: 6 | F67: 6.5 | G67: 6.5 | H67: 6 | I67: 7 | J67: 6.5 | K67: 7 | L67: 7 | M67: 6.5 | N67: 1.5 | O67: K0T1 | P67: =AVERAGE(D69:D71) -> 5.3333333 | Q67: =AVERAGE(E69:E71) -> 5.3333333 | R67: =AVERAGE(F69:F71) -> 6 | S67: =AVERAGE(G69:G71) -> 6.3333333 | T67: =AVERAGE(H69:H71) -> 6.8333333 | U67: =AVERAGE(I69:I71) -> 6.6666667 | V67: =AVERAGE(J69:J71) -> 6.8333333 | W67: =AVERAGE(K69:K71) -> 6.6666667 | ... Y67: =AVERAGE(M69:M71) -> 6
C68: 3 | D68: 5.3333333 | E68: 5.5 | F68: 6.5 | G68: 7.5 | H68: 7.5 | I68: 7.5 | J68: 7.5 | K68: 8.5 | L68: 10 | M68: 9.5 | N68: 4.1666667 | O68: K0T2 | P68: =AVERAGE(D72:D74) -> 5 | Q68: =AVERAGE(E72:E74) -> 5.6666667 | R68: =AVERAGE(F72:F74) -> 6.3333333 | S68: =AVERAGE(G72:G74) -> 5.8333333 | T68: =AVERAGE(H72:H74) -> 5.8333333 | U68: =AVERAGE(I72:I74) -> 6.3333333 | V68: =AVERAGE(J72:J74) -> 6.5 | W68: =AVERAGE(K72:K74) -> 6 | ... Y68: =AVERAGE(M72:M74) -> 4.8333333
A69: 2 | B69: K0T1 | C69: 1 | D69: 5 | E69: 5 | F69: 6 | G69: 6 | H69: 7 | I69: 6.5 | J69: 7 | K69: 6.5 | L69: 6 | M69: 5.5 | N69: 0.5 | O69: K1T0 | P69: =AVERAGE(D75:D77) -> 5.4444444 | Q69: =AVERAGE(E75:E77) -> 5.8333333 | R69: =AVERAGE(F75:F77) -> 7 | S69: =AVERAGE(G75:G77) -> 7.5 | T69: =AVERAGE(H75:H77) -> 8.1666667 | U69: =AVERAGE(I75:I77) -> 8.6666667 | V69: =AVERAGE(J75:J77) -> 8.8333333 | W69: =AVERAGE(K75:K77) -> 10.166667 | ... Y69: =AVERAGE(M75:M77) -> 10.5
C70: 2 | D70: 5.3333333 | E70: 5.5 | F70: 5.5 | G70: 6 | H70: 6 | I70: 6.5 | J70: 6.5 | K70: 6.5 | L70: 6 | M70: 6 | N70: 0.66666667 | O70: K1T1 | P70: =AVERAGE(D78:D80) -> 5.1111111 | Q70: =AVERAGE(E78:E80) -> 6 | R70: =AVERAGE(F78:F80) -> 6.1666667 | S70: =AVERAGE(G78:G80) -> 6.8333333 | T70: =AVERAGE(H78:H80) -> 6.6666667 | U70: =AVERAGE(I78:I80) -> 7.3333333 | V70: =AVERAGE(J78:J80) -> 8 | W70: =AVERAGE(K78:K80) -> 7.8333333 | ... Y70: =AVERAGE(M78:M80) -> 8.3333333
C71: 3 | D71: 5.6666667 | E71: 5.5 | F71: 6.5 | G71: 7 | H71: 7.5 | I71: 7 | J71: 7 | K71: 7 | L71: 6.5 | M71: 6.5 | N71: 0.83333333 | O71: K1T2 | P71: =AVERAGE(D81:D83) -> 5.2222222 | Q71: =AVERAGE(E81:E83) -> 5.5 | R71: =AVERAGE(F81:F83) -> 6.6666667 | S71: =AVERAGE(G81:G83) -> 6.8333333 | T71: =AVERAGE(H81:H83) -> 7 | U71: =AVERAGE(I81:I83) -> 7.5 | V71: =AVERAGE(J81:J83) -> 8.1666667 | W71: =AVERAGE(K81:K83) -> 8.8333333 | ... Y71: =AVERAGE(M81:M83) -> 9
A72: 3 | B72: K0T2 | C72: 1 | D72: 5 | E72: 5 | F72: 6 | G72: 5.5 | H72: 6 | I72: 7 | J72: 7 | K72: 6.5 | L72: 5.5 | M72: 5.5 | N72: 0.5 | O72: K2T0 | P72: =AVERAGE(D84:D86) -> 5.1111111 | Q72: =AVERAGE(E84:E86) -> 5.6666667 | R72: =AVERAGE(F84:F86) -> 6.5 | S72: =AVERAGE(G84:G86) -> 7.3333333 | T72: =AVERAGE(H84:H86) -> 7.6666667 | U72: =AVERAGE(I84:I86) -> 8.5 | V72: =AVERAGE(J84:J86) -> 9.1666667 | W72: =AVERAGE(K84:K86) -> 9.3333333 | ... Y72: =AVERAGE(M84:M86) -> 10.5
C73: 2 | D73: 5 | E73: 6 | F73: 6 | G73: 5.5 | H73: 6 | I73: 6.5 | J73: 7 | K73: 6 | L73: 6 | M73: 5 | N73: 0 | O73: K2T1 | P73: =AVERAGE(D87:D89) -> 5.2222222 | Q73: =AVERAGE(E87:E89) -> 5.5 | R73: =AVERAGE(F87:F89) -> 5.8333333 | S73: =AVERAGE(G87:G89) -> 6.8333333 | T73: =AVERAGE(H87:H89) -> 7 | U73: =AVERAGE(I87:I89) -> 8 | V73: =AVERAGE(J87:J89) -> 9 | W73: =AVERAGE(K87:K89) -> 9.8333333 | ... Y73: =AVERAGE(M87:M89) -> 10.666667
C74: 3 | D74: 5 | E74: 6 | F74: 7 | G74: 6.5 | H74: 5.5 | I74: 5.5 | J74: 5.5 | K74: 5.5 | L74: 5 | M74: 4 | N74: -1 | O74: K2T2 | P74: =AVERAGE(D90:D92) -> 5.2222222 | Q74: =AVERAGE(E90:E92) -> 5.8333333 | R74: =AVERAGE(F90:F92) -> 6.6666667 | S74: =AVERAGE(G90:G92) -> 7.1666667 | T74: =AVERAGE(H90:H92) -> 7.1666667 | U74: =AVERAGE(I90:I92) -> 7.8333333 | V74: =AVERAGE(J90:J92) -> 8.3333333 | W74: =AVERAGE(K90:K92) -> 9 | ... Y74: =AVERAGE(M90:M92) -> 9.6666667
A75: 4 | B75: K1T0 | C75: 1 | D75: 5.3333333 | E75: 6 | F75: 7 | G75: 7 | H75: 7.5 | I75: 7.5 | J75: 8.5 | K75: 9.5 | L75: 9.5 | M75: 9.5 | N75: 4.1666667
C76: 2 | D76: 5 | E76: 6 | F76: 7.5 | G76: 8.5 | H76: 9 | I76: 10 | J76: 9.5 | K76: 13 | L76: 14.5 | M76: 14.5 | N76: 9.5
C77: 3 | D77: 6 | E77: 5.5 | F77: 6.5 | G77: 7 | H77: 8 | I77: 8.5 | J77: 8.5 | K77: 8 | L77: 7.5 | M77: 7.5 | N77: 1.5
A78: 5 | B78: K1T1 | C78: 1 | D78: 5 | E78: 6.5 | F78: 6.5 | G78: 6.5 | H78: 7 | I78: 7.5 | J78: 8 | K78: 7 | L78: 7 | M78: 7 | N78: 2
C79: 2 | D79: 5 | E79: 6 | F79: 6 | G79: 7 | H79: 6 | I79: 7 | J79: 7 | K79: 7.5 | L79: 8.5 | M79: 8.5 | N79: 3.5
C80: 3 | D80: 5.3333333 | E80: 5.5 | F80: 6 | G80: 7 | H80: 7 | I80: 7.5 | J80: 9 | K80: 9 | L80: 9.5 | M80: 9.5 | N80: 4.1666667
A81: 6 | B81: K1T2 | C81: 1 | D81: 5 | E81: 5 | F81: 6.5 | G81: 6 | H81: 6 | I81: 6 | J81: 6.5 | K81: 7 | L81: 8 | M81: 8 | N81: 3
C82: 2 | D82: 5 | E82: 6 | F82: 7 | G82: 7 | H82: 6.5 | I82: 7.5 | J82: 8.5 | K82: 9.5 | L82: 9.5 | M82: 9.5 | N82: 4.5
C83: 3 | D83: 5.6666667 | E83: 5.5 | F83: 6.5 | G83: 7.5 | H83: 8.5 | I83: 9 | J83: 9.5 | K83: 10 | L83: 9.5 | M83: 9.5 | N83: 3.8333333
A84: 7 | B84: K2T0 | C84: 1 | D84: 5.3333333 | E84: 5.5 | F84: 6 | G84: 6.5 | H84: 6.5 | I84: 7 | J84: 8 | K84: 8 | L84: 9.5 | M84: 9.5 | N84: 4.1666667
C85: 2 | D85: 5 | E85: 5.5 | F85: 6.5 | G85: 7.5 | H85: 8 | I85: 9 | J85: 9.5 | K85: 10 | L85: 12 | M85: 12 | N85: 7
C86: 3 | D86: 5 | E86: 6 | F86: 7 | G86: 8 | H86: 8.5 | I86: 9.5 | J86: 10 | K86: 10 | L86: 10 | M86: 10 | N86: 5
A87: 8 | B87: K2T1 | C87: 1 | D87: 5.6666667 | E87: 5 | F87: 5.5 | G87: 6.5 | H87: 7 | I87: 8 | J87: 9 | K87: 10 | L87: 11 | M87: 11 | N87: 5.3333333
C88: 2 | D88: 5 | E88: 5.5 | F88: 5.5 | G88: 6.5 | H88: 7 | I88: 8 | J88: 9 | K88: 9 | L88: 10 | M88: 10 | N88: 5
C89: 3 | D89: 5 | E89: 6 | F89: 6.5 | G89: 7.5 | H89: 7 | I89: 8 | J89: 9 | K89: 10.5 | L89: 11 | M89: 11 | N89: 6
A90: 9 | B90: K2T2 | C90: 1 | D90: 5.6666667 | E90: 6 | F90: 6.5 | G90: 7 | H90: 7.5 | I90: 8 | J90: 8 | K90: 9 | L90: 9.5 | M90: 9.5 | N90: 3.8333333
C91: 2 | D91: 5 | E91: 6 | F91: 7 | G91: 7 | H91: 7 | I91: 7.5 | J91: 8.5 | K91: 8.5 | L91: 10 | M91: 10 | N91: 5
C92: 3 | D92: 5 | E92: 5.5 | F92: 6.5 | G92: 7.5 | H92: 7 | I92: 8 | J92: 8.5 | K92: 9.5 | L92: 9.5 | M92: 9.5 | N92: 4.5
C93: rata | D93: 5.1975309 | E93: 5.6666667 | F93: 6.3703704 | G93: 6.7962963 | H93: 6.9444444 | I93: 7.4814815 | J93: 7.9074074 | K93: 8.2777778 | L93: 8.6666667 | M93: 8.5185185 | N93: 3.3209877
C94: stdv | D94: 0.29611818 | E94: 0.39223227 | F94: 0.52974218 | G94: 0.7501187 | H94: 0.96409915 | I94: 1.1391755 | J94: 1.2862964 | K94: 1.8151782 | L94: 2.2532028 | M94: 2.4237665 | N94: 2.424909 | BE94: No. | BF94: Kode Tanaman | BG94: TPC (hari ke-0) | BO94: TPC (hari ke-19) | BU94: Delta
BG95: Tanaman ke- | BO95: Tanaman ke-
A96: No. | B96: Kode Tanaman | C96: Ulangan | D96: bobot basah | E96: bobot kering | F96: Kadar Air | G96: Al (hari ke-0) | H96: Al (hari ke-19) | I96: Delta | J96: Al (hari ke-0) | K96: Al (hari ke-19) | L96: Delta | BG96: 10^6 | BK96: 10^7 | BM96: 10^8 | BO96: 10^6 | BQ96: 10^7 | BS96: 10^8 | BU96: 10^6 | BW96: 10^7 | BY96: 10^8
D97: Tanaman ke- | E97: Tanaman ke- | G97: Tanaman | H97: Tanaman | J97: Tanah | K97: Tanah | BE97: 1 | BF97: K0T0 | BG97: =tpc!AV104 -> 0 | BK97: =tpc!AX104 -> 0 | BM97: =tpc!AZ104 -> 0 | BO97: =tpc!BB104 -> 0 | BQ97: =tpc!BD104 -> 0 | BS97: =tpc!BF104 -> 0 | BU97: =tpc!BH104 -> 0 | BW97: =tpc!BJ104 -> 0 | BY97: =tpc!BL104 -> 0
D98: 1 | E98: 1 | G98: 1 | H98: 1 | J98: 1 | K98: 1 | M98: Kode Tanaman | N98: 0 | O98: 19 | P98: Bobot Kering | Q98: 0 | R98: 19
A99: 1 | B99: K0T0 | C99: 1 | D99: 7.14 | E99: 0.86 | F99: 0.87955182 | G99: 0.13019 | H99: 0.416758 | I99: 0.286568 | J99: {=Sheet12!U41:V67} -> 0.15872 | K99: 0.151112 | L99: -0.004968 | M99: K0T0 | N99: =G99 -> 0.13019 | O99: =AVERAGE(H99:H101) -> 0.33011133 | P99: =AVERAGE(E99:E101) -> 0.93333333 | Q99: =AVERAGE(J99:J101) -> 0.15470467 | R99: =AVERAGE(K99:K101) -> 0.16970933
C100: 2 | D100: 6.58 | E100: 1.05 | F100: 0.84042553 | H100: 0.29186 | I100: 0.16167 | J100: 0.14604 | K100: 0.16189 | L100: 0.01035 | M100: K0T1 | N100: =G102 -> 0.196126 | O100: =AVERAGE(H102:H104) -> 0.21430067 | P100: =AVERAGE(E102:E104) -> 0.91666667 | Q100: =AVERAGE(J102:J104) -> 0.16484867 | R100: =AVERAGE(K102:K104) -> 0.16189 | BE100: 2 | BF100: K0T1 | BG100: =tpc!AV107 -> 0 | BK100: =tpc!AX107 -> 0 | BM100: =tpc!AZ107 -> 0 | BO100: =tpc!BB107 -> 0 | BQ100: =tpc!BD107 -> 0 | BS100: =tpc!BF107 -> 0 | BU100: =tpc!BH107 -> 0 | BW100: =tpc!BJ107 -> 0 | BY100: =tpc!BL107 -> 0
C101: 3 | D101: 7.29 | E101: 0.89 | F101: 0.87791495 | H101: 0.281716 | I101: 0.151526 | J101: 0.159354 | K101: 0.196126 | L101: 0.024012 | M101: K0T2 | N101: =G105 -> 0.379352 | O101: =AVERAGE(H105:H107) -> 0.17414733 | P101: =AVERAGE(E105:E107) -> 0.71333333 | Q101: =AVERAGE(J105:J107) -> 0.1714 | R101: =AVERAGE(K105:K107) -> 0.18048733
A102: 2 | B102: K0T1 | C102: 1 | D102: 5.49 | E102: 1.1 | F102: 0.7996357 | G102: 0.196126 | H102: 0.374914 | I102: 0.178788 | J102: 0.157452 | K102: 0.173302 | L102: 0.01035 | M102: K1T0 | N102: =G108 -> 0.446556 | O102: =AVERAGE(H108:H110) -> 0.259526 | P102: =AVERAGE(E108:E110) -> 2.44 | Q102: =AVERAGE(J108:J110) -> 0.17457 | R102: =AVERAGE(K108:K110) -> 0.16484867
C103: 2 | D103: 7.46 | E103: 0.8 | F103: 0.89276139 | H103: 0.116242 | I103: -0.079884 | J103: 0.179008 | K103: 0.140968 | L103: -0.02484 | M103: K1T1 | N103: =G111 -> 0.52327 | O103: =AVERAGE(H111:H113) -> 0.22317667 | P103: =AVERAGE(E111:E113) -> 2.2466667 | Q103: =AVERAGE(J111:J113) -> 0.17478133 | R103: =AVERAGE(K111:K113) -> 0.172034 | BE103: 3 | BF103: K0T2 | BG103: =tpc!AV110 -> 0 | BK103: =tpc!AX110 -> 0 | BM103: =tpc!AZ110 -> 0 | BO103: =tpc!BB110 -> 0 | BQ103: =tpc!BD110 -> 0 | BS103: =tpc!BF110 -> 0 | BU103: =tpc!BH110 -> 0 | BW103: =tpc!BJ110 -> 0 | BY103: =tpc!BL110 -> 0
...

Sheet Sheet11
A1: Analisis Keragaman pH Hari ke-0 Tanah | H1: Sumber Keragaman | I1: DB | J1: F-hitung | T1: F Tabel 5% | V1: Sumber Keragaman | W1: DB | X1: F-hitung | AH1: F Tabel 5%
A2: Sumber Keragaman | B2: DB | C2: F hitung | D2: F tabel 5% | J2: pH Hari ke-0 | K2: pH Hari ke-3 | L2: pH Hari ke-5 | M2: pH Hari ke-7 | N2: pH Hari ke-9 | O2: pH Hari ke-11 | P2: pH Hari ke-13 | Q2: pH Hari ke-15 | R2: pH Hari ke-17 | S2: pH Hari ke-19 | X2: pH Hari ke-0 | Y2: pH Hari ke-3 | Z2: pH Hari ke-5 | AA2: pH Hari ke-7 | AB2: pH Hari ke-9 | AC2: pH Hari ke-11 | AD2: pH Hari ke-13 | AE2: pH Hari ke-15 | AF2: pH Hari ke-17 | AG2: pH Hari ke-19
A3: Kompos | B3: 2 | C3: 631.6 | D3: =_xlfn.F.INV.RT(0.05,2,18) -> 3.5545571 | H3: Kompos | I3: 2 | J3: 631.6 | K3: 1014.5 | L3: 827.79167 | M3: 536.36111 | N3: 536.36111 | O3: 829.7069 | P3: 226.984 | Q3: 464.17647 | R3: 428.667 | S3: 468.06349 | T3: =_xlfn.F.INV.RT(0.05,2,18) -> 3.5545571 | V3: Kompos | W3: 2 | X3: 0 | Y3: 0 | Z3: 0 | AA3: 536.36111 | AB3: 536.36111 | AC3: 829.7069 | AD3: 226.984 | AE3: 464.17647 | AF3: 428.667 | AG3: 468.06349 | AH3: =_xlfn.F.INV.RT(0.05,2,18) -> 3.5545571
A4: Bakteri | B4: 2 | C4: 302.8 | D4: =_xlfn.F.INV.RT(0.05,2,18) -> 3.5545571 | H4: Bakteri | I4: 2 | J4: 302.8 | K4: 14 | L4: 7.0416667 | M4: 5.527778 | N4: 5.527778 | O4: 10.396552 | P4: 14.702 | Q4: 32.308824 | R4: 28.625 | S4: 31.634921 | T4: =_xlfn.F.INV.RT(0.05,2,18) -> 3.5545571 | V4: Bakteri | W4: 2 | X4: 0 | Y4: 0 | Z4: 0.006 | AA4: 5.527778 | AB4: 5.527778 | AC4: 10.396552 | AD4: 14.702 | AE4: 32.308824 | AF4: 28.625 | AG4: 31.634921 | AH4: =_xlfn.F.INV.RT(0.05,2,18) -> 3.5545571
A5: Kompos x Bakteri | B5: 4 | C5: 167.8 | D5: =_xlfn.F.INV.RT(0.05,4,18) -> 2.9277442 | H5: Kompos & Bakteri | I5: 4 | J5: 167.8 | K5: 10 | L5: 2.7916667 | M5: 2.277778 | N5: 2.277778 | O5: 2.637931 | P5: 3.085 | Q5: 17.066176 | R5: 14.979 | S5: 15.753968 | T5: =_xlfn.F.INV.RT(0.05,4,18) -> 2.9277442 | V5: Kompos & Bakteri | W5: 4 | X5: 0 | Y5: 0 | Z5: 0.058 | AA5: 2.277778 | AB5: 2.277778 | AC5: 2.637931 | AD5: 3.085 | AE5: 17.066176 | AF5: 14.979 | AG5: 15.753968 | AH5: =_xlfn.F.INV.RT(0.05,4,18) -> 2.9277442
A6: Galat | B6: 18 | C6: 0.006 | D6: =C6/B6 -> 0.00033333333 | H6: Galat | I6: 18 | J6: 0.006 | K6: 0.013888889 | L6: 0.013888889 | M6: 0.020833 | N6: 0.033565 | O6: 0.048611 | P6: 0.108796 | Q6: 0.039351852 | R6: 0.041667 | S6: 0.036458 | V6: Galat | W6: 18 | X6: 0.006 | Y6: 0.013888889 | Z6: 0.013888889 | AA6: 0.020833 | AB6: 0.033565 | AC6: 0.048611 | AD6: 0.108796 | AE6: 0.039351852 | AF6: 0.041667 | AG6: 0.036458
A7: Total | B7: 27 | E7: {=finish!D29} -> 8.0185185 | F7: =(D6/E7)*100 -> 0.0041570439 | H7: Total | I7: 27 | V7: Total | W7: 27
H8: KK% | J8: =F7 -> 0.0041570439 | K8: =F15 -> 0.0092592593 | L8: =F23 -> 0.0095238095 | M8: =F31 -> 0.014301831 | N8: =F39 -> 0.025048507 | O8: =F47 -> 0.039176091 | P8: =F55 -> 0.092921851 | Q8: =F63 -> 0.034850349 | R8: =F71 -> 0.036955211 | S8: =F79 -> 0.032431134
A9: Analisis Keragaman pH Hari ke-3 Tanah
A10: Sumber Keragaman | B10: DB | C10: F hitung | D10: F tabel 5% | H10: Sumber Keragaman | I10: DB | J10: F-hitung | T10: F Tabel 5% | V10: Sumber Keragaman | W10: DB | X10: F-hitung | AH10: F Tabel 5%
A11: Kompos | B11: 2 | C11: 1014.5 | D11: =_xlfn.F.INV.RT(0.05,2,18) -> 3.5545571 | J11: Tinggi Hari ke-0 | K11: Tinggi Hari ke-3 | L11: Tinggi Hari ke-5 | M11: Tinggi Hari ke-7 | N11: Tinggi Hari ke-9 | O11: Tinggi Hari ke-11 | P11: Tinggi Hari ke-13 | Q11: Tinggi Hari ke-15 | R11: Tinggi Hari ke-17 | S11: Tinggi Hari ke-19 | X11: Tinggi Hari ke-0 | Y11: Tinggi Hari ke-3 | Z11: Tinggi Hari ke-5 | AA11: Tinggi Hari ke-7 | AB11: Tinggi Hari ke-9 | AC11: Tinggi Hari ke-11 | AD11: Tinggi Hari ke-13 | AE11: Tinggi Hari ke-15 | AF11: Tinggi Hari ke-17 | AG11: Tinggi Hari ke-19
A12: Bakteri | B12: 2 | C12: 14 | D12: =_xlfn.F.INV.RT(0.05,2,18) -> 3.5545571 | H12: Kompos | I12: 2 | J12: 0.131 | K12: 0.094 | L12: 0.30184805 | M12: 0.168 | N12: 0.88383838 | O12: 1.0469012 | P12: 0.89482201 | Q12: 1.1375405 | R12: 1.2150883 | S12: 1.2150883 | T12: =_xlfn.F.INV.RT(0.05,2,18) -> 3.5545571 | V12: Kompos | W12: 2 | X12: 0.744 | Y12: 0.911 | Z12: 0.30184805 | AA12: 0.168 | AB12: 0.88383838 | AC12: 1.0469012 | AD12: 0.89482201 | AE12: 1.1375405 | AF12: 1.2150883 | AG12: 1.2150883 | AH12: =_xlfn.F.INV.RT(0.05,2,18) -> 3.5545571
A13: Kompos x Bakteri | B13: 4 | C13: 10 | D13: =_xlfn.F.INV.RT(0.05,4,18) -> 2.9277442 | H13: Bakteri | I13: 2 | J13: 0.992 | K13: 1.223 | L13: 1.2073922 | M13: 0.933 | N13: 1.7727273 | O13: 1.2127303 | P13: 1.0695793 | Q13: 0.84627832 | R13: 0.77207063 | S13: 0.77207063 | T13: =_xlfn.F.INV.RT(0.05,2,18) -> 3.5545571 | V13: Bakteri | W13: 2 | X13: 0.345 | Y13: 0.318 | Z13: 1.2073922 | AA13: 0.933 | AB13: 1.7727273 | AC13: 1.2127303 | AD13: 1.0695793 | AE13: 0.84627832 | AF13: 0.77207063 | AG13: 0.77207063 | AH13: =_xlfn.F.INV.RT(0.05,2,18) -> 3.5545571
A14: Galat | B14: 18 | C14: 0.013888889 | D14: =C14/B14 -> 0.00077160494 | H14: Kompos & Bakteri | I14: 4 | J14: 0.342 | K14: 0.604 | L14: 0.43737166 | M14: 0.256 | N14: 0.13383838 | O14: 0.21273032 | P14: 0.18122977 | Q14: 0.2710356 | R14: 0.30497592 | S14: 0.30497592 | T14: =_xlfn.F.INV.RT(0.05,4,18) -> 2.9277442 | V14: Kompos & Bakteri | W14: 4 | X14: 0.918 | Y14: 0.665 | Z14: 0.43737166 | AA14: 0.256 | AB14: 0.13383838 | AC14: 0.21273032 | AD14: 0.18122977 | AE14: 0.2710356 | AF14: 0.30497592 | AG14: 0.30497592 | AH14: =_xlfn.F.INV.RT(0.05,4,18) -> 2.9277442
A15: Total | B15: 27 | E15: {=finish!E29} -> 8.3333333 | F15: =(D14/E15)*100 -> 0.0092592593 | H15: Galat | I15: 18 | J15: 0.344 | K15: 0.891 | L15: 1.1273148 | M15: 1.616 | N15: 1.375 | O15: 1.381944 | P15: 1.430556 | Q15: 1.4305556 | R15: 1.442 | S15: 1.442 | V15: Galat | W15: 18 | X15: 0.385 | Y15: 0.891 | Z15: 1.1273148 | AA15: 1.616 | AB15: 1.375 | AC15: 1.381944 | AD15: 1.430556 | AE15: 1.4305556 | AF15: 1.442 | AG15: 1.442
H16: Total | I16: 27 | V16: Total | W16: 27
A17: Analisis Keragaman pH Hari ke-5 Tanah | H17: KK% | J17: =(J20/J21)*100 -> 0.48755906 | K17: =(K20/K21)*100 -> 1.2095023 | L17: =(L20/L21)*100 -> 1.3747742 | M17: =(M20/M21)*100 -> 1.7283422 | N17: =(N20/N21)*100 -> 1.3221154 | O17: =(O20/O21)*100 -> 1.3078334 | P17: =(P20/P21)*100 -> 1.3474625 | Q17: =(Q20/Q21)*100 -> 1.3411458 | ... S17: =(S20/S21)*100 -> 1.7802469
A18: Sumber Keragaman | B18: DB | C18: F hitung | D18: F tabel 5%
A19: Kompos | B19: 2 | C19: 827.79167 | D19: =_xlfn.F.INV.RT(0.05,2,18) -> 3.5545571
A20: Bakteri | B20: 2 | C20: 7.0416667 | D20: =_xlfn.F.INV.RT(0.05,2,18) -> 3.5545571 | J20: =J15/$I$15 -> 0.019111111 | K20: =K15/$I$15 -> 0.0495 | L20: =L15/$I$15 -> 0.062628601 | M20: =M15/$I$15 -> 0.089777778 | N20: =N15/$I$15 -> 0.076388889 | O20: =O15/$I$15 -> 0.076774667 | P20: =P15/$I$15 -> 0.079475333 | Q20: =Q15/$I$15 -> 0.079475309 | ... S20: =S15/$I$15 -> 0.080111111
A21: Kompos x Bakteri | B21: 4 | C21: 2.7916667 | D21: =_xlfn.F.INV.RT(0.05,4,18) -> 2.9277442 | I21: rata | J21: {=finish!D61:M61} -> 3.9197531 | K21: 4.0925926 | L21: 4.5555556 | M21: 5.1944444 | N21: 5.7777778 | O21: 5.8703704 | P21: 5.8981481 | Q21: 5.9259259 | R21: 5.9351852 | S21: 4.5
A22: Galat | B22: 18 | C22: 0.013888889 | D22: =C22/B22 -> 0.00077160494
A23: Total | B23: 27 | E23: {=finish!F29} -> 8.1018519 | F23: =(D22/E23)*100 -> 0.0095238095 | H23: Sumber Keragaman | I23: DB | J23: F-hitung | T23: F Tabel 5% | V23: Sumber Keragaman | W23: DB | X23: F-hitung | AH23: F Tabel 5%
J24: Jumlah Daun Hari ke-0 | K24: Jumlah Daun Hari ke-3 | L24: Jumlah Daun Hari ke-5 | M24: Jumlah Daun Hari ke-7 | N24: Jumlah Daun Hari ke-9 | O24: Jumlah Daun Hari ke-11 | P24: Jumlah Daun Hari ke-13 | Q24: Jumlah Daun Hari ke-15 | R24: Jumlah Daun Hari ke-17 | S24: Jumlah Daun Hari ke-19 | X24: Jumlah Daun Hari ke-0 | Y24: Jumlah Daun Hari ke-3 | Z24: Jumlah Daun Hari ke-5 | AA24: Jumlah Daun Hari ke-7 | AB24: Jumlah Daun Hari ke-9 | AC24: Jumlah Daun Hari ke-11 | AD24: Jumlah Daun Hari ke-13 | AE24: Jumlah Daun Hari ke-15 | AF24: Jumlah Daun Hari ke-17 | AG24: Jumlah Daun Hari ke-19
A25: Analisis Keragaman pH Hari ke-7 Tanah | H25: Kompos | I25: 2 | J25: 0.28 | K25: 0.66666667 | L25: 2.0416667 | M25: 4.9183673 | N25: 4.4383562 | O25: 7.3571429 | P25: 16.011494 | Q25: 12.378947 | R25: 14.447 | S25: 17.893382 | T25: =_xlfn.F.INV.RT(0.05,2,18) -> 3.5545571 | V25: Kompos | W25: 2 | X25: 0.28 | Y25: 0.66666667 | Z25: 2.0416667 | AA25: 4.9183673 | AB25: 4.4383562 | AC25: 7.3571429 | AD25: 16.011494 | AE25: 12.378947 | AF25: 14.447 | AG25: 17.893382 | AH25: =_xlfn.F.INV.RT(0.05,2,18) -> 3.5545571
A26: Sumber Keragaman | B26: DB | C26: F hitung | D26: F tabel 5% | H26: Bakteri | I26: 2 | J26: 0.16 | K26: 0.16666667 | L26: 4.1666667 | M26: 1.4897959 | N26: 1.6027397 | O26: 1.2653061 | P26: 0.56321839 | Q26: 0.99473684 | R26: 2.267 | S26: 2.2536765 | T26: =_xlfn.F.INV.RT(0.05,2,18) -> 3.5545571 | V26: Bakteri | W26: 2 | X26: 0.16 | Y26: 0.16666667 | Z26: 4.1666667 | AA26: 1.4897959 | AB26: 1.6027397 | AC26: 1.2653061 | AD26: 0.56321839 | AE26: 0.99473684 | AF26: 2.267 | AG26: 2.2536765 | AH26: =_xlfn.F.INV.RT(0.05,2,18) -> 3.5545571
A27: Kompos | B27: 2 | C27: 536.36111 | D27: =_xlfn.F.INV.RT(0.05,2,18) -> 3.5545571 | H27: Kompos & Bakteri | I27: 4 | J27: 0.82 | K27: 1.0833333 | L27: 0.60416667 | M27: 0.35714286 | N27: 1.4178082 | O27: 0.48469388 | P27: 0.56321839 | Q27: 0.98684211 | R27: 0.541 | S27: 0.58823529 | T27: =_xlfn.F.INV.RT(0.05,4,18) -> 2.9277442 | V27: Kompos & Bakteri | W27: 4 | X27: 0.82 | Y27: 1.0833333 | Z27: 0.60416667 | AA27: 0.35714286 | AB27: 1.4178082 | AC27: 0.48469388 | AD27: 0.56321839 | AE27: 0.98684211 | AF27: 0.541 | AG27: 0.58823529 | AH27: =_xlfn.F.INV.RT(0.05,4,18) -> 2.9277442
A28: Bakteri | B28: 2 | C28: 5.527778 | D28: =_xlfn.F.INV.RT(0.05,2,18) -> 3.5545571 | H28: Galat | I28: 18 | J28: 0.10288066 | K28: 0.167 | L28: 0.222 | M28: 0.4537037 | N28: 0.676 | O28: 0.90740741 | P28: 0.806 | Q28: 1.7592593 | R28: 2.462963 | S28: 2.519 | V28: Galat | W28: 18 | X28: 0.10288066 | Y28: 0.167 | Z28: 0.222 | AA28: 0.4537037 | AB28: 0.676 | AC28: 0.90740741 | AD28: 0.806 | AE28: 1.7592593 | AF28: 2.462963 | AG28: 2.519
A29: Kompos x Bakteri | B29: 4 | C29: 2.277778 | D29: =_xlfn.F.INV.RT(0.05,4,18) -> 2.9277442 | H29: Total | I29: 27 | V29: Total | W29: 27
A30: Galat | B30: 18 | C30: 0.020833 | D30: =C30/B30 -> 0.0011573889 | H30: KK% | J30: =(J32/J33)*100 -> 0.10996745 | K30: =(K32/K33)*100 -> 0.16372549 | L30: =(L32/L33)*100 -> 0.19360465 | M30: =(M32/M33)*100 -> 0.37087496 | N30: =(N32/N33)*100 -> 0.5408 | O30: =(O32/O33)*100 -> 0.67381738 | P30: =(P32/P33)*100 -> 0.56627635 | Q30: =(Q32/Q33)*100 -> 1.1807109 | ... S30: =(S32/S33)*100 -> 1.6428261
A31: Total | B31: 27 | E31: {=finish!G29} -> 8.0925926 | F31: =(D30/E31)*100 -> 0.014301831
J32: =J28/$I$28 -> 0.0057155921 | K32: =K28/$I$28 -> 0.0092777778 | L32: =L28/$I$28 -> 0.012333333 | M32: =M28/$I$28 -> 0.025205761 | N32: =N28/$I$28 -> 0.037555556 | O32: =O28/$I$28 -> 0.050411523 | P32: =P28/$I$28 -> 0.044777778 | Q32: =Q28/$I$28 -> 0.097736626 | ... S32: =S28/$I$28 -> 0.13994444
A33: Analisis Keragaman pH Hari ke-9 Tanah | I33: rata | J33: {=finish!Z29:AJ29} -> 5.1975309 | K33: 5.6666667 | L33: 6.3703704 | M33: 6.7962963 | N33: 6.9444444 | O33: 7.4814815 | P33: 7.9074074 | Q33: 8.2777778 | R33: 8.6666667 | S33: 8.5185185 | T33: 3.3209877
A34: Sumber Keragaman | B34: DB | C34: F hitung | D34: F tabel 5%
A35: Kompos | B35: 2 | C35: 829.7069 | D35: =_xlfn.F.INV.RT(0.05,2,18) -> 3.5545571
A36: Bakteri | B36: 2 | C36: 10.396552 | D36: =_xlfn.F.INV.RT(0.05,2,18) -> 3.5545571 | H36: Sumber Keragaman | I36: DB | J36: F-hitung | O36: F Tabel 5% | V36: Sumber Keragaman | W36: DB | X36: F-hitung | AC36: F Tabel 5%
A37: Kompos x Bakteri | B37: 4 | C37: 2.637931 | D37: =_xlfn.F.INV.RT(0.05,4,18) -> 2.9277442 | J37: Bobot Kering | K37: Al Tanah Hari ke-0 | L37: Al Tanah Hari ke-19 | M37: Al Tanaman Hari ke-0 | N37: Al Tanaman Hari ke-19 | X37: Bobot Kering | Y37: Al Tanah Hari ke-0 | Z37: Al Tanah Hari ke-19 | AA37: Al Tanaman Hari ke-0 | AB37: Al Tanaman Hari ke-19
A38: Galat | B38: 18 | C38: 0.033565 | D38: =C38/B38 -> 0.0018647222 | H38: Kompos | I38: 2 | J38: 42.107 | K38: 3.7155093 | L38: 0.117 | M38: 6.5119033e+08 | N38: 8.1559254 | O38: =_xlfn.F.INV.RT(0.05,2,18) -> 3.5545571 | V38: Kompos | W38: 2 | X38: 42.107 | Y38: 0.045 | Z38: 0.89 | AA38: 6.5119033e+08 | AB38: 8.1559254 | AC38: =_xlfn.F.INV.RT(0.05,2,18) -> 3.5545571
A39: Total | B39: 27 | E39: {=finish!H29} -> 7.4444444 | F39: =(D38/E39)*100 -> 0.025048507 | H39: Bakteri | I39: 2 | J39: 0.581 | K39: 1.1506944 | L39: 0.391 | M39: 2.5620417e+08 | N39: 2.3405371 | O39: =_xlfn.F.INV.RT(0.05,2,18) -> 3.5545571 | V39: Bakteri | W39: 2 | X39: 0.581 | Y39: 0.339 | Z39: 0.682 | AA39: 2.5620417e+08 | AB39: 2.3405371 | AC39: =_xlfn.F.INV.RT(0.05,2,18) -> 3.5545571
H40: Kompos & Bakteri | I40: 4 | J40: 0.596 | K40: 1.2318287 | L40: 0.322 | M40: 21048674 | N40: 6.6552458 | O40: =_xlfn.F.INV.RT(0.05,4,18) -> 2.9277442 | V40: Kompos & Bakteri | W40: 4 | X40: 0.596 | Y40: 0.332 | Z40: 0.859 | AA40: 21048674 | AB40: 6.6552458 | AC40: =_xlfn.F.INV.RT(0.05,4,18) -> 2.9277442
A41: Analisis Keragaman pH Hari ke-11 Tanah | H41: Galat | I41: 18 | J41: 0.1366037 | K41: 0.000193 | L41: 0.000133 | M41: 3.13e-10 | N41: 0.004 | V41: Galat | W41: 18 | X41: 0.1366037 | Y41: 0.000193 | Z41: 0.000133 | AA41: 3.13e-10 | AB41: 0.004
A42: Sumber Keragaman | B42: DB | C42: F hitung | D42: F tabel 5% | H42: Total | I42: 27 | V42: Total | W42: 27
A43: Kompos | B43: 2 | C43: 935.7619 | D43: =_xlfn.F.INV.RT(0.05,2,18) -> 3.5545571 | H43: KK% | J43: =(J45/J46)*100 -> 0.42697553 | K43: =(K45/K46)*100 -> 0.025700437 | L43: =(L45/L46)*100 -> 0.016492319 | M43: =(M45/M46)*100 -> 1.3356547e-08 | N43: =(N45/N46)*100 -> 0.082477061
A44: Bakteri | B44: 2 | C44: 11.083333 | D44: =_xlfn.F.INV.RT(0.05,2,18) -> 3.5545571
A45: Kompos x Bakteri | B45: 4 | C45: 3.8511905 | D45: =_xlfn.F.INV.RT(0.05,4,18) -> 2.9277442 | J45: =J41/$I$41 -> 0.0075890947 | K45: =K41/$I$41 -> 1.0722222e-05 | L45: =L41/$I$41 -> 7.3888889e-06 | M45: =M41/$I$41 -> 1.7388889e-11 | N45: =N41/$I$41 -> 0.00022222222
A46: Galat | B46: 18 | C46: 0.048611 | D46: =C46/B46 -> 0.0027006111 | I46: rata | J46: =finish!AL29 -> 1.7774074 | K46: {=finish!AQ29:AR29} -> 0.04172 | L46: 0.044802 | M46: {=finish!AN29:AO29} -> 0.13019 | N46: 0.26943519
A47: Total | B47: 27 | E47: {=finish!I29} -> 6.8935185 | F47: =(D46/E47)*100 -> 0.039176091
A49: Analisis Keragaman pH Hari ke-13 Tanah
A50: Sumber Keragaman | B50: DB | C50: F hitung | D50: F tabel 5%
A51: Kompos | B51: 2 | C51: 226.984 | D51: =_xlfn.F.INV.RT(0.05,2,18) -> 3.5545571
A52: Bakteri | B52: 2 | C52: 14.702 | D52: =_xlfn.F.INV.RT(0.05,2,18) -> 3.5545571
A53: Kompos x Bakteri | B53: 4 | C53: 3.085 | D53: =_xlfn.F.INV.RT(0.05,4,18) -> 2.9277442
A54: Galat | B54: 18 | C54: 0.108796 | D54: =C54/B54 -> 0.0060442222
A55: Total | B55: 27 | E55: {=finish!J29} -> 6.5046296 | F55: =(D54/E55)*100 -> 0.092921851
A57: Analisis Keragaman pH Hari ke-15 Tanah
A58: Sumber Keragaman | B58: DB | C58: F hitung | D58: F tabel 5%
A59: Kompos | B59: 2 | C59: 464.17647 | D59: =_xlfn.F.INV.RT(0.05,2,18) -> 3.5545571
A60: Bakteri | B60: 2 | C60: 32.308824 | D60: =_xlfn.F.INV.RT(0.05,2,18) -> 3.5545571
A61: Kompos x Bakteri | B61: 4 | C61: 17.066176 | D61: =_xlfn.F.INV.RT(0.05,4,18) -> 2.9277442
A62: Galat | B62: 18 | C62: 0.039351852 | D62: =C62/B62 -> 0.002186214
A63: Total | B63: 27 | E63: {=finish!K29} -> 6.2731481 | F63: =(D62/E63)*100 -> 0.034850349
A65: Analisis Keragaman pH Hari ke-17 Tanah
A66: Sumber Keragaman | B66: DB | C66: F hitung | D66: F tabel 5%
A67: Kompos | B67: 2 | C67: 428.667 | D67: =_xlfn.F.INV.RT(0.05,2,18) -> 3.5545571
A68: Bakteri | B68: 2 | C68: 28.625 | D68: =_xlfn.F.INV.RT(0.05,2,18) -> 3.5545571
A69: Kompos x Bakteri | B69: 4 | C69: 14.979 | D69: =_xlfn.F.INV.RT(0.05,4,18) -> 2.9277442
A70: Galat | B70: 18 | C70: 0.041667 | D70: =C70/B70 -> 0.0023148333
A71: Total | B71: 27 | E71: {=finish!L29} -> 6.2638889 | F71: =(D70/E71)*100 -> 0.036955211
A73: Analisis Keragaman pH Hari ke-19 Tanah
A74: Sumber Keragaman | B74: DB | C74: F hitung | D74: F tabel 5%
A75: Kompos | B75: 2 | C75: 468.06349 | D75: =_xlfn.F.INV.RT(0.05,2,18) -> 3.5545571
A76: Bakteri | B76: 2 | C76: 31.634921 | D76: =_xlfn.F.INV.RT(0.05,2,18) -> 3.5545571
A77: Kompos x Bakteri | B77: 4 | C77: 15.753968 | D77: =_xlfn.F.INV.RT(0.05,4,18) -> 2.9277442
A78: Galat | B78: 18 | C78: 0.036458 | D78: =C78/B78 -> 0.0020254444
A79: Total | B79: 27 | E79: {=finish!M29} -> 6.2453704 | F79: =(D78/E79)*100 -> 0.032431134
A81: Analisis Keragaman pH Hari ke-0 Tanah
A82: Sumber Keragaman | B82: DB | C82: F hitung | D82: F tabel 5%
A83: Kompos | B83: 2 | C83: 631.6 | D83: =_xlfn.F.INV.RT(0.05,2,18) -> 3.5545571
A84: Bakteri | B84: 2 | C84: 302.8 | D84: =_xlfn.F.INV.RT(0.05,2,18) -> 3.5545571
A85: Kompos x Bakteri | B85: 4 | C85: 167.8 | D85: =_xlfn.F.INV.RT(0.05,4,18) -> 2.9277442
A86: Galat | B86: 18 | C86: 0.006 | D86: =C86/B86 -> 0.00033333333
A87: Total | B87: 27 | E87: =finish!$N$29 -> -1.7731481 | F87: =(D86/E87)*100 -> -0.018798956

Sheet Sheet14
A1: No. | B1: Kode Perlakuan | C1: Satuan | D1: Hari ke-0 | E1: Hari ke-19
A2: 1 | B2: K0T0 | C2: CFU/ml | D2: 4.85 x 107 | E2: 7.1 x 107
A3: 2 | B3: K0T1 | C3: CFU/ml | D3: 2.9 x 107 | E3: 1.35 x 107
A4: 3 | B4: K0T2 | C4: CFU/ml | D4: 7.65 x 107 | E4: 2.05 x 107
A5: 4 | B5: K1T0 | C5: CFU/ml | D5: 0.8 x 107 | E5: 16.5 x 107
A6: 5 | B6: K1T1 | C6: CFU/ml | D6: 0.65 x 107 | E6: 16.9 x 107
A7: 6 | B7: K1T2 | C7: CFU/ml | D7: 3.65 x 107 | E7: 7.6 x 107
A8: 7 | B8: K2T0 | C8: CFU/ml | D8: 8.65 x 107 | E8: 13.05 x 107
A9: 8 | B9: K2T1 | C9: CFU/ml | D9: 0.2 x 107 | E9: 3.2 x 107
A10: 9 | B10: K2T2 | C10: CFU/ml | D10: 18.35 x 107 | E10: 1 x 107
A12: No. | B12: Kode Perlakuan | C12: Satuan | D12: Hari ke-0 | E12: Hari ke-19
A13: 1 | B13: K0T0 | C13: ppm | D13: {=finish!Q99:Q107} -> 0.15470467 | E13: {=finish!R99:R107} -> 0.16970933 | F13: =D13-E13 -> -0.015004667
A14: 2 | B14: K0T1 | C14: ppm | D14: 0.16484867 | E14: 0.16189 | F14: =D14-E14 -> 0.0029586667
A15: 3 | B15: K0T2 | C15: ppm | D15: 0.1714 | E15: 0.18048733 | F15: =D15-E15 -> -0.0090873333
A16: 4 | B16: K1T0 | C16: ppm | D16: 0.17457 | E16: 0.16484867 | F16: =D16-E16 -> 0.0097213333
A17: 5 | B17: K1T1 | C17: ppm | D17: 0.17478133 | E17: 0.172034 | F17: =D17-E17 -> 0.0027473333
A18: 6 | B18: K1T2 | C18: ppm | D18: 0.17731733 | E18: 0.16823 | F18: =D18-E18 -> 0.0090873333
A19: 7 | B19: K2T0 | C19: ppm | D19: 0.153014 | E19: 0.17182267 | F19: =D19-E19 -> -0.018808667
A20: 8 | B20: K2T1 | C20: ppm | D20: 0.17245667 | E20: 0.16992067 | F20: =D20-E20 -> 0.002536
A21: 9 | B21: K2T2 | C21: ppm | D21: 0.14878733 | E21: 0.17541533 | F21: =D21-E21 -> -0.026628
A23: No. | B23: Kode Perlakuan | C23: Satuan | D23: Hari ke-0 | E23: Hari ke-19
A24: 1 | B24: K0T0 | C24: ppm | D24: {=finish!N99:N107} -> 0.13019 | E24: {=finish!O99:O107} -> 0.33011133 | F24: =E24-D24 -> 0.19992133 | G24: =D24+D13 -> 0.28489467 | H24: =E24+E13 -> 0.49982067
A25: 2 | B25: K0T1 | C25: ppm | D25: 0.196126 | E25: 0.21430067 | F25: =E25-D25 -> 0.018174667 | G25: =D25+D14 -> 0.36097467 | H25: =E25+E14 -> 0.37619067
A26: 3 | B26: K0T2 | C26: ppm | D26: 0.379352 | E26: 0.17414733 | F26: =E26-D26 -> -0.20520467 | G26: =D26+D15 -> 0.550752 | H26: =E26+E15 -> 0.35463467
A27: 4 | B27: K1T0 | C27: ppm | D27: 0.446556 | E27: 0.259526 | F27: =E27-D27 -> -0.18703 | G27: =D27+D16 -> 0.621126 | H27: =E27+E16 -> 0.42437467
A28: 5 | B28: K1T1 | C28: ppm | D28: 0.52327 | E28: 0.22317667 | F28: =E28-D28 -> -0.30009333 | G28: =D28+D17 -> 0.69805133 | H28: =E28+E17 -> 0.39521067
A29: 6 | B29: K1T2 | C29: ppm | D29: 0.563846 | E29: 0.20077533 | F29: =E29-D29 -> -0.36307067 | G29: =D29+D18 -> 0.74116333 | H29: =E29+E18 -> 0.36900533
A30: 7 | B30: K2T0 | C30: ppm | D30: 0.359698 | E30: 0.224656 | F30: =E30-D30 -> -0.135042 | G30: =D30+D19 -> 0.512712 | H30: =E30+E19 -> 0.39647867
A31: 8 | B31: K2T1 | C31: ppm | D31: 0.512492 | E31: 0.46768933 | F31: =E31-D31 -> -0.044802667 | G31: =D31+D20 -> 0.68494867 | H31: =E31+E20 -> 0.63761
A32: 9 | B32: K2T2 | C32: ppm | D32: 0.559408 | E32: 0.330534 | F32: =E32-D32 -> -0.228874 | G32: =D32+D21 -> 0.70819533 | H32: =E32+E21 -> 0.50594933

Sheet Sheet12
A1: No. | B1: Kode Tanaman | C1: Ulangan | D1: ph (hari ke-0) | E1: ph (hari ke-19) | I1: Al (hari ke-0) | J1: Al (hari ke-19) | M1: STDV | N1: delta | O1: Laju Perubahan | P1: Rata-rata | S1: Al (hari ke-0) | T1: Al (hari ke-19) | W1: STDV | X1: Selisih | Y1: delta | Z1: Laju Perubahan | AC1: BAF 0 | AD1: BAF 19 | AE1: delta | AG1: ph Tanah | AS1: Rerata | AZ1: Rerata | BG1: Rerata | BN1: Rerata | BU1: Rerata | CB1: Rerata | CI1: Rerata | CP1: Rerata | CU1: Rata-rata | DA1: STDV | DG1: SLOPE | DM1: INTERCEPT | DQ1: RSQ | DU1: CORELASI
D2: Tanaman ke- | E2: Tanaman ke- | I2: Tanaman | J2: Tanaman | K2: 0.013 | L2: =(0.634*K2)+0.108 -> 0.116242 | S2: Tanah | T2: Tanah | U2: 0.15 | V2: =(0.414*U2)+0.004 -> 0.0661 | AG2: 1 | AM2: 3 | AT2: 5 | BA2: 7 | BH2: 9 | BO2: 11 | BV2: 13 | CC2: 15 | CJ2: 17 | CQ2: 19 | EA2: 0 | EH2: 19
D3: 1 | E3: 1 | I3: 1 | J3: 1 | S3: 1 | T3: 1 | U3: 0.79 | V3: =(0.634*U3)+0.108 -> 0.60886 | AG3: 1 (atas) | AH3: 1 (bawah) | AI3: 2 (atas) | AJ3: 2 (bawah) | AK3: 3 (atas) | AL3: 3 (bawah) | AM3: 2 (atas) | AN3: 2 (bawah) | AP3: 3 (atas) | AQ3: 3 (bawah) | AT3: 2 (atas) | AU3: 2 (bawah) | AW3: 3 (atas) | AX3: 3 (bawah) | BA3: 2 (atas) | BB3: 2 (bawah) | BD3: 3 (atas) | BE3: 3 (bawah) | BH3: 2 (atas) | BI3: 2 (bawah) | BK3: 3 (atas) | BL3: 3 (bawah) | BO3: 2 (atas) | BP3: 2 (bawah) | BR3: 3 (atas) | BS3: 3 (bawah) | BV3: 2 (atas) | BW3: 2 (bawah) | BY3: 3 (atas) | BZ3: 3 (bawah) | CC3: 2 (atas) | CD3: 2 (bawah) | CF3: 3 (atas) | CG3: 3 (bawah) | CJ3: 2 (atas) | CK3: 2 (bawah) | CM3: 3 (atas) | CN3: 3 (bawah) | CQ3: 2 (atas) | CR3: 2 (bawah) | CS3: 3 (atas) | CT3: 3 (bawah) | CU3: 2 (atas) | CV3: 2 (bawah) | CX3: 3 (atas) | CY3: 3 (bawah) | DA3: 2 (atas) | DB3: 2 (bawah) | DD3: 3 (atas) | DE3: 3 (bawah) | DG3: 2 (atas) | DH3: 2 (bawah) | DJ3: 3 (atas) | DK3: 3 (bawah) | DM3: 2 (atas) | DN3: 2 (bawah) | DO3: 3 (atas) | DP3: 3 (bawah) | DQ3: 2 (atas) | DR3: 2 (bawah) | DS3: 3 (atas) | DT3: 3 (bawah) | DU3: 2 (atas) | DV3: 2 (bawah) | DW3: 3 (atas) | DX3: 3 (bawah) | EA3: 2 (atas) | EB3: 2 (bawah) | ED3: 3 (atas) | EE3: 3 (bawah) | EG3: rata | EH3: 2 (atas) | EI3: 2 (bawah) | EK3: 3 (atas) | EL3: 3 (bawah) | EN3: rata | EO3: delta | EP3: 2 (atas) | ER3: 2 (bawah)
A4: 1 | B4: K0T0 | C4: 1 | D4: 9.96 | E4: 8.79 | G4: =((D4-E4)/D4) -> 0.11746988 | H4: =G4*100% -> 0.11746988 | I4: 0.035 | J4: 0.487 | K4: =(0.634*I4)+0.108 -> 0.13019 | L4: =(0.634*J4)+0.108 -> 0.416758 | M4: =_xlfn.STDEV.S($K$4,L4) -> 0.20263418 | N4: =$L$4-K4 -> 0.286568 | O4: =(L4+$K$4)/19 -> 0.028786737 | Q4: =L4-K4 -> 0.286568 | R4: =N4*100% -> 0.286568 | S4: 0.08 | T4: 0.068 | U4: =(0.414*S4)+0.004 -> 0.03712 | V4: =(0.414*T4)+0.004 -> 0.032152 | W4: =_xlfn.STDEV.S(U4,V4) -> 0.0035129065 | X4: =U4-V4 -> 0.004968 | Y4: =V4-U4 -> -0.004968 | Z4: =(V4+U4)/19 -> 0.0036458947 | AA4: =S4-T4/S4 -> -0.77 | AB4: =AA4*100% -> -0.77 | AC4: =$K$4/U4 -> 3.5072737 | AD4: =L4/V4 -> 12.962117 | AE4: =U4-V4 -> 0.004968 | AG4: 10 | AH4: 10 | AI4: 10 | AJ4: 10 | AK4: 10 | AL4: 10 | AM4: 10 | AN4: 10 | AO4: =(AM4+AN4)/2 -> 10 | AP4: 10 | AQ4: 10 | AR4: =(AP4+AQ4)/2 -> 10 | AS4: =(AO4+AR4)/2 -> 10 | AT4: 9 | AU4: 10 | AV4: =(AT4+AU4)/2 -> 9.5 | AW4: 9 | AX4: 10 | AY4: =(AW4+AX4)/2 -> 9.5 | AZ4: =(AV4+AY4)/2 -> 9.5 | BA4: 9 | BB4: 10 | BC4: =(BA4+BB4)/2 -> 9.5 | BD4: 9 | BE4: 10 | BF4: =(BD4+BE4)/2 -> 9.5 | BG4: =(BC4+BF4)/2 -> 9.5 | BH4: 9 | BI4: 10 | BJ4: =(BH4+BI4)/2 -> 9.5 | BK4: 9 | BL4: 10 | BM4: =(BK4+BL4)/2 -> 9.5 | BN4: =(BJ4+BM4)/2 -> 9.5 | BO4: 9 | BP4: 10 | BQ4: =(BO4+BP4)/2 -> 9.5 | BR4: 9 | BS4: 10 | BT4: =(BR4+BS4)/2 -> 9.5 | BU4: =(BQ4+BT4)/2 -> 9.5 | BV4: 9 | BW4: 10 | BX4: =(BV4+BW4)/2 -> 9.5 | BY4: 9 | BZ4: 10 | CA4: =(BY4+BZ4)/2 -> 9.5 | CB4: =(BX4+CA4)/2 -> 9.5 | CC4: 8.5 | CD4: 9 | CE4: =(CC4+CD4)/2 -> 8.75 | CF4: 8.5 | CG4: 9 | CH4: =(CF4+CG4)/2 -> 8.75 | CI4: =(CE4+CH4)/2 -> 8.75 | CJ4: 8.5 | CK4: 9 | CL4: =(CJ4+CK4)/2 -> 8.75 | CM4: 8.5 | CN4: 9 | CO4: =(CM4+CN4)/2 -> 8.75 | CP4: =(CL4+CO4)/2 -> 8.75 | CQ4: 8.5 | CR4: 9 | CS4: 8.5 | CT4: 9 | CU4: =(AI4+AM4+AT4+BA4+BH4+BH4+BO4+BV4+CC4+CJ4+CQ4)/10 -> 9.95 | CV4: =(AJ4+AN4+AU4+BB4+BI4+BI4+BP4+BW4+CD4+CK4+CR4)/10 -> 10.7 | CW4: =AVERAGE(CU4,CV4) -> 10.325 | CX4: =(AK4+AP4+AW4+BD4+BK4+BK4+BR4+BY4+CF4+CM4+CS4)/10 -> 9.95 | CY4: =(AL4+AQ4+AX4+BE4+BL4+BL4+BS4+BZ4+CG4+CN4+CT4)/10 -> 10.7 | CZ4: =AVERAGE(CX4,CY4) -> 10.325 | DA4: =_xlfn.STDEV.S(AI4,AM4,AT4,BA4,BH4,BO4,BV4,CC4,CJ4,CQ4) -> 0.55025247 | DB4: =_xlfn.STDEV.S(AJ4,AN4,AU4,BB4,BI4,BP4,BW4,CD4,CK4,CR4) -> 0.48304589 | DD4: =_xlfn.STDEV.S(AK4,AP4,AW4,BD4,BK4,BR4,BY4,CF4,CM4,CS4) -> 0.55025247 | DE4: =_xlfn.STDEV.S(AL4,AQ4,AX4,BE4,BL4,BS4,BZ4,CG4,CN4,CT4) -> 0.48304589 | DG4: =SLOPE(Sheet13!A4:J4,Sheet13!$A$2:$J$2) -> -0.078675838 | DH4: =SLOPE(Sheet13!L4:U4,Sheet13!$L$2:$U$2) -> -0.061049011 | DJ4: =SLOPE(Sheet13!W4:AF4,Sheet13!$W$2:$AF$2) -> -0.078675838 | DK4: =SLOPE(Sheet13!AH4:AQ4,Sheet13!$AH$2:$AQ$2) -> -0.061049011 | DM4: =INTERCEPT(Sheet13!A4:J4,Sheet13!$A$2:$J$2) -> 9.8288908 | DN4: =INTERCEPT(Sheet13!L4:U4,Sheet13!$L$2:$U$2) -> 10.304385 | DO4: =INTERCEPT(Sheet13!W4:AF4,Sheet13!$W$2:$AF$2) -> 9.8288908 | DP4: =INTERCEPT(Sheet13!AH4:AQ4,Sheet13!$AH$2:$AQ$2) -> 10.304385 | DQ4: =RSQ(Sheet13!A4:J4,Sheet13!$A$2:$J$2) -> 0.79253276 | DR4: =RSQ(Sheet13!L4:U4,Sheet13!$L$2:$U$2) -> 0.6192114 | DS4: =RSQ(Sheet13!W4:AF4,Sheet13!$W$2:$AF$2) -> 0.79253276 | DT4: =RSQ(Sheet13!AH4:AQ4,Sheet13!$AH$2:$AQ$2) -> 0.6192114 | DU4: =CORREL(Sheet13!A4:J4,Sheet13!$A$2:$J$2) -> -0.89024309 | DV4: =CORREL(Sheet13!L4:U4,Sheet13!$L$2:$U$2) -> -0.78689987 | DW4: =CORREL(Sheet13!W4:AF4,Sheet13!$W$2:$AF$2) -> -0.89024309 | DX4: =CORREL(Sheet13!AH4:AQ4,Sheet13!$AH$2:$AQ$2) -> -0.78689987 | EA4: 10 | EB4: 10 | EC4: =(EA4+EB4)/2 -> 10 | ED4: 10 | EE4: 10 | EF4: =(ED4+EE4)/2 -> 10 | EG4: =(EC4+EF4)/2 -> 10 | EH4: 8.5 | EI4: 9 | EJ4: =(EH4+EI4)/2 -> 8.75 | EK4: 8.5 | EL4: 9 | EM4: =(EK4+EL4)/2 -> 8.75 | EN4: =(EJ4+EM4)/2 -> 8.75 | EO4: =EN4-EG4 -> -1.25 | EP4: =(EA4-EH4)/EA4 -> 0.15 | EQ4: =EP4*100% -> 0.15 | ER4: =(EB4-EI4)/EB4 -> 0.1 | ES4: =ER4*100% -> 0.1 | ET4: =(ED4-EK4)/ED4 -> 0.15 | EU4: =ET4*100% -> 0.15 | EV4: =(EE4-EL4)/EE4 -> 0.1 | EW4: =EV4*100% -> 0.1
C5: 2 | D5: 9.71 | E5: 9.09 | G5: =((D5-E5)/D5) -> 0.063851699 | H5: =G5*100% -> 0.063851699 | J5: 0.29 | L5: =(0.634*J5)+0.108 -> 0.29186 | M5: =_xlfn.STDEV.S($K$4,L5) -> 0.11431795 | N5: =L5-K4 -> 0.16167 | O5: =(L5+K5)/19 -> 0.015361053 | Q5: =L5-K4 -> 0.16167 | R5: =N5*100% -> 0.16167 | S5: 0.06 | T5: 0.085 | U5: =(0.414*S5)+0.004 -> 0.02884 | V5: =(0.414*T5)+0.004 -> 0.03919 | W5: =_xlfn.STDEV.S(U5,V5) -> 0.0073185552 | X5: =U5-V5 -> -0.01035 | Y5: =V5-U5 -> 0.01035 | Z5: =(V5+U5)/19 -> 0.0035805263 | AA5: =S5-T5/S5 -> -1.3566667 | AB5: =AA5*100% -> -1.3566667 | AC5: =$K$4/U5 -> 4.5142164 | AD5: =L5/V5 -> 7.447308 | AE5: =U5-V5 -> -0.01035 | AG5: 10 | AH5: 10 | AI5: 10 | AJ5: 10 | AK5: 10 | AL5: 10 | AM5: 10 | AN5: 10 | AO5: =(AM5+AN5)/2 -> 10 | AP5: 10 | AQ5: 10 | AR5: =(AP5+AQ5)/2 -> 10 | AS5: =(AO5+AR5)/2 -> 10 | AT5: 8.5 | AU5: 10 | AV5: =(AT5+AU5)/2 -> 9.25 | AW5: 10 | AX5: 10 | AY5: =(AW5+AX5)/2 -> 10 | AZ5: =(AV5+AY5)/2 -> 9.625 | BA5: 8.5 | BB5: 10 | BC5: =(BA5+BB5)/2 -> 9.25 | BD5: 10 | BE5: 10 | BF5: =(BD5+BE5)/2 -> 10 | BG5: =(BC5+BF5)/2 -> 9.625 | BH5: 8.5 | BI5: 10 | BJ5: =(BH5+BI5)/2 -> 9.25 | BK5: 10 | BL5: 10 | BM5: =(BK5+BL5)/2 -> 10 | BN5: =(BJ5+BM5)/2 -> 9.625 | BO5: 8.5 | BP5: 10 | BQ5: =(BO5+BP5)/2 -> 9.25 | BR5: 10 | BS5: 10 | BT5: =(BR5+BS5)/2 -> 10 | BU5: =(BQ5+BT5)/2 -> 9.625 | BV5: 8.5 | BW5: 9 | BX5: =(BV5+BW5)/2 -> 8.75 | BY5: 9 | BZ5: 10 | CA5: =(BY5+BZ5)/2 -> 9.5 | CB5: =(BX5+CA5)/2 -> 9.125 | CC5: 8.5 | CD5: 9 | CE5: =(CC5+CD5)/2 -> 8.75 | CF5: 8 | CG5: 9 | CH5: =(CF5+CG5)/2 -> 8.5 | CI5: =(CE5+CH5)/2 -> 8.625 | CJ5: 7.5 | CK5: 9 | CL5: =(CJ5+CK5)/2 -> 8.25 | CM5: 8 | CN5: 9 | CO5: =(CM5+CN5)/2 -> 8.5 | CP5: =(CL5+CO5)/2 -> 8.375 | CQ5: 7.5 | CR5: 9 | CS5: 8 | CT5: 9 | CU5: =(AI5+AM5+AT5+BA5+BH5+BH5+BO5+BV5+CC5+CJ5+CQ5)/10 -> 9.45 | CV5: =(AJ5+AN5+AU5+BB5+BI5+BI5+BP5+BW5+CD5+CK5+CR5)/10 -> 10.6 | CW5: =AVERAGE(CU5,CV5) -> 10.025 | CX5: =(AK5+AP5+AW5+BD5+BK5+BK5+BR5+BY5+CF5+CM5+CS5)/10 -> 10.3 | CY5: =(AL5+AQ5+AX5+BE5+BL5+BL5+BS5+BZ5+CG5+CN5+CT5)/10 -> 10.7 | CZ5: =AVERAGE(CX5,CY5) -> 10.5 | DA5: =_xlfn.STDEV.S(AI5,AM5,AT5,BA5,BH5,BO5,BV5,CC5,CJ5,CQ5) -> 0.84327404 | DB5: =_xlfn.STDEV.S(AJ5,AN5,AU5,BB5,BI5,BP5,BW5,CD5,CK5,CR5) -> 0.51639778 | DD5: =_xlfn.STDEV.S(AK5,AP5,AW5,BD5,BK5,BR5,BY5,CF5,CM5,CS5) -> 0.9486833 | DE5: =_xlfn.STDEV.S(AL5,AQ5,AX5,BE5,BL5,BS5,BZ5,CG5,CN5,CT5) -> 0.48304589 | DG5: =SLOPE(Sheet13!A5:J5,Sheet13!$A$2:$J$2) -> -0.11865864 | DH5: =SLOPE(Sheet13!L5:U5,Sheet13!$L$2:$U$2) -> -0.069934079 | DJ5: =SLOPE(Sheet13!W5:AF5,Sheet13!$W$2:$AF$2) -> -0.13098309 | DK5: =SLOPE(Sheet13!AH5:AQ5,Sheet13!$AH$2:$AQ$2) -> -0.061049011 | DM5: =INTERCEPT(Sheet13!A5:J5,Sheet13!$A$2:$J$2) -> 9.7747206 | DN5: =INTERCEPT(Sheet13!L5:U5,Sheet13!$L$2:$U$2) -> 10.292347 | DO5: =INTERCEPT(Sheet13!W5:AF5,Sheet13!$W$2:$AF$2) -> 10.596733 | DP5: =INTERCEPT(Sheet13!AH5:AQ5,Sheet13!$AH$2:$AQ$2) -> 10.304385 | DQ5: =RSQ(Sheet13!A5:J5,Sheet13!$A$2:$J$2) -> 0.76757309 | DR5: =RSQ(Sheet13!L5:U5,Sheet13!$L$2:$U$2) -> 0.71099647 | DS5: =RSQ(Sheet13!W5:AF5,Sheet13!$W$2:$AF$2) -> 0.73900336 | DT5: =RSQ(Sheet13!AH5:AQ5,Sheet13!$AH$2:$AQ$2) -> 0.6192114 | DU5: =CORREL(Sheet13!A5:J5,Sheet13!$A$2:$J$2) -> -0.87611249 | DV5: =CORREL(Sheet13!L5:U5,Sheet13!$L$2:$U$2) -> -0.84320606 | DW5: =CORREL(Sheet13!W5:AF5,Sheet13!$W$2:$AF$2) -> -0.85965305 | DX5: =CORREL(Sheet13!AH5:AQ5,Sheet13!$AH$2:$AQ$2) -> -0.78689987 | EA5: 10 | EB5: 10 | EC5: =(EA5+EB5)/2 -> 10 | ED5: 10 | EE5: 10 | EF5: =(ED5+EE5)/2 -> 10 | EG5: =(EC5+EF5)/2 -> 10 | EH5: 7.5 | EI5: 9 | EJ5: =(EH5+EI5)/2 -> 8.25 | EK5: 8 | EL5: 9 | EM5: =(EK5+EL5)/2 -> 8.5 | EN5: =(EJ5+EM5)/2 -> 8.375 | EO5: =EN5-EG5 -> -1.625 | EP5: =(EA5-EH5)/EA5 -> 0.25 | EQ5: =EP5*100% -> 0.25 | ER5: =(EB5-EI5)/EB5 -> 0.1 | ES5: =ER5*100% -> 0.1 | ET5: =(ED5-EK5)/ED5 -> 0.2 | EU5: =ET5*100% -> 0.2 | EV5: =(EE5-EL5)/EE5 -> 0.1 | EW5: =EV5*100% -> 0.1
C6: 3 | D6: 9.67 | E6: 9.07 | G6: =((D6-E6)/D6) -> 0.06204757 | H6: =G6*100% -> 0.06204757 | J6: 0.274 | L6: =(0.634*J6)+0.108 -> 0.281716 | M6: =_xlfn.STDEV.S($K$4,L6) -> 0.10714506 | N6: =L6-K4 -> 0.151526 | O6: =(L6+K6)/19 -> 0.014827158 | Q6: =L6-K4 -> 0.151526 | R6: =N6*100% -> 0.151526 | S6: 0.081 | T6: 0.139 | U6: =(0.414*S6)+0.004 -> 0.037534 | V6: =(0.414*T6)+0.004 -> 0.061546 | W6: =_xlfn.STDEV.S(U6,V6) -> 0.016979048 | X6: =U6-V6 -> -0.024012 | Y6: =V6-U6 -> 0.024012 | Z6: =(V6+U6)/19 -> 0.0052147368 | AA6: =S6-T6/S6 -> -1.6350494 | AB6: =AA6*100% -> -1.6350494 | AC6: =$K$4/U6 -> 3.4685885 | AD6: =L6/V6 -> 4.5773243 | AE6: =U6-V6 -> -0.024012 | AG6: 10 | AH6: 10 | AI6: 10 | AJ6: 10 | AK6: 10 | AL6: 10 | AM6: 10 | AN6: 10 | AO6: =(AM6+AN6)/2 -> 10 | AP6: 10 | AQ6: 10 | AR6: =(AP6+AQ6)/2 -> 10 | AS6: =(AO6+AR6)/2 -> 10 | AT6: 8.5 | AU6: 10 | AV6: =(AT6+AU6)/2 -> 9.25 | AW6: 9 | AX6: 10 | AY6: =(AW6+AX6)/2 -> 9.5 | AZ6: =(AV6+AY6)/2 -> 9.375 | BA6: 8.5 | BB6: 10 | BC6: =(BA6+BB6)/2 -> 9.25 | BD6: 9 | BE6: 10 | BF6: =(BD6+BE6)/2 -> 9.5 | BG6: =(BC6+BF6)/2 -> 9.375 | BH6: 8.5 | BI6: 10 | BJ6: =(BH6+BI6)/2 -> 9.25 | BK6: 9 | BL6: 10 | BM6: =(BK6+BL6)/2 -> 9.5 | BN6: =(BJ6+BM6)/2 -> 9.375 | BO6: 8.5 | BP6: 10 | BQ6: =(BO6+BP6)/2 -> 9.25 | BR6: 9 | BS6: 10 | BT6: =(BR6+BS6)/2 -> 9.5 | BU6: =(BQ6+BT6)/2 -> 9.375 | BV6: 8.5 | BW6: 9 | BX6: =(BV6+BW6)/2 -> 8.75 | BY6: 9 | BZ6: 10 | CA6: =(BY6+BZ6)/2 -> 9.5 | CB6: =(BX6+CA6)/2 -> 9.125 | CC6: 7.5 | CD6: 9 | CE6: =(CC6+CD6)/2 -> 8.25 | CF6: 8.5 | CG6: 9 | CH6: =(CF6+CG6)/2 -> 8.75 | CI6: =(CE6+CH6)/2 -> 8.5 | CJ6: 7.5 | CK6: 9 | CL6: =(CJ6+CK6)/2 -> 8.25 | CM6: 8.5 | CN6: 9 | CO6: =(CM6+CN6)/2 -> 8.75 | CP6: =(CL6+CO6)/2 -> 8.5 | CQ6: 7.5 | CR6: 9 | CS6: 8.5 | CT6: 9 | CU6: =(AI6+AM6+AT6+BA6+BH6+BH6+BO6+BV6+CC6+CJ6+CQ6)/10 -> 9.35 | CV6: =(AJ6+AN6+AU6+BB6+BI6+BI6+BP6+BW6+CD6+CK6+CR6)/10 -> 10.6 | CW6: =AVERAGE(CU6,CV6) -> 9.975 | CX6: =(AK6+AP6+AW6+BD6+BK6+BK6+BR6+BY6+CF6+CM6+CS6)/10 -> 9.95 | CY6: =(AL6+AQ6+AX6+BE6+BL6+BL6+BS6+BZ6+CG6+CN6+CT6)/10 -> 10.7 | CZ6: =AVERAGE(CX6,CY6) -> 10.325 | DA6: =_xlfn.STDEV.S(AI6,AM6,AT6,BA6,BH6,BO6,BV6,CC6,CJ6,CQ6) -> 0.91287093 | DB6: =_xlfn.STDEV.S(AJ6,AN6,AU6,BB6,BI6,BP6,BW6,CD6,CK6,CR6) -> 0.51639778 | DD6: =_xlfn.STDEV.S(AK6,AP6,AW6,BD6,BK6,BR6,BY6,CF6,CM6,CS6) -> 0.55025247 | DE6: =_xlfn.STDEV.S(AL6,AQ6,AX6,BE6,BL6,BS6,BZ6,CG6,CN6,CT6) -> 0.48304589 | DG6: =SLOPE(Sheet13!A6:J6,Sheet13!$A$2:$J$2) -> -0.13327601 | DH6: =SLOPE(Sheet13!L6:U6,Sheet13!$L$2:$U$2) -> -0.069934079 | DJ6: =SLOPE(Sheet13!W6:AF6,Sheet13!$W$2:$AF$2) -> -0.078675838 | DK6: =SLOPE(Sheet13!AH6:AQ6,Sheet13!$AH$2:$AQ$2) -> -0.061049011 | DM6: =INTERCEPT(Sheet13!A6:J6,Sheet13!$A$2:$J$2) -> 9.8194325 | DN6: =INTERCEPT(Sheet13!L6:U6,Sheet13!$L$2:$U$2) -> 10.292347 | DO6: =INTERCEPT(Sheet13!W6:AF6,Sheet13!$W$2:$AF$2) -> 9.8288908 | DP6: =INTERCEPT(Sheet13!AH6:AQ6,Sheet13!$AH$2:$AQ$2) -> 10.304385 | DQ6: =RSQ(Sheet13!A6:J6,Sheet13!$A$2:$J$2) -> 0.82631126 | DR6: =RSQ(Sheet13!L6:U6,Sheet13!$L$2:$U$2) -> 0.71099647 | DS6: =RSQ(Sheet13!W6:AF6,Sheet13!$W$2:$AF$2) -> 0.79253276 | DT6: =RSQ(Sheet13!AH6:AQ6,Sheet13!$AH$2:$AQ$2) -> 0.6192114 | DU6: =CORREL(Sheet13!A6:J6,Sheet13!$A$2:$J$2) -> -0.90901665 | DV6: =CORREL(Sheet13!L6:U6,Sheet13!$L$2:$U$2) -> -0.84320606 | DW6: =CORREL(Sheet13!W6:AF6,Sheet13!$W$2:$AF$2) -> -0.89024309 | DX6: =CORREL(Sheet13!AH6:AQ6,Sheet13!$AH$2:$AQ$2) -> -0.78689987 | EA6: 10 | EB6: 10 | EC6: =(EA6+EB6)/2 -> 10 | ED6: 10 | EE6: 10 | EF6: =(ED6+EE6)/2 -> 10 | EG6: =(EC6+EF6)/2 -> 10 | EH6: 7.5 | EI6: 9 | EJ6: =(EH6+EI6)/2 -> 8.25 | EK6: 8.5 | EL6: 9 | EM6: =(EK6+EL6)/2 -> 8.75 | EN6: =(EJ6+EM6)/2 -> 8.5 | EO6: =EN6-EG6 -> -1.5 | EP6: =(EA6-EH6)/EA6 -> 0.25 | EQ6: =EP6*100% -> 0.25 | ER6: =(EB6-EI6)/EB6 -> 0.1 | ES6: =ER6*100% -> 0.1 | ET6: =(ED6-EK6)/ED6 -> 0.15 | EU6: =ET6*100% -> 0.15 | EV6: =(EE6-EL6)/EE6 -> 0.1 | EW6: =EV6*100% -> 0.1
A7: 2 | B7: K0T1 | C7: 1 | D7: 9.88 | E7: 8.94 | G7: =((D7-E7)/D7) -> 0.0951417 | H7: =G7*100% -> 0.0951417 | I7: 0.139 | J7: 0.421 | K7: =(0.634*I7)+0.108 -> 0.196126 | L7: =(0.634*J7)+0.108 -> 0.374914 | M7: =_xlfn.STDEV.S($K$7,L7) -> 0.12642221 | N7: =L7-K7 -> 0.178788 | O7: =(L7+$K$7)/19 -> 0.030054737 | Q7: =L7-K7 -> 0.178788 | R7: =N7*100% -> 0.178788 | S7: 0.078 | T7: 0.103 | U7: =(0.414*S7)+0.004 -> 0.036292 | V7: =(0.414*T7)+0.004 -> 0.046642 | W7: =_xlfn.STDEV.S(U7,V7) -> 0.0073185552 | X7: =U7-V7 -> -0.01035 | Y7: =V7-U7 -> 0.01035 | Z7: =(V7+U7)/19 -> 0.0043649474 | AA7: =S7-T7/S7 -> -1.2425128 | AB7: =AA7*100% -> -1.2425128 | AC7: =$K$7/U7 -> 5.4041111 | AD7: =L7/V7 -> 8.0381201 | AE7: =U7-V7 -> -0.01035 | AG7: 7.5 | AH7: 9 | AI7: 7.5 | AJ7: 9 | AK7: 7.5 | AL7: 9 | AM7: 10 | AN7: 10 | AO7: =(AM7+AN7)/2 -> 10 | AP7: 8.5 | AQ7: 10 | AR7: =(AP7+AQ7)/2 -> 9.25 | AS7: =(AO7+AR7)/2 -> 9.625 | AT7: 10 | AU7: 9 | AV7: =(AT7+AU7)/2 -> 9.5 | AW7: 10 | AX7: 9 | AY7: =(AW7+AX7)/2 -> 9.5 | AZ7: =(AV7+AY7)/2 -> 9.5 | BA7: 10 | BB7: 9 | BC7: =(BA7+BB7)/2 -> 9.5 | BD7: 10 | BE7: 9 | BF7: =(BD7+BE7)/2 -> 9.5 | BG7: =(BC7+BF7)/2 -> 9.5 | BH7: 10 | BI7: 10 | BJ7: =(BH7+BI7)/2 -> 10 | BK7: 9 | BL7: 10 | BM7: =(BK7+BL7)/2 -> 9.5 | BN7: =(BJ7+BM7)/2 -> 9.75 | BO7: 10 | BP7: 10 | BQ7: =(BO7+BP7)/2 -> 10 | BR7: 9 | BS7: 10 | BT7: =(BR7+BS7)/2 -> 9.5 | BU7: =(BQ7+BT7)/2 -> 9.75 | BV7: 7.5 | BW7: 9 | BX7: =(BV7+BW7)/2 -> 8.25 | BY7: 7 | BZ7: 9 | CA7: =(BY7+BZ7)/2 -> 8 | CB7: =(BX7+CA7)/2 -> 8.125 | CC7: 7.5 | CD7: 9 | CE7: =(CC7+CD7)/2 -> 8.25 | CF7: 7 | CG7: 9 | CH7: =(CF7+CG7)/2 -> 8 | CI7: =(CE7+CH7)/2 -> 8.125 | CJ7: 7.5 | CK7: 9 | CL7: =(CJ7+CK7)/2 -> 8.25 | CM7: 7 | CN7: 9 | CO7: =(CM7+CN7)/2 -> 8 | CP7: =(CL7+CO7)/2 -> 8.125 | CQ7: 7.5 | CR7: 9 | CS7: 7 | CT7: 9 | CU7: =(AI7+AM7+AT7+BA7+BH7+BH7+BO7+BV7+CC7+CJ7+CQ7)/10 -> 9.75 | CV7: =(AJ7+AN7+AU7+BB7+BI7+BI7+BP7+BW7+CD7+CK7+CR7)/10 -> 10.3 | CW7: =AVERAGE(CU7,CV7) -> 10.025 | CX7: =(AK7+AP7+AW7+BD7+BK7+BK7+BR7+BY7+CF7+CM7+CS7)/10 -> 9.1 | CY7: =(AL7+AQ7+AX7+BE7+BL7+BL7+BS7+BZ7+CG7+CN7+CT7)/10 -> 10.3 | CZ7: =AVERAGE(CX7,CY7) -> 9.7 | DA7: =_xlfn.STDEV.S(AI7,AM7,AT7,BA7,BH7,BO7,BV7,CC7,CJ7,CQ7) -> 1.3176157 | DB7: =_xlfn.STDEV.S(AJ7,AN7,AU7,BB7,BI7,BP7,BW7,CD7,CK7,CR7) -> 0.48304589 | DD7: =_xlfn.STDEV.S(AK7,AP7,AW7,BD7,BK7,BR7,BY7,CF7,CM7,CS7) -> 1.2516656 | DE7: =_xlfn.STDEV.S(AL7,AQ7,AX7,BE7,BL7,BS7,BZ7,CG7,CN7,CT7) -> 0.48304589 | DG7: =SLOPE(Sheet13!A7:J7,Sheet13!$A$2:$J$2) -> -0.10389797 | DH7: =SLOPE(Sheet13!L7:U7,Sheet13!$L$2:$U$2) -> -0.01920321 | DJ7: =SLOPE(Sheet13!W7:AF7,Sheet13!$W$2:$AF$2) -> -0.10977357 | DK7: =SLOPE(Sheet13!AH7:AQ7,Sheet13!$AH$2:$AQ$2) -> -0.01920321 | DM7: =INTERCEPT(Sheet13!A7:J7,Sheet13!$A$2:$J$2) -> 9.7785899 | DN7: =INTERCEPT(Sheet13!L7:U7,Sheet13!$L$2:$U$2) -> 9.4901118 | DO7: =INTERCEPT(Sheet13!W7:AF7,Sheet13!$W$2:$AF$2) -> 9.2867584 | DP7: =INTERCEPT(Sheet13!AH7:AQ7,Sheet13!$AH$2:$AQ$2) -> 9.4901118 | DQ7: =RSQ(Sheet13!A7:J7,Sheet13!$A$2:$J$2) -> 0.24104328 | DR7: =RSQ(Sheet13!L7:U7,Sheet13!$L$2:$U$2) -> 0.061267385 | DS7: =RSQ(Sheet13!W7:AF7,Sheet13!$W$2:$AF$2) -> 0.29817928 | DT7: =RSQ(Sheet13!AH7:AQ7,Sheet13!$AH$2:$AQ$2) -> 0.061267385 | DU7: =CORREL(Sheet13!A7:J7,Sheet13!$A$2:$J$2) -> -0.49096159 | DV7: =CORREL(Sheet13!L7:U7,Sheet13!$L$2:$U$2) -> -0.24752249 | DW7: =CORREL(Sheet13!W7:AF7,Sheet13!$W$2:$AF$2) -> -0.54605795 | DX7: =CORREL(Sheet13!AH7:AQ7,Sheet13!$AH$2:$AQ$2) -> -0.24752249 | EA7: 7.5 | EB7: 9 | EC7: =(EA7+EB7)/2 -> 8.25 | ED7: 7.5 | EE7: 9 | EF7: =(ED7+EE7)/2 -> 8.25 | EG7: =(EC7+EF7)/2 -> 8.25 | EH7: 7.5 | EI7: 9 | EJ7: =(EH7+EI7)/2 -> 8.25 | EK7: 7 | EL7: 9 | EM7: =(EK7+EL7)/2 -> 8 | EN7: =(EJ7+EM7)/2 -> 8.125 | EO7: =EN7-EG7 -> -0.125 | EP7: =(EA7-EH7)/EA7 -> 0 | EQ7: =EP7*100% -> 0 | ER7: =(EB7-EI7)/EB7 -> 0 | ES7: =ER7*100% -> 0 | ET7: =(ED7-EK7)/ED7 -> 0.066666667 | EU7: =ET7*100% -> 0.066666667 | EV7: =(EE7-EL7)/EE7 -> 0 | EW7: =EV7*100% -> 0
C8: 2 | D8: 9.54 | E8: 8.82 | G8: =((D8-E8)/D8) -> 0.075471698 | H8: =G8*100% -> 0.075471698 | J8: 0.013 | L8: =(0.634*J8)+0.108 -> 0.116242 | M8: =_xlfn.STDEV.S($K$7,L8) -> 0.056486518 | N8: =L8-K7 -> -0.079884 | O8: =(L8+$K$7)/19 -> 0.016440421 | Q8: =L8-K7 -> -0.079884 | R8: =N8*100% -> -0.079884 | S8: 0.112 | T8: 0.052 | U8: =(0.414*S8)+0.004 -> 0.050368 | V8: =(0.414*T8)+0.004 -> 0.025528 | W8: =_xlfn.STDEV.S(U8,V8) -> 0.017564532 | X8: =U8-V8 -> 0.02484 | Y8: =V8-U8 -> -0.02484 | Z8: =(V8+U8)/19 -> 0.0039945263 | AA8: =S8-T8/S8 -> -0.35228571 | AB8: =AA8*100% -> -0.35228571 | AC8: =$K$7/U8 -> 3.8938612 | AD8: =L8/V8 -> 4.5535099 | AE8: =U8-V8 -> 0.02484 | AG8: 7.5 | AH8: 9 | AI8: 7 | AJ8: 9 | AK8: 7.5 | AL8: 9 | AM8: 8.5 | AN8: 10 | AO8: =(AM8+AN8)/2 -> 9.25 | AP8: 9 | AQ8: 10 | AR8: =(AP8+AQ8)/2 -> 9.5 | AS8: =(AO8+AR8)/2 -> 9.375 | AT8: 8.5 | AU8: 9 | AV8: =(AT8+AU8)/2 -> 8.75 | AW8: 10 | AX8: 9 | AY8: =(AW8+AX8)/2 -> 9.5 | AZ8: =(AV8+AY8)/2 -> 9.125 | BA8: 8.5 | BB8: 9 | BC8: =(BA8+BB8)/2 -> 8.75 | BD8: 9 | BE8: 9 | BF8: =(BD8+BE8)/2 -> 9 | BG8: =(BC8+BF8)/2 -> 8.875 | BH8: 8 | BI8: 10 | BJ8: =(BH8+BI8)/2 -> 9 | BK8: 9 | BL8: 10 | BM8: =(BK8+BL8)/2 -> 9.5 | BN8: =(BJ8+BM8)/2 -> 9.25 | BO8: 8 | BP8: 10 | BQ8: =(BO8+BP8)/2 -> 9 | BR8: 9 | BS8: 10 | BT8: =(BR8+BS8)/2 -> 9.5 | BU8: =(BQ8+BT8)/2 -> 9.25 | BV8: 8 | BW8: 9 | BX8: =(BV8+BW8)/2 -> 8.5 | BY8: 8 | BZ8: 9 | CA8: =(BY8+BZ8)/2 -> 8.5 | CB8: =(BX8+CA8)/2 -> 8.5 | CC8: 8 | CD8: 9 | CE8: =(CC8+CD8)/2 -> 8.5 | CF8: 8 | CG8: 9 | CH8: =(CF8+CG8)/2 -> 8.5 | CI8: =(CE8+CH8)/2 -> 8.5 | CJ8: 8 | CK8: 9 | CL8: =(CJ8+CK8)/2 -> 8.5 | CM8: 8 | CN8: 9 | CO8: =(CM8+CN8)/2 -> 8.5 | CP8: =(CL8+CO8)/2 -> 8.5 | CQ8: 7 | CR8: 9 | CS8: 7.5 | CT8: 9 | CU8: =(AI8+AM8+AT8+BA8+BH8+BH8+BO8+BV8+CC8+CJ8+CQ8)/10 -> 8.75 | CV8: =(AJ8+AN8+AU8+BB8+BI8+BI8+BP8+BW8+CD8+CK8+CR8)/10 -> 10.3 | CW8: =AVERAGE(CU8,CV8) -> 9.525 | CX8: =(AK8+AP8+AW8+BD8+BK8+BK8+BR8+BY8+CF8+CM8+CS8)/10 -> 9.4 | CY8: =(AL8+AQ8+AX8+BE8+BL8+BL8+BS8+BZ8+CG8+CN8+CT8)/10 -> 10.3 | CZ8: =AVERAGE(CX8,CY8) -> 9.85 | DA8: =_xlfn.STDEV.S(AI8,AM8,AT8,BA8,BH8,BO8,BV8,CC8,CJ8,CQ8) -> 0.55025247 | DB8: =_xlfn.STDEV.S(AJ8,AN8,AU8,BB8,BI8,BP8,BW8,CD8,CK8,CR8) -> 0.48304589 | DD8: =_xlfn.STDEV.S(AK8,AP8,AW8,BD8,BK8,BR8,BY8,CF8,CM8,CS8) -> 0.81649658 | DE8: =_xlfn.STDEV.S(AL8,AQ8,AX8,BE8,BL8,BS8,BZ8,CG8,CN8,CT8) -> 0.48304589 | DG8: =SLOPE(Sheet13!A8:J8,Sheet13!$A$2:$J$2) -> -0.018773287 | DH8: =SLOPE(Sheet13!L8:U8,Sheet13!$L$2:$U$2) -> -0.01920321 | DJ8: =SLOPE(Sheet13!W8:AF8,Sheet13!$W$2:$AF$2) -> -0.054456864 | DK8: =SLOPE(Sheet13!AH8:AQ8,Sheet13!$AH$2:$AQ$2) -> -0.01920321 | DM8: =INTERCEPT(Sheet13!A8:J8,Sheet13!$A$2:$J$2) -> 8.1358555 | DN8: =INTERCEPT(Sheet13!L8:U8,Sheet13!$L$2:$U$2) -> 9.4901118 | DO8: =INTERCEPT(Sheet13!W8:AF8,Sheet13!$W$2:$AF$2) -> 9.039123 | DP8: =INTERCEPT(Sheet13!AH8:AQ8,Sheet13!$AH$2:$AQ$2) -> 9.4901118 | DQ8: =RSQ(Sheet13!A8:J8,Sheet13!$A$2:$J$2) -> 0.045124783 | DR8: =RSQ(Sheet13!L8:U8,Sheet13!$L$2:$U$2) -> 0.061267385 | DS8: =RSQ(Sheet13!W8:AF8,Sheet13!$W$2:$AF$2) -> 0.17244674 | DT8: =RSQ(Sheet13!AH8:AQ8,Sheet13!$AH$2:$AQ$2) -> 0.061267385 | DU8: =CORREL(Sheet13!A8:J8,Sheet13!$A$2:$J$2) -> -0.21242595 | DV8: =CORREL(Sheet13!L8:U8,Sheet13!$L$2:$U$2) -> -0.24752249 | DW8: =CORREL(Sheet13!W8:AF8,Sheet13!$W$2:$AF$2) -> -0.41526707 | DX8: =CORREL(Sheet13!AH8:AQ8,Sheet13!$AH$2:$AQ$2) -> -0.24752249 | EA8: 7 | EB8: 9 | EC8: =(EA8+EB8)/2 -> 8 | ED8: 7.5 | EE8: 9 | EF8: =(ED8+EE8)/2 -> 8.25 | EG8: =(EC8+EF8)/2 -> 8.125 | EH8: 7 | EI8: 9 | EJ8: =(EH8+EI8)/2 -> 8 | EK8: 7.5 | EL8: 9 | EM8: =(EK8+EL8)/2 -> 8.25 | EN8: =(EJ8+EM8)/2 -> 8.125 | EO8: =EN8-EG8 -> 0 | EP8: =(EA8-EH8)/EA8 -> 0 | EQ8: =EP8*100% -> 0 | ER8: =(EB8-EI8)/EB8 -> 0 | ES8: =ER8*100% -> 0 | ET8: =(ED8-EK8)/ED8 -> 0 | EU8: =ET8*100% -> 0 | EV8: =(EE8-EL8)/EE8 -> 0 | EW8: =EV8*100% -> 0
C9: 3 | D9: 9.07 | E9: 8.76 | G9: =((D9-E9)/D9) -> 0.034178611 | H9: =G9*100% -> 0.034178611 | J9: 0.069 | L9: =(0.634*J9)+0.108 -> 0.151746 | M9: =_xlfn.STDEV.S($K$7,L9) -> 0.031381399 | N9: =L9-K7 -> -0.04438 | O9: =(L9+$K$7)/19 -> 0.018309053 | Q9: =L9-K7 -> -0.04438 | R9: =N9*100% -> -0.04438 | S9: 0.079 | T9: 0.1 | U9: =(0.414*S9)+0.004 -> 0.036706 | V9: =(0.414*T9)+0.004 -> 0.0454 | W9: =_xlfn.STDEV.S(U9,V9) -> 0.0061475864 | X9: =U9-V9 -> -0.008694 | Y9: =V9-U9 -> 0.008694 | Z9: =(V9+U9)/19 -> 0.0043213684 | AA9: =S9-T9/S9 -> -1.1868228 | AB9: =AA9*100% -> -1.1868228 | AC9: =$K$7/U9 -> 5.3431592 | AD9: =L9/V9 -> 3.3424229 | AE9: =U9-V9 -> -0.008694 | AG9: 7.5 | AH9: 9 | AI9: 7.5 | AJ9: 9 | AK9: 7 | AL9: 9 | AM9: 9 | AN9: 10 | AO9: =(AM9+AN9)/2 -> 9.5 | AP9: 8.5 | AQ9: 10 | AR9: =(AP9+AQ9)/2 -> 9.25 | AS9: =(AO9+AR9)/2 -> 9.375 | AT9: 9 | AU9: 9 | AV9: =(AT9+AU9)/2 -> 9 | AW9: 10 | AX9: 9 | AY9: =(AW9+AX9)/2 -> 9.5 | AZ9: =(AV9+AY9)/2 -> 9.25 | BA9: 9 | BB9: 9 | BC9: =(BA9+BB9)/2 -> 9 | BD9: 10 | BE9: 9 | BF9: =(BD9+BE9)/2 -> 9.5 | BG9: =(BC9+BF9)/2 -> 9.25 | BH9: 8 | BI9: 10 | BJ9: =(BH9+BI9)/2 -> 9 | BK9: 10 | BL9: 10 | BM9: =(BK9+BL9)/2 -> 10 | BN9: =(BJ9+BM9)/2 -> 9.5 | BO9: 8 | BP9: 10 | BQ9: =(BO9+BP9)/2 -> 9 | BR9: 10 | BS9: 10 | BT9: =(BR9+BS9)/2 -> 10 | BU9: =(BQ9+BT9)/2 -> 9.5 | BV9: 8 | BW9: 9 | BX9: =(BV9+BW9)/2 -> 8.5 | BY9: 7.5 | BZ9: 8 | CA9: =(BY9+BZ9)/2 -> 7.75 | CB9: =(BX9+CA9)/2 -> 8.125 | CC9: 7.5 | CD9: 9 | CE9: =(CC9+CD9)/2 -> 8.25 | CF9: 7.5 | CG9: 8 | CH9: =(CF9+CG9)/2 -> 7.75 | CI9: =(CE9+CH9)/2 -> 8 | CJ9: 7.5 | CK9: 9 | CL9: =(CJ9+CK9)/2 -> 8.25 | CM9: 7.5 | CN9: 8 | CO9: =(CM9+CN9)/2 -> 7.75 | CP9: =(CL9+CO9)/2 -> 8 | CQ9: 7.5 | CR9: 9 | CS9: 7 | CT9: 8 | CU9: =(AI9+AM9+AT9+BA9+BH9+BH9+BO9+BV9+CC9+CJ9+CQ9)/10 -> 8.9 | CV9: =(AJ9+AN9+AU9+BB9+BI9+BI9+BP9+BW9+CD9+CK9+CR9)/10 -> 10.3 | CW9: =AVERAGE(CU9,CV9) -> 9.6 | CX9: =(AK9+AP9+AW9+BD9+BK9+BK9+BR9+BY9+CF9+CM9+CS9)/10 -> 9.5 | CY9: =(AL9+AQ9+AX9+BE9+BL9+BL9+BS9+BZ9+CG9+CN9+CT9)/10 -> 9.9 | CZ9: =AVERAGE(CX9,CY9) -> 9.7 | DA9: =_xlfn.STDEV.S(AI9,AM9,AT9,BA9,BH9,BO9,BV9,CC9,CJ9,CQ9) -> 0.65828059 | DB9: =_xlfn.STDEV.S(AJ9,AN9,AU9,BB9,BI9,BP9,BW9,CD9,CK9,CR9) -> 0.48304589 | DD9: =_xlfn.STDEV.S(AK9,AP9,AW9,BD9,BK9,BR9,BY9,CF9,CM9,CS9) -> 1.3540064 | DE9: =_xlfn.STDEV.S(AL9,AQ9,AX9,BE9,BL9,BS9,BZ9,CG9,CN9,CT9) -> 0.87559504 | DG9: =SLOPE(Sheet13!A9:J9,Sheet13!$A$2:$J$2) -> -0.058469475 | DH9: =SLOPE(Sheet13!L9:U9,Sheet13!$L$2:$U$2) -> -0.01920321 | DJ9: =SLOPE(Sheet13!W9:AF9,Sheet13!$W$2:$AF$2) -> -0.073086844 | DK9: =SLOPE(Sheet13!AH9:AQ9,Sheet13!$AH$2:$AQ$2) -> -0.089137289 | DM9: =INTERCEPT(Sheet13!A9:J9,Sheet13!$A$2:$J$2) -> 8.6788478 | DN9: =INTERCEPT(Sheet13!L9:U9,Sheet13!$L$2:$U$2) -> 9.4901118 | DO9: =INTERCEPT(Sheet13!W9:AF9,Sheet13!$W$2:$AF$2) -> 9.2235598 | DP9: =INTERCEPT(Sheet13!AH9:AQ9,Sheet13!$AH$2:$AQ$2) -> 9.7824592 | DQ9: =RSQ(Sheet13!A9:J9,Sheet13!$A$2:$J$2) -> 0.30584033 | DR9: =RSQ(Sheet13!L9:U9,Sheet13!$L$2:$U$2) -> 0.061267385 | DS9: =RSQ(Sheet13!W9:AF9,Sheet13!$W$2:$AF$2) -> 0.1129524 | DT9: =RSQ(Sheet13!AH9:AQ9,Sheet13!$AH$2:$AQ$2) -> 0.40176372 | DU9: =CORREL(Sheet13!A9:J9,Sheet13!$A$2:$J$2) -> -0.55302833 | DV9: =CORREL(Sheet13!L9:U9,Sheet13!$L$2:$U$2) -> -0.24752249 | DW9: =CORREL(Sheet13!W9:AF9,Sheet13!$W$2:$AF$2) -> -0.33608391 | DX9: =CORREL(Sheet13!AH9:AQ9,Sheet13!$AH$2:$AQ$2) -> -0.63384834 | EA9: 7.5 | EB9: 9 | EC9: =(EA9+EB9)/2 -> 8.25 | ED9: 7 | EE9: 9 | EF9: =(ED9+EE9)/2 -> 8 | EG9: =(EC9+EF9)/2 -> 8.125 | EH9: 7.5 | EI9: 9 | EJ9: =(EH9+EI9)/2 -> 8.25 | EK9: 7 | EL9: 8 | EM9: =(EK9+EL9)/2 -> 7.5 | EN9: =(EJ9+EM9)/2 -> 7.875 | EO9: =EN9-EG9 -> -0.25 | EP9: =(EA9-EH9)/EA9 -> 0 | EQ9: =EP9*100% -> 0 | ER9: =(EB9-EI9)/EB9 -> 0 | ES9: =ER9*100% -> 0 | ET9: =(ED9-EK9)/ED9 -> 0 | EU9: =ET9*100% -> 0 | EV9: =(EE9-EL9)/EE9 -> 0.11111111 | EW9: =EV9*100% -> 0.11111111
A10: 3 | B10: K0T2 | C10: 1 | D10: 10.17 | E10: 8.64 | G10: =((D10-E10)/D10) -> 0.15044248 | H10: =G10*100% -> 0.15044248 | I10: 0.428 | J10: 0.158 | K10: =(0.634*I10)+0.108 -> 0.379352 | L10: =(0.634*J10)+0.108 -> 0.208172 | M10: =_xlfn.STDEV.S($K$10,L10) -> 0.12104254 | N10: =L10-$K$10 -> -0.17118 | O10: =(L10+$K$10)/19 -> 0.030922316 | Q10: =L10-K10 -> -0.17118 | R10: =N10*100% -> -0.17118 | S10: 0.111 | T10: 0.11 | U10: =(0.414*S10)+0.004 -> 0.049954 | V10: =(0.414*T10)+0.004 -> 0.04954 | W10: =_xlfn.STDEV.S(U10,V10) -> 0.00029274221 | X10: =U10-V10 -> 0.000414 | Y10: =V10-U10 -> -0.000414 | Z10: =(V10+U10)/19 -> 0.0052365263 | AA10: =S10-T10/S10 -> -0.87999099 | AB10: =AA10*100% -> -0.87999099 | AC10: =$K$10/U10 -> 7.5940265 | AD10: =L10/V10 -> 4.2020993 | AE10: =U10-V10 -> 0.000414 | AG10: 7 | AH10: 9 | AI10: 7 | AJ10: 9 | AK10: 7 | AL10: 9 | AM10: 9 | AN10: 10 | AO10: =(AM10+AN10)/2 -> 9.5 | AP10: 10 | AQ10: 10 | AR10: =(AP10+AQ10)/2 -> 10 | AS10: =(AO10+AR10)/2 -> 9.75 | AT10: 9 | AU10: 9 | AV10: =(AT10+AU10)/2 -> 9 | AW10: 10 | AX10: 9 | AY10: =(AW10+AX10)/2 -> 9.5 | AZ10: =(AV10+AY10)/2 -> 9.25 | BA10: 9 | BB10: 9 | BC10: =(BA10+BB10)/2 -> 9 | BD10: 10 | BE10: 9 | BF10: =(BD10+BE10)/2 -> 9.5 | BG10: =(BC10+BF10)/2 -> 9.25 | BH10: 7.5 | BI10: 10 | BJ10: =(BH10+BI10)/2 -> 8.75 | BK10: 9 | BL10: 10 | BM10: =(BK10+BL10)/2 -> 9.5 | BN10: =(BJ10+BM10)/2 -> 9.125 | BO10: 7.5 | BP10: 10 | BQ10: =(BO10+BP10)/2 -> 8.75 | BR10: 9 | BS10: 10 | BT10: =(BR10+BS10)/2 -> 9.5 | BU10: =(BQ10+BT10)/2 -> 9.125 | BV10: 6 | BW10: 8 | BX10: =(BV10+BW10)/2 -> 7 | BY10: 5 | BZ10: 8 | CA10: =(BY10+BZ10)/2 -> 6.5 | CB10: =(BX10+CA10)/2 -> 6.75 | CC10: 6 | CD10: 8 | CE10: =(CC10+CD10)/2 -> 7 | CF10: 5 | CG10: 8 | CH10: =(CF10+CG10)/2 -> 6.5 | CI10: =(CE10+CH10)/2 -> 6.75 | CJ10: 6 | CK10: 8 | CL10: =(CJ10+CK10)/2 -> 7 | CM10: 5 | CN10: 8 | CO10: =(CM10+CN10)/2 -> 6.5 | CP10: =(CL10+CO10)/2 -> 6.75 | CQ10: 6 | CR10: 8 | CS10: 5 | CT10: 8 | CU10: =(AI10+AM10+AT10+BA10+BH10+BH10+BO10+BV10+CC10+CJ10+CQ10)/10 -> 8.05 | CV10: =(AJ10+AN10+AU10+BB10+BI10+BI10+BP10+BW10+CD10+CK10+CR10)/10 -> 9.9 | CW10: =AVERAGE(CU10,CV10) -> 8.975 | CX10: =(AK10+AP10+AW10+BD10+BK10+BK10+BR10+BY10+CF10+CM10+CS10)/10 -> 8.4 | CY10: =(AL10+AQ10+AX10+BE10+BL10+BL10+BS10+BZ10+CG10+CN10+CT10)/10 -> 9.9 | CZ10: =AVERAGE(CX10,CY10) -> 9.15 | DA10: =_xlfn.STDEV.S(AI10,AM10,AT10,BA10,BH10,BO10,BV10,CC10,CJ10,CQ10) -> 1.3165612 | DB10: =_xlfn.STDEV.S(AJ10,AN10,AU10,BB10,BI10,BP10,BW10,CD10,CK10,CR10) -> 0.87559504 | DD10: =_xlfn.STDEV.S(AK10,AP10,AW10,BD10,BK10,BR10,BY10,CF10,CM10,CS10) -> 2.321398 | DE10: =_xlfn.STDEV.S(AL10,AQ10,AX10,BE10,BL10,BS10,BZ10,CG10,CN10,CT10) -> 0.87559504 | DG10: =SLOPE(Sheet13!A10:J10,Sheet13!$A$2:$J$2) -> -0.1539123 | DH10: =SLOPE(Sheet13!L10:U10,Sheet13!$L$2:$U$2) -> -0.089137289 | DJ10: =SLOPE(Sheet13!W10:AF10,Sheet13!$W$2:$AF$2) -> -0.26511895 | DK10: =SLOPE(Sheet13!AH10:AQ10,Sheet13!$AH$2:$AQ$2) -> -0.089137289 | DM10: =INTERCEPT(Sheet13!A10:J10,Sheet13!$A$2:$J$2) -> 8.8237317 | DN10: =INTERCEPT(Sheet13!L10:U10,Sheet13!$L$2:$U$2) -> 9.7824592 | DO10: =INTERCEPT(Sheet13!W10:AF10,Sheet13!$W$2:$AF$2) -> 10.124678 | DP10: =INTERCEPT(Sheet13!AH10:AQ10,Sheet13!$AH$2:$AQ$2) -> 9.7824592 | DQ10: =RSQ(Sheet13!A10:J10,Sheet13!$A$2:$J$2) -> 0.52981348 | DR10: =RSQ(Sheet13!L10:U10,Sheet13!$L$2:$U$2) -> 0.40176372 | DS10: =RSQ(Sheet13!W10:AF10,Sheet13!$W$2:$AF$2) -> 0.50563923 | DT10: =RSQ(Sheet13!AH10:AQ10,Sheet13!$AH$2:$AQ$2) -> 0.40176372 | DU10: =CORREL(Sheet13!A10:J10,Sheet13!$A$2:$J$2) -> -0.72788288 | DV10: =CORREL(Sheet13!L10:U10,Sheet13!$L$2:$U$2) -> -0.63384834 | DW10: =CORREL(Sheet13!W10:AF10,Sheet13!$W$2:$AF$2) -> -0.71108314 | DX10: =CORREL(Sheet13!AH10:AQ10,Sheet13!$AH$2:$AQ$2) -> -0.63384834 | EA10: 7 | EB10: 9 | EC10: =(EA10+EB10)/2 -> 8 | ED10: 7 | EE10: 9 | EF10: =(ED10+EE10)/2 -> 8 | EG10: =(EC10+EF10)/2 -> 8 | EH10: 6 | EI10: 8 | EJ10: =(EH10+EI10)/2 -> 7 | EK10: 5 | EL10: 8 | EM10: =(EK10+EL10)/2 -> 6.5 | EN10: =(EJ10+EM10)/2 -> 6.75 | EO10: =EN10-EG10 -> -1.25 | EP10: =(EA10-EH10)/EA10 -> 0.14285714 | EQ10: =EP10*100% -> 0.14285714 | ER10: =(EB10-EI10)/EB10 -> 0.11111111 | ES10: =ER10*100% -> 0.11111111 | ET10: =(ED10-EK10)/ED10 -> 0.28571429 | EU10: =ET10*100% -> 0.28571429 | EV10: =(EE10-EL10)/EE10 -> 0.11111111 | EW10: =EV10*100% -> 0.11111111
C11: 2 | D11: 9.71 | E11: 8.85 | G11: =((D11-E11)/D11) -> 0.088568486 | H11: =G11*100% -> 0.088568486 | J11: 0.104 | L11: =(0.634*J11)+0.108 -> 0.173936 | M11: =_xlfn.STDEV.S($K$10,L11) -> 0.14525105 | N11: =L11-$K$10 -> -0.205416 | O11: =(L11+$K$10)/19 -> 0.029120421 | Q11: =L11-K10 -> -0.205416 | R11: =N11*100% -> -0.205416 | S11: 0.121 | T11: 0.13 | U11: =(0.414*S11)+0.004 -> 0.054094 | V11: =(0.414*T11)+0.004 -> 0.05782 | W11: =_xlfn.STDEV.S(U11,V11) -> 0.0026346799 | X11: =U11-V11 -> -0.003726 | Y11: =V11-U11 -> 0.003726 | Z11: =(V11+U11)/19 -> 0.0058902105 | AA11: =S11-T11/S11 -> -0.95338017 | AB11: =AA11*100% -> -0.95338017 | AC11: =$K$10/U11 -> 7.0128295 | AD11: =L11/V11 -> 3.0082324 | AE11: =U11-V11 -> -0.003726 | AG11: 7 | AH11: 9 | AI11: 7 | AJ11: 9 | AK11: 7 | AL11: 9 | AM11: 10 | AN11: 10 | AO11: =(AM11+AN11)/2 -> 10 | AP11: 10 | AQ11: 10 | AR11: =(AP11+AQ11)/2 -> 10 | AS11: =(AO11+AR11)/2 -> 10 | AT11: 10 | AU11: 9 | AV11: =(AT11+AU11)/2 -> 9.5 | AW11: 10 | AX11: 9 | AY11: =(AW11+AX11)/2 -> 9.5 | AZ11: =(AV11+AY11)/2 -> 9.5 | BA11: 10 | BB11: 9 | BC11: =(BA11+BB11)/2 -> 9.5 | BD11: 10 | BE11: 9 | BF11: =(BD11+BE11)/2 -> 9.5 | BG11: =(BC11+BF11)/2 -> 9.5 | BH11: 8.5 | BI11: 10 | BJ11: =(BH11+BI11)/2 -> 9.25 | BK11: 8.5 | BL11: 10 | BM11: =(BK11+BL11)/2 -> 9.25 | BN11: =(BJ11+BM11)/2 -> 9.25 | BO11: 8.5 | BP11: 10 | BQ11: =(BO11+BP11)/2 -> 9.25 | BR11: 8.5 | BS11: 10 | BT11: =(BR11+BS11)/2 -> 9.25 | BU11: =(BQ11+BT11)/2 -> 9.25 | BV11: 7.5 | BW11: 9 | BX11: =(BV11+BW11)/2 -> 8.25 | BY11: 7.5 | BZ11: 8.5 | CA11: =(BY11+BZ11)/2 -> 8 | CB11: =(BX11+CA11)/2 -> 8.125 | CC11: 5 | CD11: 9 | CE11: =(CC11+CD11)/2 -> 7 | CF11: 5.5 | CG11: 8.5 | CH11: =(CF11+CG11)/2 -> 7 | CI11: =(CE11+CH11)/2 -> 7 | CJ11: 5 | CK11: 9 | CL11: =(CJ11+CK11)/2 -> 7 | CM11: 5.5 | CN11: 8.5 | CO11: =(CM11+CN11)/2 -> 7 | CP11: =(CL11+CO11)/2 -> 7 | CQ11: 5 | CR11: 9 | CS11: 5.5 | CT11: 8.5 | CU11: =(AI11+AM11+AT11+BA11+BH11+BH11+BO11+BV11+CC11+CJ11+CQ11)/10 -> 8.5 | CV11: =(AJ11+AN11+AU11+BB11+BI11+BI11+BP11+BW11+CD11+CK11+CR11)/10 -> 10.3 | CW11: =AVERAGE(CU11,CV11) -> 9.4 | CX11: =(AK11+AP11+AW11+BD11+BK11+BK11+BR11+BY11+CF11+CM11+CS11)/10 -> 8.65 | CY11: =(AL11+AQ11+AX11+BE11+BL11+BL11+BS11+BZ11+CG11+CN11+CT11)/10 -> 10.1 | CZ11: =AVERAGE(CX11,CY11) -> 9.375 | DA11: =_xlfn.STDEV.S(AI11,AM11,AT11,BA11,BH11,BO11,BV11,CC11,CJ11,CQ11) -> 2.0956304 | DB11: =_xlfn.STDEV.S(AJ11,AN11,AU11,BB11,BI11,BP11,BW11,CD11,CK11,CR11) -> 0.48304589 | DD11: =_xlfn.STDEV.S(AK11,AP11,AW11,BD11,BK11,BR11,BY11,CF11,CM11,CS11) -> 1.8885621 | DE11: =_xlfn.STDEV.S(AL11,AQ11,AX11,BE11,BL11,BS11,BZ11,CG11,CN11,CT11) -> 0.65828059 | DG11: =SLOPE(Sheet13!A11:J11,Sheet13!$A$2:$J$2) -> -0.24319289 | DH11: =SLOPE(Sheet13!L11:U11,Sheet13!$L$2:$U$2) -> -0.01920321 | DJ11: =SLOPE(Sheet13!W11:AF11,Sheet13!$W$2:$AF$2) -> -0.21266839 | DK11: =SLOPE(Sheet13!AH11:AQ11,Sheet13!$AH$2:$AQ$2) -> -0.054170249 | DM11: =INTERCEPT(Sheet13!A11:J11,Sheet13!$A$2:$J$2) -> 10.05761 | DN11: =INTERCEPT(Sheet13!L11:U11,Sheet13!$L$2:$U$2) -> 9.4901118 | DO11: =INTERCEPT(Sheet13!W11:AF11,Sheet13!$W$2:$AF$2) -> 9.905417 | DP11: =INTERCEPT(Sheet13!AH11:AQ11,Sheet13!$AH$2:$AQ$2) -> 9.6362855 | DQ11: =RSQ(Sheet13!A11:J11,Sheet13!$A$2:$J$2) -> 0.52207253 | DR11: =RSQ(Sheet13!L11:U11,Sheet13!$L$2:$U$2) -> 0.061267385 | DS11: =RSQ(Sheet13!W11:AF11,Sheet13!$W$2:$AF$2) -> 0.49158861 | DT11: =RSQ(Sheet13!AH11:AQ11,Sheet13!$AH$2:$AQ$2) -> 0.26251736 | DU11: =CORREL(Sheet13!A11:J11,Sheet13!$A$2:$J$2) -> -0.72254587 | DV11: =CORREL(Sheet13!L11:U11,Sheet13!$L$2:$U$2) -> -0.24752249 | DW11: =CORREL(Sheet13!W11:AF11,Sheet13!$W$2:$AF$2) -> -0.7011338 | DX11: =CORREL(Sheet13!AH11:AQ11,Sheet13!$AH$2:$AQ$2) -> -0.51236448 | EA11: 7 | EB11: 9 | EC11: =(EA11+EB11)/2 -> 8 | ED11: 7 | EE11: 9 | EF11: =(ED11+EE11)/2 -> 8 | EG11: =(EC11+EF11)/2 -> 8 | EH11: 5 | EI11: 9 | EJ11: =(EH11+EI11)/2 -> 7 | EK11: 5.5 | EL11: 8.5 | EM11: =(EK11+EL11)/2 -> 7 | EN11: =(EJ11+EM11)/2 -> 7 | EO11: =EN11-EG11 -> -1 | EP11: =(EA11-EH11)/EA11 -> 0.28571429 | EQ11: =EP11*100% -> 0.28571429 | ER11: =(EB11-EI11)/EB11 -> 0 | ES11: =ER11*100% -> 0 | ET11: =(ED11-EK11)/ED11 -> 0.21428571 | EU11: =ET11*100% -> 0.21428571 | EV11: =(EE11-EL11)/EE11 -> 0.055555556 | EW11: =EV11*100% -> 0.055555556
C12: 3 | D12: 9.73 | E12: 8.63 | G12: =((D12-E12)/D12) -> 0.11305242 | H12: =G12*100% -> 0.11305242 | J12: 0.051 | L12: =(0.634*J12)+0.108 -> 0.140334 | M12: =_xlfn.STDEV.S($K$10,L12) -> 0.16901125 | N12: =L12-$K$10 -> -0.239018 | O12: =(L12+$K$10)/19 -> 0.027351895 | Q12: =L12-K10 -> -0.239018 | R12: =N12*100% -> -0.239018 | S12: 0.068 | T12: 0.103 | U12: =(0.414*S12)+0.004 -> 0.032152 | V12: =(0.414*T12)+0.004 -> 0.046642 | W12: =_xlfn.STDEV.S(U12,V12) -> 0.010245977 | X12: =U12-V12 -> -0.01449 | Y12: =V12-U12 -> 0.01449 | Z12: =(V12+U12)/19 -> 0.0041470526 | AA12: =S12-T12/S12 -> -1.4467059 | AB12: =AA12*100% -> -1.4467059 | AC12: =$K$10/U12 -> 11.798706 | AD12: =L12/V12 -> 3.0087475 | AE12: =U12-V12 -> -0.01449 | AG12: 7 | AH12: 9 | AI12: 7.5 | AJ12: 9 | AK12: 7.5 | AL12: 9 | AM12: 10 | AN12: 10 | AO12: =(AM12+AN12)/2 -> 10 | AP12: 10 | AQ12: 10 | AR12: =(AP12+AQ12)/2 -> 10 | AS12: =(AO12+AR12)/2 -> 10 | AT12: 10 | AU12: 9 | AV12: =(AT12+AU12)/2 -> 9.5 | AW12: 10 | AX12: 9 | AY12: =(AW12+AX12)/2 -> 9.5 | AZ12: =(AV12+AY12)/2 -> 9.5 | BA12: 10 | BB12: 9 | BC12: =(BA12+BB12)/2 -> 9.5 | BD12: 10 | BE12: 9 | BF12: =(BD12+BE12)/2 -> 9.5 | BG12: =(BC12+BF12)/2 -> 9.5 | BH12: 10 | BI12: 10 | BJ12: =(BH12+BI12)/2 -> 10 | BK12: 9 | BL12: 10 | BM12: =(BK12+BL12)/2 -> 9.5 | BN12: =(BJ12+BM12)/2 -> 9.75 | BO12: 10 | BP12: 10 | BQ12: =(BO12+BP12)/2 -> 10 | BR12: 9 | BS12: 10 | BT12: =(BR12+BS12)/2 -> 9.5 | BU12: =(BQ12+BT12)/2 -> 9.75 | BV12: 8 | BW12: 9 | BX12: =(BV12+BW12)/2 -> 8.5 | BY12: 7 | BZ12: 8.5 | CA12: =(BY12+BZ12)/2 -> 7.75 | CB12: =(BX12+CA12)/2 -> 8.125 | CC12: 5 | CD12: 9 | CE12: =(CC12+CD12)/2 -> 7 | CF12: 5 | CG12: 8.5 | CH12: =(CF12+CG12)/2 -> 6.75 | CI12: =(CE12+CH12)/2 -> 6.875 | CJ12: 5 | CK12: 9 | CL12: =(CJ12+CK12)/2 -> 7 | CM12: 5 | CN12: 8.5 | CO12: =(CM12+CN12)/2 -> 6.75 | CP12: =(CL12+CO12)/2 -> 6.875 | CQ12: 5 | CR12: 9 | CS12: 5 | CT12: 8.5 | CU12: =(AI12+AM12+AT12+BA12+BH12+BH12+BO12+BV12+CC12+CJ12+CQ12)/10 -> 9.05 | CV12: =(AJ12+AN12+AU12+BB12+BI12+BI12+BP12+BW12+CD12+CK12+CR12)/10 -> 10.3 | CW12: =AVERAGE(CU12,CV12) -> 9.675 | CX12: =(AK12+AP12+AW12+BD12+BK12+BK12+BR12+BY12+CF12+CM12+CS12)/10 -> 8.65 | CY12: =(AL12+AQ12+AX12+BE12+BL12+BL12+BS12+BZ12+CG12+CN12+CT12)/10 -> 10.1 | CZ12: =AVERAGE(CX12,CY12) -> 9.375 | DA12: =_xlfn.STDEV.S(AI12,AM12,AT12,BA12,BH12,BO12,BV12,CC12,CJ12,CQ12) -> 2.2906816 | DB12: =_xlfn.STDEV.S(AJ12,AN12,AU12,BB12,BI12,BP12,BW12,CD12,CK12,CR12) -> 0.48304589 | DD12: =_xlfn.STDEV.S(AK12,AP12,AW12,BD12,BK12,BR12,BY12,CF12,CM12,CS12) -> 2.1505813 | DE12: =_xlfn.STDEV.S(AL12,AQ12,AX12,BE12,BL12,BS12,BZ12,CG12,CN12,CT12) -> 0.65828059 | DG12: =SLOPE(Sheet13!A12:J12,Sheet13!$A$2:$J$2) -> -0.25207796 | DH12: =SLOPE(Sheet13!L12:U12,Sheet13!$L$2:$U$2) -> -0.01920321 | DJ12: =SLOPE(Sheet13!W12:AF12,Sheet13!$W$2:$AF$2) -> -0.26153626 | DK12: =SLOPE(Sheet13!AH12:AQ12,Sheet13!$AH$2:$AQ$2) -> -0.054170249 | DM12: =INTERCEPT(Sheet13!A12:J12,Sheet13!$A$2:$J$2) -> 10.545572 | DN12: =INTERCEPT(Sheet13!L12:U12,Sheet13!$L$2:$U$2) -> 9.4901118 | DO12: =INTERCEPT(Sheet13!W12:AF12,Sheet13!$W$2:$AF$2) -> 10.339209 | DP12: =INTERCEPT(Sheet13!AH12:AQ12,Sheet13!$AH$2:$AQ$2) -> 9.6362855 | DQ12: =RSQ(Sheet13!A12:J12,Sheet13!$A$2:$J$2) -> 0.46946017 | DR12: =RSQ(Sheet13!L12:U12,Sheet13!$L$2:$U$2) -> 0.061267385 | DS12: =RSQ(Sheet13!W12:AF12,Sheet13!$W$2:$AF$2) -> 0.57333774 | DT12: =RSQ(Sheet13!AH12:AQ12,Sheet13!$AH$2:$AQ$2) -> 0.26251736 | DU12: =CORREL(Sheet13!A12:J12,Sheet13!$A$2:$J$2) -> -0.68517164 | DV12: =CORREL(Sheet13!L12:U12,Sheet13!$L$2:$U$2) -> -0.24752249 | DW12: =CORREL(Sheet13!W12:AF12,Sheet13!$W$2:$AF$2) -> -0.75719069 | DX12: =CORREL(Sheet13!AH12:AQ12,Sheet13!$AH$2:$AQ$2) -> -0.51236448 | EA12: 7.5 | EB12: 9 | EC12: =(EA12+EB12)/2 -> 8.25 | ED12: 7.5 | EE12: 9 | EF12: =(ED12+EE12)/2 -> 8.25 | EG12: =(EC12+EF12)/2 -> 8.25 | EH12: 5 | EI12: 9 | EJ12: =(EH12+EI12)/2 -> 7 | EK12: 5 | EL12: 8.5 | EM12: =(EK12+EL12)/2 -> 6.75 | EN12: =(EJ12+EM12)/2 -> 6.875 | EO12: =EN12-EG12 -> -1.375 | EP12: =(EA12-EH12)/EA12 -> 0.33333333 | EQ12: =EP12*100% -> 0.33333333 | ER12: =(EB12-EI12)/EB12 -> 0 | ES12: =ER12*100% -> 0 | ET12: =(ED12-EK12)/ED12 -> 0.33333333 | EU12: =ET12*100% -> 0.33333333 | EV12: =(EE12-EL12)/EE12 -> 0.055555556 | EW12: =EV12*100% -> 0.055555556
A13: 4 | B13: K1T0 | C13: 1 | D13: 9.64 | E13: 8.73 | G13: =((D13-E13)/D13) -> 0.09439834 | H13: =G13*100% -> 0.09439834 | I13: 0.534 | J13: 0.293 | K13: =(0.634*I13)+0.108 -> 0.446556 | L13: =(0.634*J13)+0.108 -> 0.293762 | M13: =_xlfn.STDEV.S($K$13,L13) -> 0.10804167 | N13: =L13-$K$13 -> -0.152794 | O13: =(L13+$K$13)/19 -> 0.038964105 | Q13: =L13-K13 -> -0.152794 | R13: =N13*100% -> -0.152794 | S13: 0.09 | T13: 0.127 | U13: =(0.414*S13)+0.004 -> 0.04126 | V13: =(0.414*T13)+0.004 -> 0.056578 | W13: =_xlfn.STDEV.S(U13,V13) -> 0.010831462 | X13: =U13-V13 -> -0.015318 | Y13: =V13-U13 -> 0.015318 | Z13: =(V13+U13)/19 -> 0.0051493684 | AA13: =S13-T13/S13 -> -1.3211111 | AB13: =AA13*100% -> -1.3211111 | AC13: =$K$13/U13 -> 10.822976 | AD13: =L13/V13 -> 5.1921595 | AE13: =U13-V13 -> -0.015318 | AG13: 7 | AH13: 9 | AI13: 7 | AJ13: 9 | AK13: 7 | AL13: 9 | AM13: 6.5 | AN13: 9 | AO13: =(AM13+AN13)/2 -> 7.75 | AP13: 6.5 | AQ13: 9 | AR13: =(AP13+AQ13)/2 -> 7.75 | AS13: =(AO13+AR13)/2 -> 7.75 | AT13: 6.5 | AU13: 9 | AV13: =(AT13+AU13)/2 -> 7.75 | AW13: 6.5 | AX13: 9 | AY13: =(AW13+AX13)/2 -> 7.75 | AZ13: =(AV13+AY13)/2 -> 7.75 | BA13: 6.5 | BB13: 9 | BC13: =(BA13+BB13)/2 -> 7.75 | BD13: 6.5 | BE13: 9 | BF13: =(BD13+BE13)/2 -> 7.75 | BG13: =(BC13+BF13)/2 -> 7.75 | BH13: 6.5 | BI13: 8 | BJ13: =(BH13+BI13)/2 -> 7.25 | BK13: 6.5 | BL13: 7.5 | BM13: =(BK13+BL13)/2 -> 7 | BN13: =(BJ13+BM13)/2 -> 7.125 | BO13: 6.5 | BP13: 6.5 | BQ13: =(BO13+BP13)/2 -> 6.5 | BR13: 6.5 | BS13: 7 | BT13: =(BR13+BS13)/2 -> 6.75 | BU13: =(BQ13+BT13)/2 -> 6.625 | BV13: 6 | BW13: 6.5 | BX13: =(BV13+BW13)/2 -> 6.25 | BY13: 6 | BZ13: 6.5 | CA13: =(BY13+BZ13)/2 -> 6.25 | CB13: =(BX13+CA13)/2 -> 6.25 | CC13: 5 | CD13: 6.5 | CE13: =(CC13+CD13)/2 -> 5.75 | CF13: 5 | CG13: 6.5 | CH13: =(CF13+CG13)/2 -> 5.75 | CI13: =(CE13+CH13)/2 -> 5.75 | CJ13: 5 | CK13: 6.5 | CL13: =(CJ13+CK13)/2 -> 5.75 | CM13: 5 | CN13: 6.5 | CO13: =(CM13+CN13)/2 -> 5.75 | CP13: =(CL13+CO13)/2 -> 5.75 | CQ13: 5 | CR13: 6.5 | CS13: 5 | CT13: 6.5 | CU13: =(AI13+AM13+AT13+BA13+BH13+BH13+BO13+BV13+CC13+CJ13+CQ13)/10 -> 6.7 | CV13: =(AJ13+AN13+AU13+BB13+BI13+BI13+BP13+BW13+CD13+CK13+CR13)/10 -> 8.45 | CW13: =AVERAGE(CU13,CV13) -> 7.575 | CX13: =(AK13+AP13+AW13+BD13+BK13+BK13+BR13+BY13+CF13+CM13+CS13)/10 -> 6.7 | CY13: =(AL13+AQ13+AX13+BE13+BL13+BL13+BS13+BZ13+CG13+CN13+CT13)/10 -> 8.4 | CZ13: =AVERAGE(CX13,CY13) -> 7.55 | DA13: =_xlfn.STDEV.S(AI13,AM13,AT13,BA13,BH13,BO13,BV13,CC13,CJ13,CQ13) -> 0.76194196 | DB13: =_xlfn.STDEV.S(AJ13,AN13,AU13,BB13,BI13,BP13,BW13,CD13,CK13,CR13) -> 1.2483322 | DD13: =_xlfn.STDEV.S(AK13,AP13,AW13,BD13,BK13,BR13,BY13,CF13,CM13,CS13) -> 0.76194196 | DE13: =_xlfn.STDEV.S(AL13,AQ13,AX13,BE13,BL13,BS13,BZ13,CG13,CN13,CT13) -> 1.2030055 | DG13: =SLOPE(Sheet13!A13:J13,Sheet13!$A$2:$J$2) -> -0.1102035 | DH13: =SLOPE(Sheet13!L13:U13,Sheet13!$L$2:$U$2) -> -0.18013758 | DJ13: =SLOPE(Sheet13!W13:AF13,Sheet13!$W$2:$AF$2) -> -0.1102035 | DK13: =SLOPE(Sheet13!AH13:AQ13,Sheet13!$AH$2:$AQ$2) -> -0.17727142 | DM13: =INTERCEPT(Sheet13!A13:J13,Sheet13!$A$2:$J$2) -> 7.1410146 | DN13: =INTERCEPT(Sheet13!L13:U13,Sheet13!$L$2:$U$2) -> 9.433362 | DO13: =INTERCEPT(Sheet13!W13:AF13,Sheet13!$W$2:$AF$2) -> 7.1410146 | DP13: =INTERCEPT(Sheet13!AH13:AQ13,Sheet13!$AH$2:$AQ$2) -> 9.4049871 | DQ13: =RSQ(Sheet13!A13:J13,Sheet13!$A$2:$J$2) -> 0.81097119 | DR13: =RSQ(Sheet13!L13:U13,Sheet13!$L$2:$U$2) -> 0.80724753 | DS13: =RSQ(Sheet13!W13:AF13,Sheet13!$W$2:$AF$2) -> 0.81097119 | DT13: =RSQ(Sheet13!AH13:AQ13,Sheet13!$AH$2:$AQ$2) -> 0.84178408 | DU13: =CORREL(Sheet13!A13:J13,Sheet13!$A$2:$J$2) -> -0.90053939 | DV13: =CORREL(Sheet13!L13:U13,Sheet13!$L$2:$U$2) -> -0.89846955 | DW13: =CORREL(Sheet13!W13:AF13,Sheet13!$W$2:$AF$2) -> -0.90053939 | DX13: =CORREL(Sheet13!AH13:AQ13,Sheet13!$AH$2:$AQ$2) -> -0.91748792 | EA13: 7 | EB13: 9 | EC13: =(EA13+EB13)/2 -> 8 | ED13: 7 | EE13: 9 | EF13: =(ED13+EE13)/2 -> 8 | EG13: =(EC13+EF13)/2 -> 8 | EH13: 5 | EI13: 6.5 | EJ13: =(EH13+EI13)/2 -> 5.75 | EK13: 5 | EL13: 6.5 | EM13: =(EK13+EL13)/2 -> 5.75 | EN13: =(EJ13+EM13)/2 -> 5.75 | EO13: =EN13-EG13 -> -2.25 | EP13: =(EA13-EH13)/EA13 -> 0.28571429 | EQ13: =EP13*100% -> 0.28571429 | ER13: =(EB13-EI13)/EB13 -> 0.27777778 | ES13: =ER13*100% -> 0.27777778 | ET13: =(ED13-EK13)/ED13 -> 0.28571429 | EU13: =ET13*100% -> 0.28571429 | EV13: =(EE13-EL13)/EE13 -> 0.27777778 | EW13: =EV13*100% -> 0.27777778
C14: 2 | D14: 9.68 | E14: 8.63 | G14: =((D14-E14)/D14) -> 0.10847107 | H14: =G14*100% -> 0.10847107 | J14: 0.22 | L14: =(0.634*J14)+0.108 -> 0.24748 | M14: =_xlfn.STDEV.S($K$13,L14) -> 0.14076799 | N14: =L14-$K$13 -> -0.199076 | O14: =(L14+$K$13)/19 -> 0.036528211 | Q14: =L14-K13 -> -0.199076 | R14: =N14*100% -> -0.199076 | S14: 0.113 | T14: 0.077 | U14: =(0.414*S14)+0.004 -> 0.050782 | V14: =(0.414*T14)+0.004 -> 0.035878 | W14: =_xlfn.STDEV.S(U14,V14) -> 0.010538719 | X14: =U14-V14 -> 0.014904 | Y14: =V14-U14 -> -0.014904 | Z14: =(V14+U14)/19 -> 0.0045610526 | AA14: =S14-T14/S14 -> -0.56841593 | AB14: =AA14*100% -> -0.56841593 | AC14: =$K$13/U14 -> 8.7935883 | AD14: =L14/V14 -> 6.8978204 | AE14: =U14-V14 -> 0.014904 | AG14: 7 | AH14: 9 | AI14: 7 | AJ14: 9 | AK14: 7 | AL14: 9 | AM14: 6.5 | AN14: 9 | AO14: =(AM14+AN14)/2 -> 7.75 | AP14: 6.5 | AQ14: 9 | AR14: =(AP14+AQ14)/2 -> 7.75 | AS14: =(AO14+AR14)/2 -> 7.75 | AT14: 6.5 | AU14: 9 | AV14: =(AT14+AU14)/2 -> 7.75 | AW14: 6.5 | AX14: 9 | AY14: =(AW14+AX14)/2 -> 7.75 | AZ14: =(AV14+AY14)/2 -> 7.75 | BA14: 6.5 | BB14: 9 | BC14: =(BA14+BB14)/2 -> 7.75 | BD14: 6.5 | BE14: 9 | BF14: =(BD14+BE14)/2 -> 7.75 | BG14: =(BC14+BF14)/2 -> 7.75 | BH14: 6.5 | BI14: 7.5 | BJ14: =(BH14+BI14)/2 -> 7 | BK14: 6.5 | BL14: 8 | BM14: =(BK14+BL14)/2 -> 7.25 | BN14: =(BJ14+BM14)/2 -> 7.125 | BO14: 6 | BP14: 6.5 | BQ14: =(BO14+BP14)/2 -> 6.25 | BR14: 6.5 | BS14: 7 | BT14: =(BR14+BS14)/2 -> 6.75 | BU14: =(BQ14+BT14)/2 -> 6.5 | BV14: 6 | BW14: 6.5 | BX14: =(BV14+BW14)/2 -> 6.25 | BY14: 5 | BZ14: 6.5 | CA14: =(BY14+BZ14)/2 -> 5.75 | CB14: =(BX14+CA14)/2 -> 6 | CC14: 5 | CD14: 6.5 | CE14: =(CC14+CD14)/2 -> 5.75 | CF14: 5 | CG14: 6.5 | CH14: =(CF14+CG14)/2 -> 5.75 | CI14: =(CE14+CH14)/2 -> 5.75 | CJ14: 5 | CK14: 6.5 | CL14: =(CJ14+CK14)/2 -> 5.75 | CM14: 5 | CN14: 6.5 | CO14: =(CM14+CN14)/2 -> 5.75 | CP14: =(CL14+CO14)/2 -> 5.75 | CQ14: 5 | CR14: 6.5 | CS14: 5 | CT14: 6.5 | CU14: =(AI14+AM14+AT14+BA14+BH14+BH14+BO14+BV14+CC14+CJ14+CQ14)/10 -> 6.65 | CV14: =(AJ14+AN14+AU14+BB14+BI14+BI14+BP14+BW14+CD14+CK14+CR14)/10 -> 8.35 | CW14: =AVERAGE(CU14,CV14) -> 7.5 | CX14: =(AK14+AP14+AW14+BD14+BK14+BK14+BR14+BY14+CF14+CM14+CS14)/10 -> 6.6 | CY14: =(AL14+AQ14+AX14+BE14+BL14+BL14+BS14+BZ14+CG14+CN14+CT14)/10 -> 8.5 | CZ14: =AVERAGE(CX14,CY14) -> 7.55 | DA14: =_xlfn.STDEV.S(AI14,AM14,AT14,BA14,BH14,BO14,BV14,CC14,CJ14,CQ14) -> 0.74535599 | DB14: =_xlfn.STDEV.S(AJ14,AN14,AU14,BB14,BI14,BP14,BW14,CD14,CK14,CR14) -> 1.2427568 | DD14: =_xlfn.STDEV.S(AK14,AP14,AW14,BD14,BK14,BR14,BY14,CF14,CM14,CS14) -> 0.831665 | DE14: =_xlfn.STDEV.S(AL14,AQ14,AX14,BE14,BL14,BS14,BZ14,CG14,CN14,CT14) -> 1.2064641 | DG14: =SLOPE(Sheet13!A14:J14,Sheet13!$A$2:$J$2) -> -0.11177988 | DH14: =SLOPE(Sheet13!L14:U14,Sheet13!$L$2:$U$2) -> -0.17884781 | DJ14: =SLOPE(Sheet13!W14:AF14,Sheet13!$W$2:$AF$2) -> -0.11908856 | DK14: =SLOPE(Sheet13!AH14:AQ14,Sheet13!$AH$2:$AQ$2) -> -0.17856119 | DM14: =INTERCEPT(Sheet13!A14:J14,Sheet13!$A$2:$J$2) -> 7.1066208 | DN14: =INTERCEPT(Sheet13!L14:U14,Sheet13!$L$2:$U$2) -> 9.3705933 | DO14: =INTERCEPT(Sheet13!W14:AF14,Sheet13!$W$2:$AF$2) -> 7.1289768 | DP14: =INTERCEPT(Sheet13!AH14:AQ14,Sheet13!$AH$2:$AQ$2) -> 9.4677558 | DQ14: =RSQ(Sheet13!A14:J14,Sheet13!$A$2:$J$2) -> 0.87188306 | DR14: =RSQ(Sheet13!L14:U14,Sheet13!$L$2:$U$2) -> 0.80288512 | DS14: =RSQ(Sheet13!W14:AF14,Sheet13!$W$2:$AF$2) -> 0.7948803 | DT14: =RSQ(Sheet13!AH14:AQ14,Sheet13!$AH$2:$AQ$2) -> 0.84918796 | DU14: =CORREL(Sheet13!A14:J14,Sheet13!$A$2:$J$2) -> -0.93374679 | DV14: =CORREL(Sheet13!L14:U14,Sheet13!$L$2:$U$2) -> -0.89603857 | DW14: =CORREL(Sheet13!W14:AF14,Sheet13!$W$2:$AF$2) -> -0.8915606 | DX14: =CORREL(Sheet13!AH14:AQ14,Sheet13!$AH$2:$AQ$2) -> -0.92151395 | EA14: 7 | EB14: 9 | EC14: =(EA14+EB14)/2 -> 8 | ED14: 7 | EE14: 9 | EF14: =(ED14+EE14)/2 -> 8 | EG14: =(EC14+EF14)/2 -> 8 | EH14: 5 | EI14: 6.5 | EJ14: =(EH14+EI14)/2 -> 5.75 | EK14: 5 | EL14: 6.5 | EM14: =(EK14+EL14)/2 -> 5.75 | EN14: =(EJ14+EM14)/2 -> 5.75 | EO14: =EN14-EG14 -> -2.25 | EP14: =(EA14-EH14)/EA14 -> 0.28571429 | EQ14: =EP14*100% -> 0.28571429 | ER14: =(EB14-EI14)/EB14 -> 0.27777778 | ES14: =ER14*100% -> 0.27777778 | ET14: =(ED14-EK14)/ED14 -> 0.28571429 | EU14: =ET14*100% -> 0.28571429 | EV14: =(EE14-EL14)/EE14 -> 0.27777778 | EW14: =EV14*100% -> 0.27777778
