Workbook

Sheet Ch-exr of indole
B7: 1 | C7: kmol/hr | E7: ultanal | F7: real mass (kg/hr) | G7: BM | H7: mol flow (kmol/hr)
B8: c8h7n | D8: CARBON | E8: =F8/$F$15 -> 0.82051282 | F8: =G8*H8 -> 96 | G8: 12 | H8: 8
D9: HYDROGEN | E9: =F9/$F$15 -> 0.05982906 | F9: =G9*H9 -> 7 | G9: 1 | H9: 7
D10: NITROGEN | E10: =F10/$F$15 -> 0.11965812 | F10: =G10*H10 -> 14 | G10: 14 | H10: 1
D11: SULFUR | E11: =F11/$F$15 -> 0 | F11: =G11*H11 -> 0 | G11: 32 | H11: 0
D12: OXYGEN | E12: =F12/$F$15 -> 0 | F12: =G12*H12 -> 0 | G12: 16 | H12: 0
D13: ASH | E13: =F13/$F$15 -> 0 | F13: =G13*H13 -> 0 | G13: 12 | H13: 0
E15: =SUM(E8:E13) -> 1 | F15: =SUM(F8:F13) -> 117 | H15: =SUM(H8:H13) -> 16
D17: BM biomass
D18: LHV | E18: 4235 | F18: kJ/mol
D19: beta | E19: =(1.0414+0.0177*E9/E8-0.3328*E12/E8*(1+0.0537*E9/E8))/(1-0.4021*E12/E8) -> 1.0426906
D21: chem ex | E21: =E18*(1.0401+0.1728*E9/E8+0.0432*E12/E8) -> 4458.1845 | F21: kJ/mol | H21: =E18*(1.0401+0.1728*E9/E8+0.0432*E12/E8) -> 4458.1845

Sheet Ch-exr of biomass
E14: ultanal | F14: real mass (kg/hr) | G14: BM | H14: mol flow (kmol/hr) | I14: mol frac (%) | J14: Bm. Mol/frac | M14: kg/s | N14: kmol/s
D15: CARBON | E15: 0.464 | F15: =$E$28*E15 -> 4640 | G15: 12 | H15: =F15/G15 -> 386.66667 | I15: =H15/$H$22 -> 0.29396325 | J15: =G15*I15 -> 3.5275591 | M15: =F15/3600 -> 1.2888889 | N15: =H15/3600 -> 0.10740741
D16: HYDROGEN | E16: 0.061 | F16: =$E$28*E16 -> 610 | G16: 1 | H16: =F16/G16 -> 610 | I16: =H16/$H$22 -> 0.46375238 | J16: =G16*I16 -> 0.46375238
D17: NITROGEN | E17: 0.102 | F17: =$E$28*E17 -> 1020 | G17: 14 | H17: =F17/G17 -> 72.857143 | I17: =H17/$H$22 -> 0.055389628 | J17: =G17*I17 -> 0.77545479
D18: SULFUR | E18: 0.006 | F18: =$E$28*E18 -> 60 | G18: 32 | H18: =F18/G18 -> 1.875 | I18: =H18/$H$22 -> 0.0014254684 | J18: =G18*I18 -> 0.045614988
D19: OXYGEN | E19: 0.297 | F19: =$E$28*E19 -> 2970 | G19: 16 | H19: =F19/G19 -> 185.625 | I19: =H19/$H$22 -> 0.14112137 | J19: =G19*I19 -> 2.2579419
D20: ASH | E20: 0.07 | F20: =$E$28*E20 -> 700 | G20: 12 | H20: =F20/G20 -> 58.333333 | I20: =H20/$H$22 -> 0.044347905 | J20: =G20*I20 -> 0.53217486
E22: =SUM(E15:E20) -> 1 | F22: =SUM(F15:F20) -> 10000 | H22: =SUM(H15:H20) -> 1315.3571 | I22: =SUM(I15:I20) -> 1 | J22: =SUM(J15:J20) -> 7.602498
I23: =H22 -> 1315.3571 | J23: kmol/hr
D24: BM biomass | I24: =I23/(60*60) -> 0.36537698 | J24: kmol/s
I25: =I24*1000 -> 365.37698 | J25: mol/s
I26: =I25*3600 -> 1315357.1 | J26: mol/hr
D28: m | E28: 10000 | F28: kg/hr | I28: =E28/I23 -> 7.602498
D29: LHV | E29: 20600 | F29: kJ/kg
D30: beta | E30: =(1.0414+0.0177*E16/E15-0.3328*E19/E15*(1+0.0537*E16/E15))/(1-0.4021*E19/E15) -> 1.1165884
D32: chem-ex | E32: =E28*E29*E30 -> 2.3001722e+08 | F32: kJ/hr
E33: =E32/I26 -> 174.87054 | F33: kJ/mol
E34: =E32/3600 -> 63893.671 | F34: kJ/s

Sheet exergy steam
A1: Row/Case | B1: Status | F1: Reactant | I1: Product
C2: STEAM | F2: FLOSTEM | G2: FLOO2AIR | H2: FLON2AIR | I2: FLOLIQ | J2: FLOH2OG | K2: FLON2G | L2: FLOO2G | M2: FLOH2G | N2: FLOCOG | O2: FLOCO2G | P2: FLOCH4G
C3: KG/SEC | F3: KMOL/SEC | G3: KMOL/SEC | H3: KMOL/SEC | I3: KMOL/SEC | J3: KMOL/SEC | K3: KMOL/SEC | L3: KMOL/SEC | M3: KMOL/SEC | N3: KMOL/SEC | O3: KMOL/SEC | P3: KMOL/SEC
A4: 1 | B4: OK | C4: ='ASPEN Ex steam'!B7 -> 0 | F4: ='ASPEN Ex steam'!C7 -> 0 | G4: ='ASPEN Ex steam'!D7 -> 2.0219248e-07 | H4: ='ASPEN Ex steam'!E7 -> 7.6062885e-07 | I4: ='ASPEN Ex steam'!F7 -> 0.0017594841 | J4: ='ASPEN Ex steam'!H7 -> 0 | K4: ='ASPEN Ex steam'!I7 -> 0.0080452936 | L4: ='ASPEN Ex steam'!J7 -> 0 | M4: ='ASPEN Ex steam'!K7 -> 0.038924473 | N4: ='ASPEN Ex steam'!L7 -> 0.052295842 | O4: ='ASPEN Ex steam'!M7 -> 5.0088652e-08 | P4: ='ASPEN Ex steam'!N7 -> 0.022372421
A5: 2 | B5: Warnings | C5: ='ASPEN Ex steam'!B8 -> 0.114 | F5: ='ASPEN Ex steam'!C8 -> 0.0063279616 | G5: ='ASPEN Ex steam'!D8 -> 2.0219248e-07 | H5: ='ASPEN Ex steam'!E8 -> 7.6062885e-07 | I5: ='ASPEN Ex steam'!F8 -> 0.00042998628 | J5: ='ASPEN Ex steam'!H8 -> 0 | K5: ='ASPEN Ex steam'!I8 -> 0.0087100425 | L5: ='ASPEN Ex steam'!J8 -> 0 | M5: ='ASPEN Ex steam'!K8 -> 0.041288797 | N5: ='ASPEN Ex steam'!L8 -> 0.058623795 | O5: ='ASPEN Ex steam'!M8 -> 1.0610248e-07 | P5: ='ASPEN Ex steam'!N8 -> 0.026681017
A6: 3 | B6: Warnings | C6: ='ASPEN Ex steam'!B9 -> 0.228 | F6: ='ASPEN Ex steam'!C9 -> 0.012655923 | G6: ='ASPEN Ex steam'!D9 -> 2.0219248e-07 | H6: ='ASPEN Ex steam'!E9 -> 7.6062885e-07 | I6: ='ASPEN Ex steam'!F9 -> 2.9096914e-08 | J6: ='ASPEN Ex steam'!H9 -> 0 | K6: ='ASPEN Ex steam'!I9 -> 0.0089250211 | L6: ='ASPEN Ex steam'!J9 -> 0 | M6: ='ASPEN Ex steam'!K9 -> 0.054895299 | N6: ='ASPEN Ex steam'!L9 -> 0.064949844 | O6: ='ASPEN Ex steam'!M9 -> 1.1251422e-06 | P6: ='ASPEN Ex steam'!N9 -> 0.02379436
A7: 4 | B7: Warnings | C7: ='ASPEN Ex steam'!B10 -> 0.342 | F7: ='ASPEN Ex steam'!C10 -> 0.018983885 | G7: ='ASPEN Ex steam'!D10 -> 2.0219248e-07 | H7: ='ASPEN Ex steam'!E10 -> 7.6062885e-07 | I7: ='ASPEN Ex steam'!F10 -> 2.0701344e-14 | J7: ='ASPEN Ex steam'!H10 -> 0 | K7: ='ASPEN Ex steam'!I10 -> 0.0089250357 | L7: ='ASPEN Ex steam'!J10 -> 0 | M7: ='ASPEN Ex steam'!K10 -> 0.073811778 | N7: ='ASPEN Ex steam'!L10 -> 0.071210769 | O7: ='ASPEN Ex steam'!M10 -> 3.4643824e-05 | P7: ='ASPEN Ex steam'!N10 -> 0.017500154
A8: 5 | B8: Warnings | C8: ='ASPEN Ex steam'!B11 -> 0.456 | F8: ='ASPEN Ex steam'!C11 -> 0.025311846 | G8: ='ASPEN Ex steam'!D11 -> 2.0219248e-07 | H8: ='ASPEN Ex steam'!E11 -> 7.6062885e-07 | I8: ='ASPEN Ex steam'!F11 -> 0 | J8: ='ASPEN Ex steam'!H11 -> 0 | K8: ='ASPEN Ex steam'!I11 -> 0.0089250357 | L8: ='ASPEN Ex steam'!J11 -> 0 | M8: ='ASPEN Ex steam'!K11 -> 0.090640638 | N8: ='ASPEN Ex steam'!L11 -> 0.075383705 | O8: ='ASPEN Ex steam'!M11 -> 0.0011121565 | P8: ='ASPEN Ex steam'!N11 -> 0.012249705
A9: 6 | B9: Warnings | C9: ='ASPEN Ex steam'!B12 -> 0.57 | F9: ='ASPEN Ex steam'!C12 -> 0.031639808 | G9: ='ASPEN Ex steam'!D12 -> 2.0219248e-07 | H9: ='ASPEN Ex steam'!E12 -> 7.6062885e-07 | I9: ='ASPEN Ex steam'!F12 -> 0 | J9: ='ASPEN Ex steam'!H12 -> 0 | K9: ='ASPEN Ex steam'!I12 -> 0.0089250357 | L9: ='ASPEN Ex steam'!J12 -> 0 | M9: ='ASPEN Ex steam'!K12 -> 0.10066352 | N9: ='ASPEN Ex steam'!L12 -> 0.07275066 | O9: ='ASPEN Ex steam'!M12 -> 0.0055926597 | P9: ='ASPEN Ex steam'!N12 -> 0.010402246
A10: 7 | B10: Warnings | C10: ='ASPEN Ex steam'!B13 -> 0.684 | F10: ='ASPEN Ex steam'!C13 -> 0.03796777 | G10: ='ASPEN Ex steam'!D13 -> 2.0219248e-07 | H10: ='ASPEN Ex steam'!E13 -> 7.6062885e-07 | I10: ='ASPEN Ex steam'!F13 -> 0 | J10: ='ASPEN Ex steam'!H13 -> 0 | K10: ='ASPEN Ex steam'!I13 -> 0.0089250357 | L10: ='ASPEN Ex steam'!J13 -> 0 | M10: ='ASPEN Ex steam'!K13 -> 0.10806397 | N10: ='ASPEN Ex steam'!L13 -> 0.067495188 | O10: ='ASPEN Ex steam'!M13 -> 0.011384377 | P10: ='ASPEN Ex steam'!N13 -> 0.0098660016 | BB10: [kJ/mol]
A11: 8 | B11: Warnings | C11: ='ASPEN Ex steam'!B14 -> 0.798 | F11: ='ASPEN Ex steam'!C14 -> 0.044295731 | G11: ='ASPEN Ex steam'!D14 -> 2.0219248e-07 | H11: ='ASPEN Ex steam'!E14 -> 7.6062885e-07 | I11: ='ASPEN Ex steam'!F14 -> 0 | J11: ='ASPEN Ex steam'!H14 -> 0 | K11: ='ASPEN Ex steam'!I14 -> 0.0089250357 | L11: ='ASPEN Ex steam'!J14 -> 0 | M11: ='ASPEN Ex steam'!K14 -> 0.1147674 | N11: ='ASPEN Ex steam'!L14 -> 0.0615427 | O11: ='ASPEN Ex steam'!M14 -> 0.017524602 | P11: ='ASPEN Ex steam'!N14 -> 0.009678265 | BB11: -H2O | BC11: -O2 | BD11: -N2 | BE11: -Indole | BF11: -H2O | BG11: -N2 | BH11: -O2 | BI11: -H2 | BJ11: -CO | BK11: -CO2 | BL11: -CH4
A12: 9 | B12: Warnings | C12: ='ASPEN Ex steam'!B15 -> 0.912 | F12: ='ASPEN Ex steam'!C15 -> 0.050623693 | G12: ='ASPEN Ex steam'!D15 -> 2.0219248e-07 | H12: ='ASPEN Ex steam'!E15 -> 7.6062885e-07 | I12: ='ASPEN Ex steam'!F15 -> 0 | J12: ='ASPEN Ex steam'!H15 -> 0 | K12: ='ASPEN Ex steam'!I15 -> 0.0089250357 | L12: ='ASPEN Ex steam'!J15 -> 0 | M12: ='ASPEN Ex steam'!K15 -> 0.1212169 | N12: ='ASPEN Ex steam'!L15 -> 0.055336272 | O12: ='ASPEN Ex steam'!M15 -> 0.023791796 | P12: ='ASPEN Ex steam'!N15 -> 0.009617498 | BB12: 11.39 | BC12: 3.97 | BD12: 0.72 | BE12: ='Ch-exr of indole'!E21 -> 4458.1845 | BF12: 11.39 | BG12: 0.72 | BH12: 3.97 | BI12: 236.1 | BJ12: 275.01 | BK12: 19.81 | BL12: 831.65
A13: 10 | B13: Warnings | C13: ='ASPEN Ex steam'!B16 -> 1.026 | F13: ='ASPEN Ex steam'!C16 -> 0.056951654 | G13: ='ASPEN Ex steam'!D16 -> 2.0219248e-07 | H13: ='ASPEN Ex steam'!E16 -> 7.6062885e-07 | I13: ='ASPEN Ex steam'!F16 -> 0 | J13: ='ASPEN Ex steam'!H16 -> 0 | K13: ='ASPEN Ex steam'!I16 -> 0.0089250357 | L13: ='ASPEN Ex steam'!J16 -> 0 | M13: ='ASPEN Ex steam'!K16 -> 0.12757393 | N13: ='ASPEN Ex steam'!L16 -> 0.049037383 | O13: ='ASPEN Ex steam'!M16 -> 0.030105222 | P13: ='ASPEN Ex steam'!N16 -> 0.0096029618 | BN13: [kJ/mol] | CY13: dikali flow (*1000)
A14: 11 | B14: Warnings | C14: ='ASPEN Ex steam'!B17 -> 1.14 | F14: ='ASPEN Ex steam'!C17 -> 0.063279616 | G14: ='ASPEN Ex steam'!D17 -> 2.0219248e-07 | H14: ='ASPEN Ex steam'!E17 -> 7.6062885e-07 | I14: ='ASPEN Ex steam'!F17 -> 0 | J14: ='ASPEN Ex steam'!H17 -> 0 | K14: ='ASPEN Ex steam'!I17 -> 0.0089250357 | L14: ='ASPEN Ex steam'!J17 -> 0 | M14: ='ASPEN Ex steam'!K17 -> 0.13392155 | N14: ='ASPEN Ex steam'!L17 -> 0.042729073 | O14: ='ASPEN Ex steam'!M17 -> 0.036423357 | P14: ='ASPEN Ex steam'!N17 -> 0.0095931359 | BB14: (yi.exi) | BN14: sigma(yi.exi) | BS14: (yi(ln(yi)) | CE14: sigma (yi(ln(yi)) | CJ14: R | CK14: T0 | CM14: Che ex= sigma (yi.exi)+R.T0.sigma(yi(ln(yi)) | CT14: total ex= physical+chemical | CY14: total ex= physical+chemical | DD14: exergy of biomass
R15: H | W15: H0 | AB15: T0 | AD15: S | AI15: S0 | AP15: Ph Ex = (H - H0) - T0 (S-S0) | AU15: Ph Ex = (H - H0) - T0 (S-S0) | BB15: steam | BC15: air | BE15: Liquid | BF15: Gas | BN15: steam | BO15: air | BP15: liquid | BQ15: gas | BS15: steam | BT15: air | BV15: Liquid | BW15: Gas | CE15: steam | CF15: air | CG15: liquid | CH15: gas | CJ15: [kJ/K.mol] | CK15: K | CM15: steam | CN15: air | CO15: liquid | CP15: gas | CT15: kJ/mol | CY15: kJ/s | DD15: kJ/s
F16: FLOSTEM | G16: FLOO2AIR | H16: FLON2AIR | I16: FLOLIQ | J16: FLOH2OG | K16: FLON2G | L16: FLOO2G | M16: FLOH2G | N16: FLOCOG | O16: FLOCO2G | P16: FLOCH4G | R16: ENTLSTAM | S16: ENTLAIR | T16: ENTLLIQ | U16: ENTLGAS | W16: ENTLSTMC | X16: ENTLAIRC | Y16: ENTLLIQC | Z16: ENTLGASC | AD16: ENTRSTAM | AE16: ENTRAIR | AF16: ENTRLIQ | AG16: ENTRGAS | AI16: ENTRSTMC | AJ16: ENTRAIRC | AK16: ENTRLIQC | AL16: ENTRGASC | AP16: J/kmol | AU16: kJ/mol | BB16: -H2O | BC16: O2 | BD16: N2 | BE16: Indole | BF16: H2O | BG16: N2 | BH16: O2 | BI16: H2 | BJ16: CO | BK16: CO2 | BL16: CH4 | CT16: steam | CU16: air | CV16: liquid | CW16: gas | CY16: steam | CZ16: air | DA16: Liquid | DB16: Gas
R17: J/KMOL | S17: J/KMOL | T17: J/KMOL | U17: J/KMOL | W17: J/KMOL | X17: J/KMOL | Y17: J/KMOL | Z17: J/KMOL | AB17: K | AD17: J/KMOL-K | AE17: J/KMOL-K | AF17: J/KMOL-K | AG17: J/KMOL-K | AI17: J/KMOL-K | AJ17: J/KMOL-K | AK17: J/KMOL-K | AL17: J/KMOL-K | AP17: steam | AQ17: air | AR17: liquid | AS17: gas | AU17: steam | AV17: air | AW17: liquid | AX17: gas | DF17: S/C | DH17: efficiency (%) | DI17: Physical efficiency (%) | DJ17: Chemical efficiency (%)
F18: 0 | G18: =G4/(G4+H4) -> 0.21 | H18: =H4/(G4+H4) -> 0.79 | I18: =I4/I4 -> 1 | J18: =J4/($J$4+$K$4+$L$4+$M$4+$N$4+$O$4+$P$4) -> 0 | K18: =K4/($J$4+$K$4+$L$4+$M$4+$N$4+$O$4+$P$4) -> 0.066141241 | L18: =L4/($J$4+$K$4+$L$4+$M$4+$N$4+$O$4+$P$4) -> 0 | M18: =M4/($J$4+$K$4+$L$4+$M$4+$N$4+$O$4+$P$4) -> 0.32000236 | N18: =N4/($J$4+$K$4+$L$4+$M$4+$N$4+$O$4+$P$4) -> 0.42992985 | O18: =O4/($J$4+$K$4+$L$4+$M$4+$N$4+$O$4+$P$4) -> 4.117843e-07 | P18: =P4/($J$4+$K$4+$L$4+$M$4+$N$4+$O$4+$P$4) -> 0.18392613 | R18: ='ASPEN Ex steam'!Y7 -> 0 | S18: ='ASPEN Ex steam'!O7 -> -12532.791 | T18: ='ASPEN Ex steam'!P7 -> 451147249 | U18: ='ASPEN Ex steam'!Q7 -> -18443301 | W18: ='ASPEN Ex steam'!AA7 -> 0 | X18: =S18 -> -12532.791 | Y18: ='ASPEN Ex steam'!R7 -> 95447534 | Z18: ='ASPEN Ex steam'!S7 -> -61236364 | AB18: 298 | AD18: ='ASPEN Ex steam'!Z7 -> 0 | AE18: ='ASPEN Ex steam'!T7 -> 4233.3924 | AF18: ='ASPEN Ex steam'!U7 -> 93584.824 | AG18: ='ASPEN Ex steam'!V7 -> 89841.603 | AI18: ='ASPEN Ex steam'!AB7 -> 0 | AJ18: =AE18 -> 4233.3924 | AK18: ='ASPEN Ex steam'!W7 -> -393625.54 | AL18: ='ASPEN Ex steam'!X7 -> 33661.849 | AP18: =(R18-W18)-AB18*(AD18-AI18) -> 0 | AQ18: =(S18-X18)-AB18*(AE18-AJ18) -> 0 | AR18: =(T18-Y18)-AB18*(AF18-AK18) -> 2.1051103e+08 | AS18: =(U18-Z18)-AB18*(AG18-AL18) -> 26051496 | AU18: =AP18/1000000 -> 0 | AV18: =AQ18/1000000 -> 0 | AW18: =AR18/1000000 -> 210.51103 | AX18: =AS18/1000000 -> 26.051496 | BB18: =F18*$BB$12 -> 0 | BC18: =G18*$BC$12 -> 0.8337 | BD18: =H18*$BD$12 -> 0.5688 | BE18: =I18*$BE$12 -> 4458.1845 | BF18: =J18*$BF$12 -> 0 | BG18: =K18*$BG$12 -> 0.047621694 | BH18: =L18*$BH$12 -> 0 | BI18: =M18*$BI$12 -> 75.552558 | BJ18: =N18*$BJ$12 -> 118.23501 | BK18: =O18*$BK$12 -> 8.157447e-06 | BL18: =P18*$BL$12 -> 152.96217 | BN18: =BB18 -> 0 | BO18: =BC18+BD18 -> 1.4025 | BP18: =BE18 -> 4458.1845 | BQ18: =SUM(BF18:BL18) -> 346.79736 | BT18: =G18*LN(G18) -> -0.32773603 | BU18: =H18*LN(H18) -> -0.18622064 | BV18: =I18*LN(I18) -> 0 | BX18: =K18*LN(K18) -> -0.17963715 | BZ18: =M18*LN(M18) -> -0.3646193 | CA18: =N18*LN(N18) -> -0.36291807 | CB18: =O18*LN(O18) -> -6.0543683e-06 | CC18: =P18*LN(P18) -> -0.3114276 | CE18: =BS18 -> 0 | CF18: =BT18+BU18 -> -0.51395667 | CG18: =BV18 -> 0 | CH18: =SUM(BW18:CC18) -> -1.2186082 | CJ18: =8.3144/1000 -> 0.0083144 | CK18: 298.15 | CM18: =BN18+CJ18*CK18*CE18 -> 0 | CN18: =BO18+CJ18*CK18*CF18 -> 0.12843309 | CO18: =BP18+CJ18*CK18*CG18 -> 4458.1845 | CP18: =BQ18+CJ18*CK18*CH18 -> 343.77651 | CT18: =AU18+CM18 -> 0 | CU18: =AV18+CN18 -> 0.12843309 | CV18: =AW18+CO18 -> 4668.6955 | CW18: =AX18+CP18 -> 369.82801 | CY18: =CT18*F4*1000 -> 0 | CZ18: =CU18*(G4+H4)*1000 -> 0.00012365812 | DA18: =CV18*I4*1000 -> 8214.4954 | DB18: =CW18*SUM(J4:P4)*1000 -> 44985.168 | DD18: ='Ch-exr of biomass'!$E$34 -> 63893.671 | DF18: 0 | DH18: =(DB18+DA18)/(CY18+CZ18+DD18) -> 0.83262807 | DI18: =(CV33+CW33)/(CT33+CU33+DD18) -> 0.055392728 | DJ18: =(DB33+DA33)/(CZ33+CY33+DD18) -> 0.77723534
F19: =F5/F5 -> 1 | G19: =G5/(G5+H5) -> 0.21 | H19: =H5/(G5+H5) -> 0.79 | I19: =I5/I5 -> 1 | J19: =J5/($J$5+$K$5+$L$5+$M$5+$N$5+$O$5+$P$5) -> 0 | K19: =K5/($J$5+$K$5+$L$5+$M$5+$N$5+$O$5+$P$5) -> 0.064373988 | L19: =L5/($J$5+$K$5+$L$5+$M$5+$N$5+$O$5+$P$5) -> 0 | M19: =M5/($J$5+$K$5+$L$5+$M$5+$N$5+$O$5+$P$5) -> 0.30515632 | N19: =N5/($J$5+$K$5+$L$5+$M$5+$N$5+$O$5+$P$5) -> 0.43327544 | O19: =O5/($J$5+$K$5+$L$5+$M$5+$N$5+$O$5+$P$5) -> 7.8417982e-07 | P19: =P5/($J$5+$K$5+$L$5+$M$5+$N$5+$O$5+$P$5) -> 0.19719347 | R19: ='ASPEN Ex steam'!Y8 -> -281599973 | S19: ='ASPEN Ex steam'!O8 -> -12532.791 | T19: ='ASPEN Ex steam'!P8 -> 434886477 | U19: ='ASPEN Ex steam'!Q8 -> -21476120 | W19: ='ASPEN Ex steam'!AA8 -> -287753612 | X19: =S19 -> -12532.791 | Y19: ='ASPEN Ex steam'!R8 -> 95407475 | Z19: ='ASPEN Ex steam'!S8 -> -62595267 | AB19: 298 | AD19: ='ASPEN Ex steam'!Z8 -> -149605.67 | AE19: ='ASPEN Ex steam'!T8 -> 4233.3924 | AF19: ='ASPEN Ex steam'!U8 -> 82134.157 | AG19: ='ASPEN Ex steam'!V8 -> 88125.188 | AI19: -168014.84 | AJ19: =AE19 -> 4233.3924 | AK19: ='ASPEN Ex steam'!W8 -> -393604.74 | AL19: ='ASPEN Ex steam'!X8 -> 32913.245 | AP19: =(R19-W19)-AB19*(AD19-AI19) -> 667704.55 | AQ19: =(S19-X19)-AB19*(AE19-AJ19) -> 0 | AR19: =(T19-Y19)-AB19*(AF19-AK19) -> 1.9770881e+08 | AS19: =(U19-Z19)-AB19*(AG19-AL19) -> 24665988 | AU19: =AP19/1000000 -> 0.66770455 | AV19: =AQ19/1000000 -> 0 | AW19: =AR19/1000000 -> 197.70881 | AX19: =AS19/1000000 -> 24.665988 | BB19: =F19*$BB$12 -> 11.39 | BC19: =G19*$BC$12 -> 0.8337 | BD19: =H19*$BD$12 -> 0.5688 | BE19: =I19*$BE$12 -> 4458.1845 | BF19: =J19*$BF$12 -> 0 | BG19: =K19*$BG$12 -> 0.046349271 | BH19: =L19*$BH$12 -> 0 | BI19: =M19*$BI$12 -> 72.047408 | BJ19: =N19*$BJ$12 -> 119.15508 | BK19: =O19*$BK$12 -> 1.5534602e-05 | BL19: =P19*$BL$12 -> 163.99595 | BN19: =BB19 -> 11.39 | BO19: =BC19+BD19 -> 1.4025 | BP19: =BE19 -> 4458.1845 | BQ19: =SUM(BF19:BL19) -> 355.2448 | BS19: =F19*LN(F19) -> 0 | BT19: =G19*LN(G19) -> -0.32773603 | BU19: =H19*LN(H19) -> -0.18622064 | BX19: =K19*LN(K19) -> -0.17658079 | BZ19: =M19*LN(M19) -> -0.36219953 | CA19: =N19*LN(N19) -> -0.36238362 | CB19: =O19*LN(O19) -> -1.1024492e-05 | CC19: =P19*LN(P19) -> -0.32015739 | CE19: =BS19 -> 0 | CF19: =BT19+BU19 -> -0.51395667 | CG19: =BV19 -> 0 | CH19: =SUM(BW19:CC19) -> -1.2213324 | CJ19: =8.3144/1000 -> 0.0083144 | CK19: 298.15 | CM19: =BN19+CJ19*CK19*CE19 -> 11.39 | CN19: =BO19+CJ19*CK19*CF19 -> 0.12843309 | CO19: =BP19+CJ19*CK19*CG19 -> 4458.1845 | CP19: =BQ19+CJ19*CK19*CH19 -> 352.21719 | CT19: =AU19+CM19 -> 12.057705 | CU19: =AV19+CN19 -> 0.12843309 | CV19: =AW19+CO19 -> 4655.8933 | CW19: =AX19+CP19 -> 376.88318 | CY19: =CT19*F5*1000 -> 76.300691 | CZ19: =CU19*(G5+H5)*1000 -> 0.00012365812 | DA19: =CV19*I5*1000 -> 2001.9703 | DB19: =CW19*SUM(J5:P5)*1000 -> 50993.71 | DD19: ='Ch-exr of biomass'!$E$34 -> 63893.671 | DF19: 0.058965517 | DH19: =(DB19+DA19)/(CY19+CZ19+DD19) -> 0.82844621 | DI19: =(CV34+CW34)/(CT34+CU34+DD19) -> 0.053560651 | DJ19: =(DB34+DA34)/(CZ34+CY34+DD19) -> 0.77499709
F20: =F6/F6 -> 1 | G20: =G6/(G6+H6) -> 0.21 | H20: =H6/(G6+H6) -> 0.79 | I20: =I6/I6 -> 1 | J20: =J6/($J$6+$K$6+$L$6+$M$6+$N$6+$O$6+$P$6) -> 0 | K20: =K6/($J$6+$K$6+$L$6+$M$6+$N$6+$O$6+$P$6) -> 0.058499545 | L20: =L6/($J$6+$K$6+$L$6+$M$6+$N$6+$O$6+$P$6) -> 0 | M20: =M6/($J$6+$K$6+$L$6+$M$6+$N$6+$O$6+$P$6) -> 0.35981428 | N20: =N6/($J$6+$K$6+$L$6+$M$6+$N$6+$O$6+$P$6) -> 0.42571735 | O20: =O6/($J$6+$K$6+$L$6+$M$6+$N$6+$O$6+$P$6) -> 7.3748067e-06 | P20: =P6/($J$6+$K$6+$L$6+$M$6+$N$6+$O$6+$P$6) -> 0.15596145 | R20: ='ASPEN Ex steam'!Y9 -> -281599973 | S20: ='ASPEN Ex steam'!O9 -> -12532.791 | T20: ='ASPEN Ex steam'!P9 -> 396644172 | U20: ='ASPEN Ex steam'!Q9 -> -23198929 | W20: ='ASPEN Ex steam'!AA9 -> -287753612 | X20: =S20 -> -12532.791 | Y20: ='ASPEN Ex steam'!R9 -> 90002073 | Z20: ='ASPEN Ex steam'!S9 -> -58688891 | AB20: 298 | AD20: ='ASPEN Ex steam'!Z9 -> -149605.67 | AE20: ='ASPEN Ex steam'!T9 -> 4233.3924 | AF20: ='ASPEN Ex steam'!U9 -> 59292.885 | AG20: ='ASPEN Ex steam'!V9 -> 85677.675 | AI20: -168014.84 | AJ20: =AE20 -> 4233.3924 | AK20: ='ASPEN Ex steam'!W9 -> -391484.71 | AL20: ='ASPEN Ex steam'!X9 -> 35280.836 | AP20: =(R20-W20)-AB20*(AD20-AI20) -> 667704.55 | AQ20: =(S20-X20)-AB20*(AE20-AJ20) -> 0 | AR20: =(T20-Y20)-AB20*(AF20-AK20) -> 1.7231038e+08 | AS20: =(U20-Z20)-AB20*(AG20-AL20) -> 20471704 | AU20: =AP20/1000000 -> 0.66770455 | AV20: =AQ20/1000000 -> 0 | AW20: =AR20/1000000 -> 172.31038 | AX20: =AS20/1000000 -> 20.471704 | BB20: =F20*$BB$12 -> 11.39 | BC20: =G20*$BC$12 -> 0.8337 | BD20: =H20*$BD$12 -> 0.5688 | BE20: =I20*$BE$12 -> 4458.1845 | BF20: =J20*$BF$12 -> 0 | BG20: =K20*$BG$12 -> 0.042119672 | BH20: =L20*$BH$12 -> 0 | BI20: =M20*$BI$12 -> 84.952151 | BJ20: =N20*$BJ$12 -> 117.07653 | BK20: =O20*$BK$12 -> 0.00014609492 | BL20: =P20*$BL$12 -> 129.70534 | BN20: =BB20 -> 11.39 | BO20: =BC20+BD20 -> 1.4025 | BP20: =BE20 -> 4458.1845 | BQ20: =SUM(BF20:BL20) -> 331.77629 | BS20: =F20*LN(F20) -> 0 | BT20: =G20*LN(G20) -> -0.32773603 | BU20: =H20*LN(H20) -> -0.18622064 | BX20: =K20*LN(K20) -> -0.16606478 | BZ20: =M20*LN(M20) -> -0.36779038 | CA20: =N20*LN(N20) -> -0.36355395 | CB20: =O20*LN(O20) -> -8.7151342e-05 | CC20: =P20*LN(P20) -> -0.28979921 | CE20: =BS20 -> 0 | CF20: =BT20+BU20 -> -0.51395667 | CG20: =BV20 -> 0 | CH20: =SUM(BW20:CC20) -> -1.1872955 | CJ20: =8.3144/1000 -> 0.0083144 | CK20: 298.15 | CM20: =BN20+CJ20*CK20*CE20 -> 11.39 | CN20: =BO20+CJ20*CK20*CF20 -> 0.12843309 | CO20: =BP20+CJ20*CK20*CG20 -> 4458.1845 | CP20: =BQ20+CJ20*CK20*CH20 -> 328.83305 | CT20: =AU20+CM20 -> 12.057705 | CU20: =AV20+CN20 -> 0.12843309 | CV20: =AW20+CO20 -> 4630.4949 | CW20: =AX20+CP20 -> 349.30476 | CY20: =CT20*F6*1000 -> 152.60138 | CZ20: =CU20*(G6+H6)*1000 -> 0.00012365812 | DA20: =CV20*I6*1000 -> 0.13473311 | DB20: =CW20*SUM(J6:P6)*1000 -> 53291.908 | DD20: ='Ch-exr of biomass'!$E$34 -> 63893.671 | DF20: 0.11793103 | DH20: =(DB20+DA20)/(CY20+CZ20+DD20) -> 0.83208656 | DI20: =(CV35+CW35)/(CT35+CU35+DD20) -> 0.048876059 | DJ20: =(DB35+DA35)/(CZ35+CY35+DD20) -> 0.78342387
F21: =F7/F7 -> 1 | G21: =G7/(G7+H7) -> 0.21 | H21: =H7/(G7+H7) -> 0.79 | I21: =I7/I7 -> 1 | J21: =J7/($J$7+$K$7+$L$7+$M$7+$N$7+$O$7+$P$7) -> 0 | K21: =K7/($J$7+$K$7+$L$7+$M$7+$N$7+$O$7+$P$7) -> 0.052046371 | L21: =L7/($J$7+$K$7+$L$7+$M$7+$N$7+$O$7+$P$7) -> 0 | M21: =M7/($J$7+$K$7+$L$7+$M$7+$N$7+$O$7+$P$7) -> 0.4304336 | N21: =N7/($J$7+$K$7+$L$7+$M$7+$N$7+$O$7+$P$7) -> 0.41526581 | O21: =O7/($J$7+$K$7+$L$7+$M$7+$N$7+$O$7+$P$7) -> 0.00020202556 | P21: =P7/($J$7+$K$7+$L$7+$M$7+$N$7+$O$7+$P$7) -> 0.1020522 | R21: ='ASPEN Ex steam'!Y10 -> -281599973 | S21: ='ASPEN Ex steam'!O10 -> -12532.791 | T21: ='ASPEN Ex steam'!P10 -> 92835272 | U21: ='ASPEN Ex steam'!Q10 -> -24534914 | W21: ='ASPEN Ex steam'!AA10 -> -287753612 | X21: =S21 -> -12532.791 | Y21: ='ASPEN Ex steam'!R10 -> -134195824 | Z21: ='ASPEN Ex steam'!S10 -> -53591811 | AB21: 298 | AD21: ='ASPEN Ex steam'!Z10 -> -149605.67 | AE21: ='ASPEN Ex steam'!T10 -> 4233.3924 | AF21: ='ASPEN Ex steam'!U10 -> 30867.487 | AG21: ='ASPEN Ex steam'!V10 -> 82580.769 | AI21: -168014.84 | AJ21: =AE21 -> 4233.3924 | AK21: ='ASPEN Ex steam'!W10 -> -341468.23 | AL21: ='ASPEN Ex steam'!X10 -> 38105.132 | AP21: =(R21-W21)-AB21*(AD21-AI21) -> 667704.55 | AQ21: =(S21-X21)-AB21*(AE21-AJ21) -> 0 | AR21: =(T21-Y21)-AB21*(AF21-AK21) -> 1.1607505e+08 | AS21: =(U21-Z21)-AB21*(AG21-AL21) -> 15803156 | AU21: =AP21/1000000 -> 0.66770455 | AV21: =AQ21/1000000 -> 0 | AW21: =AR21/1000000 -> 116.07505 | AX21: =AS21/1000000 -> 15.803156 | BB21: =F21*$BB$12 -> 11.39 | BC21: =G21*$BC$12 -> 0.8337 | BD21: =H21*$BD$12 -> 0.5688 | BE21: =I21*$BE$12 -> 4458.1845 | BF21: =J21*$BF$12 -> 0 | BG21: =K21*$BG$12 -> 0.037473387 | BH21: =L21*$BH$12 -> 0 | BI21: =M21*$BI$12 -> 101.62537 | BJ21: =N21*$BJ$12 -> 114.20225 | BK21: =O21*$BK$12 -> 0.0040021263 | BL21: =P21*$BL$12 -> 84.871709 | BN21: =BB21 -> 11.39 | BO21: =BC21+BD21 -> 1.4025 | BP21: =BE21 -> 4458.1845 | BQ21: =SUM(BF21:BL21) -> 300.74081 | BS21: =F21*LN(F21) -> 0 | BT21: =G21*LN(G21) -> -0.32773603 | BU21: =H21*LN(H21) -> -0.18622064 | BX21: =K21*LN(K21) -> -0.15382931 | BZ21: =M21*LN(M21) -> -0.36283926 | CA21: =N21*LN(N21) -> -0.36495073 | CB21: =O21*LN(O21) -> -0.0017186549 | CC21: =P21*LN(P21) -> -0.23291075 | CE21: =BS21 -> 0 | CF21: =BT21+BU21 -> -0.51395667 | CG21: =BV21 -> 0 | CH21: =SUM(BW21:CC21) -> -1.1162487 | CJ21: =8.3144/1000 -> 0.0083144 | CK21: 298.15 | CM21: =BN21+CJ21*CK21*CE21 -> 11.39 | CN21: =BO21+CJ21*CK21*CF21 -> 0.12843309 | CO21: =BP21+CJ21*CK21*CG21 -> 4458.1845 | CP21: =BQ21+CJ21*CK21*CH21 -> 297.9737 | CT21: =AU21+CM21 -> 12.057705 | CU21: =AV21+CN21 -> 0.12843309 | CV21: =AW21+CO21 -> 4574.2596 | CW21: =AX21+CP21 -> 313.77685 | CY21: =CT21*F7*1000 -> 228.90207 | CZ21: =CU21*(G7+H7)*1000 -> 0.00012365812 | DA21: =CV21*I7*1000 -> 9.4693319e-08 | DB21: =CW21*SUM(J7:P7)*1000 -> 53807.201 | DD21: ='Ch-exr of biomass'!$E$34 -> 63893.671 | DF21: 0.17689655 | DH21: =(DB21+DA21)/(CY21+CZ21+DD21) -> 0.83913042 | DI21: =(CV36+CW36)/(CT36+CU36+DD21) -> 0.042405223 | DJ21: =(DB36+DA36)/(CZ36+CY36+DD21) -> 0.79702574
F22: =F8/F8 -> 1 | G22: =G8/(G8+H8) -> 0.21 | H22: =H8/(G8+H8) -> 0.79 | I22: 0 | J22: =J8/($J$8+$K$8+$L$8+$M$8+$N$8+$O$8+$P$8) -> 0 | K22: =K8/($J$8+$K$8+$L$8+$M$8+$N$8+$O$8+$P$8) -> 0.04739513 | L22: =L8/($J$8+$K$8+$L$8+$M$8+$N$8+$O$8+$P$8) -> 0 | M22: =M8/($J$8+$K$8+$L$8+$M$8+$N$8+$O$8+$P$8) -> 0.48133419 | N22: =N8/($J$8+$K$8+$L$8+$M$8+$N$8+$O$8+$P$8) -> 0.40031442 | O22: =O8/($J$8+$K$8+$L$8+$M$8+$N$8+$O$8+$P$8) -> 0.0059059486 | P22: =P8/($J$8+$K$8+$L$8+$M$8+$N$8+$O$8+$P$8) -> 0.065050311 | R22: ='ASPEN Ex steam'!Y11 -> -281599973 | S22: ='ASPEN Ex steam'!O11 -> -12532.791 | T22: ='ASPEN Ex steam'!P11 -> 0 | U22: ='ASPEN Ex steam'!Q11 -> -27097958 | W22: ='ASPEN Ex steam'!AA11 -> -287753612 | X22: =S22 -> -12532.791 | Y22: ='ASPEN Ex steam'!R11 -> 0 | Z22: ='ASPEN Ex steam'!S11 -> -51425751 | AB22: 298 | AD22: ='ASPEN Ex steam'!Z11 -> -149605.67 | AE22: ='ASPEN Ex steam'!T11 -> 4233.3924 | AF22: ='ASPEN Ex steam'!U11 -> 0 | AG22: ='ASPEN Ex steam'!V11 -> 79271.581 | AI22: -168014.84 | AJ22: =AE22 -> 4233.3924 | AK22: ='ASPEN Ex steam'!W11 -> 0 | AL22: ='ASPEN Ex steam'!X11 -> 39394.423 | AP22: =(R22-W22)-AB22*(AD22-AI22) -> 667704.55 | AQ22: =(S22-X22)-AB22*(AE22-AJ22) -> 0 | AR22: =(T22-Y22)-AB22*(AF22-AK22) -> 0 | AS22: =(U22-Z22)-AB22*(AG22-AL22) -> 12444400 | AU22: =AP22/1000000 -> 0.66770455 | AV22: =AQ22/1000000 -> 0 | AW22: =AR22/1000000 -> 0 | AX22: =AS22/1000000 -> 12.4444 | BB22: =F22*$BB$12 -> 11.39 | BC22: =G22*$BC$12 -> 0.8337 | BD22: =H22*$BD$12 -> 0.5688 | BE22: =I22*$BE$12 -> 0 | BF22: =J22*$BF$12 -> 0 | BG22: =K22*$BG$12 -> 0.034124493 | BH22: =L22*$BH$12 -> 0 | BI22: =M22*$BI$12 -> 113.643 | BJ22: =N22*$BJ$12 -> 110.09047 | BK22: =O22*$BK$12 -> 0.11699684 | BL22: =P22*$BL$12 -> 54.099091 | BN22: =BB22 -> 11.39 | BO22: =BC22+BD22 -> 1.4025 | BP22: =BE22 -> 0 | BQ22: =SUM(BF22:BL22) -> 277.98368 | BS22: =F22*LN(F22) -> 0 | BT22: =G22*LN(G22) -> -0.32773603 | BU22: =H22*LN(H22) -> -0.18622064 | BX22: =K22*LN(K22) -> -0.14451893 | BZ22: =M22*LN(M22) -> -0.35194842 | CA22: =N22*LN(N22) -> -0.36648985 | CB22: =O22*LN(O22) -> -0.030308119 | CC22: =P22*LN(P22) -> -0.17775611 | CE22: =BS22 -> 0 | CF22: =BT22+BU22 -> -0.51395667 | CG22: =BV22 -> 0 | CH22: =SUM(BW22:CC22) -> -1.0710214 | CJ22: =8.3144/1000 -> 0.0083144 | CK22: 298.15 | CM22: =BN22+CJ22*CK22*CE22 -> 11.39 | CN22: =BO22+CJ22*CK22*CF22 -> 0.12843309 | CO22: =BP22+CJ22*CK22*CG22 -> 0 | CP22: =BQ22+CJ22*CK22*CH22 -> 275.32869 | CT22: =AU22+CM22 -> 12.057705 | CU22: =AV22+CN22 -> 0.12843309 | CV22: =AW22+CO22 -> 0 | CW22: =AX22+CP22 -> 287.77309 | CY22: =CT22*F8*1000 -> 305.20277 | CZ22: =CU22*(G8+H8)*1000 -> 0.00012365812 | DA22: =CV22*I8*1000 -> 0 | DB22: =CW22*SUM(J8:P8)*1000 -> 54190.907 | DD22: ='Ch-exr of biomass'!$E$34 -> 63893.671 | DF22: 0.23586207 | DH22: =(DB22+DA22)/(CY22+CZ22+DD22) -> 0.84410993 | DI22: =(CV37+CW37)/(CT37+CU37+DD22) -> 0.036667179 | DJ22: =(DB37+DA37)/(CZ37+CY37+DD22) -> 0.80782008
F23: =F9/F9 -> 1 | G23: =G9/(G9+H9) -> 0.21 | H23: =H9/(G9+H9) -> 0.79 | I23: 0 | J23: =J9/($J$9+$K$9+$L$9+$M$9+$N$9+$O$9+$P$9) -> 0 | K23: =K9/($J$9+$K$9+$L$9+$M$9+$N$9+$O$9+$P$9) -> 0.045000002 | L23: =L9/($J$9+$K$9+$L$9+$M$9+$N$9+$O$9+$P$9) -> 0 | M23: =M9/($J$9+$K$9+$L$9+$M$9+$N$9+$O$9+$P$9) -> 0.50754513 | N23: =N9/($J$9+$K$9+$L$9+$M$9+$N$9+$O$9+$P$9) -> 0.3668086 | O23: =O9/($J$9+$K$9+$L$9+$M$9+$N$9+$O$9+$P$9) -> 0.028198173 | P23: =P9/($J$9+$K$9+$L$9+$M$9+$N$9+$O$9+$P$9) -> 0.052448093 | R23: ='ASPEN Ex steam'!Y12 -> -281599973 | S23: ='ASPEN Ex steam'!O12 -> -12532.791 | T23: ='ASPEN Ex steam'!P12 -> 0 | U23: ='ASPEN Ex steam'!Q12 -> -32881067 | W23: ='ASPEN Ex steam'!AA12 -> -287753612 | X23: =S23 -> -12532.791 | Y23: ='ASPEN Ex steam'!R12 -> 0 | Z23: ='ASPEN Ex steam'!S12 -> -55555504 | AB23: 298 | AD23: ='ASPEN Ex steam'!Z12 -> -149605.67 | AE23: ='ASPEN Ex steam'!T12 -> 4233.3924 | AF23: ='ASPEN Ex steam'!U12 -> 0 | AG23: ='ASPEN Ex steam'!V12 -> 76103.025 | AI23: -168014.84 | AJ23: =AE23 -> 4233.3924 | AK23: ='ASPEN Ex steam'!W12 -> 0 | AL23: ='ASPEN Ex steam'!X12 -> 37780.836 | AP23: =(R23-W23)-AB23*(AD23-AI23) -> 667704.55 | AQ23: =(S23-X23)-AB23*(AE23-AJ23) -> 0 | AR23: =(T23-Y23)-AB23*(AF23-AK23) -> 0 | AS23: =(U23-Z23)-AB23*(AG23-AL23) -> 11254425 | AU23: =AP23/1000000 -> 0.66770455 | AV23: =AQ23/1000000 -> 0 | AW23: =AR23/1000000 -> 0 | AX23: =AS23/1000000 -> 11.254425 | BB23: =F23*$BB$12 -> 11.39 | BC23: =G23*$BC$12 -> 0.8337 | BD23: =H23*$BD$12 -> 0.5688 | BE23: =I23*$BE$12 -> 0 | BF23: =J23*$BF$12 -> 0 | BG23: =K23*$BG$12 -> 0.032400001 | BH23: =L23*$BH$12 -> 0 | BI23: =M23*$BI$12 -> 119.83141 | BJ23: =N23*$BJ$12 -> 100.87603 | BK23: =O23*$BK$12 -> 0.5586058 | BL23: =P23*$BL$12 -> 43.618457 | BN23: =BB23 -> 11.39 | BO23: =BC23+BD23 -> 1.4025 | BP23: =BE23 -> 0 | BQ23: =SUM(BF23:BL23) -> 264.9169 | BS23: =F23*LN(F23) -> 0 | BT23: =G23*LN(G23) -> -0.32773603 | BU23: =H23*LN(H23) -> -0.18622064 | BX23: =K23*LN(K23) -> -0.13954918 | BZ23: =M23*LN(M23) -> -0.3442017 | CA23: =N23*LN(N23) -> -0.36787788 | CB23: =O23*LN(O23) -> -0.10062513 | CC23: =P23*LN(P23) -> -0.15461338 | CE23: =BS23 -> 0 | CF23: =BT23+BU23 -> -0.51395667 | CG23: =BV23 -> 0 | CH23: =SUM(BW23:CC23) -> -1.1068673 | CJ23: =8.3144/1000 -> 0.0083144 | CK23: 298.15 | CM23: =BN23+CJ23*CK23*CE23 -> 11.39 | CN23: =BO23+CJ23*CK23*CF23 -> 0.12843309 | CO23: =BP23+CJ23*CK23*CG23 -> 0 | CP23: =BQ23+CJ23*CK23*CH23 -> 262.17305 | CT23: =AU23+CM23 -> 12.057705 | CU23: =AV23+CN23 -> 0.12843309 | CV23: =AW23+CO23 -> 0 | CW23: =AX23+CP23 -> 273.42747 | CY23: =CT23*F9*1000 -> 381.50346 | CZ23: =CU23*(G9+H9)*1000 -> 0.00012365812 | DA23: =CV23*I9*1000 -> 0 | DB23: =CW23*SUM(J9:P9)*1000 -> 54229.996 | DD23: ='Ch-exr of biomass'!$E$34 -> 63893.671 | DF23: 0.29482759 | DH23: =(DB23+DA23)/(CY23+CZ23+DD23) -> 0.84371605 | DI23: =(CV38+CW38)/(CT38+CU38+DD23) -> 0.034923627 | DJ23: =(DB38+DA38)/(CZ38+CY38+DD23) -> 0.80925422
F24: =F10/F10 -> 1 | G24: =G10/(G10+H10) -> 0.21 | H24: =H10/(G10+H10) -> 0.79 | I24: 0 | J24: =J10/($J$10+$K$10+$L$10+$M$10+$N$10+$O$10+$P$10) -> 0 | K24: =K10/($J$10+$K$10+$L$10+$M$10+$N$10+$O$10+$P$10) -> 0.043381313 | L24: =L10/($J$10+$K$10+$L$10+$M$10+$N$10+$O$10+$P$10) -> 0 | M24: =M10/($J$10+$K$10+$L$10+$M$10+$N$10+$O$10+$P$10) -> 0.52525916 | N24: =N10/($J$10+$K$10+$L$10+$M$10+$N$10+$O$10+$P$10) -> 0.32806926 | O24: =O10/($J$10+$K$10+$L$10+$M$10+$N$10+$O$10+$P$10) -> 0.055335264 | P24: =P10/($J$10+$K$10+$L$10+$M$10+$N$10+$O$10+$P$10) -> 0.047955002 | R24: ='ASPEN Ex steam'!Y13 -> -281599973 | S24: ='ASPEN Ex steam'!O13 -> -12532.791 | T24: ='ASPEN Ex steam'!P13 -> 0 | U24: ='ASPEN Ex steam'!Q13 -> -39530606 | W24: ='ASPEN Ex steam'!AA13 -> -287753612 | X24: =S24 -> -12532.791 | Y24: ='ASPEN Ex steam'!R13 -> 0 | Z24: ='ASPEN Ex steam'!S13 -> -61617816 | AB24: 298 | AD24: ='ASPEN Ex steam'!Z13 -> -149605.67 | AE24: ='ASPEN Ex steam'!T13 -> 4233.3924 | AF24: ='ASPEN Ex steam'!U13 -> 0 | AG24: ='ASPEN Ex steam'!V13 -> 72965.161 | AI24: -168014.84 | AJ24: =AE24 -> 4233.3924 | AK24: ='ASPEN Ex steam'!W13 -> 0 | AL24: ='ASPEN Ex steam'!X13 -> 35085.357 | AP24: =(R24-W24)-AB24*(AD24-AI24) -> 667704.55 | AQ24: =(S24-X24)-AB24*(AE24-AJ24) -> 0 | AR24: =(T24-Y24)-AB24*(AF24-AK24) -> 0 | AS24: =(U24-Z24)-AB24*(AG24-AL24) -> 10799029 | AU24: =AP24/1000000 -> 0.66770455 | AV24: =AQ24/1000000 -> 0 | AW24: =AR24/1000000 -> 0 | AX24: =AS24/1000000 -> 10.799029 | BB24: =F24*$BB$12 -> 11.39 | BC24: =G24*$BC$12 -> 0.8337 | BD24: =H24*$BD$12 -> 0.5688 | BE24: =I24*$BE$12 -> 0 | BF24: =J24*$BF$12 -> 0 | BG24: =K24*$BG$12 -> 0.031234545 | BH24: =L24*$BH$12 -> 0 | BI24: =M24*$BI$12 -> 124.01369 | BJ24: =N24*$BJ$12 -> 90.222328 | BK24: =O24*$BK$12 -> 1.0961916 | BL24: =P24*$BL$12 -> 39.881777 | BN24: =BB24 -> 11.39 | BO24: =BC24+BD24 -> 1.4025 | BP24: =BE24 -> 0 | BQ24: =SUM(BF24:BL24) -> 255.24522 | BS24: =F24*LN(F24) -> 0 | BT24: =G24*LN(G24) -> -0.32773603 | BU24: =H24*LN(H24) -> -0.18622064 | BX24: =K24*LN(K24) -> -0.13611869 | BZ24: =M24*LN(M24) -> -0.3381952 | CA24: =N24*LN(N24) -> -0.36564321 | CB24: =O24*LN(O24) -> -0.16015934 | CC24: =P24*LN(P24) -> -0.14566294 | CE24: =BS24 -> 0 | CF24: =BT24+BU24 -> -0.51395667 | CG24: =BV24 -> 0 | CH24: =SUM(BW24:CC24) -> -1.1457794 | CJ24: =8.3144/1000 -> 0.0083144 | CK24: 298.15 | CM24: =BN24+CJ24*CK24*CE24 -> 11.39 | CN24: =BO24+CJ24*CK24*CF24 -> 0.12843309 | CO24: =BP24+CJ24*CK24*CG24 -> 0 | CP24: =BQ24+CJ24*CK24*CH24 -> 252.4049 | CT24: =AU24+CM24 -> 12.057705 | CU24: =AV24+CN24 -> 0.12843309 | CV24: =AW24+CO24 -> 0 | CW24: =AX24+CP24 -> 263.20393 | CY24: =CT24*F10*1000 -> 457.80415 | CZ24: =CU24*(G10+H10)*1000 -> 0.00012365812 | DA24: =CV24*I10*1000 -> 0 | DB24: =CW24*SUM(J10:P10)*1000 -> 54150.147 | DD24: ='Ch-exr of biomass'!$E$34 -> 63893.671 | DF24: 0.3537931 | DH24: =(DB24+DA24)/(CY24+CZ24+DD24) -> 0.84147484 | DI24: =(CV39+CW39)/(CT39+CU39+DD24) -> 0.034758565 | DJ24: =(DB39+DA39)/(CZ39+CY39+DD24) -> 0.80726788
F25: =F11/F11 -> 1 | G25: =G11/(G11+H11) -> 0.21 | H25: =H11/(G11+H11) -> 0.79 | I25: 0 | J25: =J11/($J$11+$K$11+$L$11+$M$11+$N$11+$O$11+$P$11) -> 0 | K25: =K11/($J$11+$K$11+$L$11+$M$11+$N$11+$O$11+$P$11) -> 0.042012425 | L25: =L11/($J$11+$K$11+$L$11+$M$11+$N$11+$O$11+$P$11) -> 0 | M25: =M11/($J$11+$K$11+$L$11+$M$11+$N$11+$O$11+$P$11) -> 0.5402395 | N25: =N11/($J$11+$K$11+$L$11+$M$11+$N$11+$O$11+$P$11) -> 0.28969722 | O25: =O11/($J$11+$K$11+$L$11+$M$11+$N$11+$O$11+$P$11) -> 0.082492781 | P25: =P11/($J$11+$K$11+$L$11+$M$11+$N$11+$O$11+$P$11) -> 0.045558068 | R25: ='ASPEN Ex steam'!Y14 -> -281599973 | S25: ='ASPEN Ex steam'!O14 -> -12532.791 | T25: ='ASPEN Ex steam'!P14 -> 0 | U25: ='ASPEN Ex steam'!Q14 -> -46118694 | W25: ='ASPEN Ex steam'!AA14 -> -287753612 | X25: =S25 -> -12532.791 | Y25: ='ASPEN Ex steam'!R14 -> 0 | Z25: ='ASPEN Ex steam'!S14 -> -67885017 | AB25: 298 | AD25: ='ASPEN Ex steam'!Z14 -> -149605.67 | AE25: ='ASPEN Ex steam'!T14 -> 4233.3924 | AF25: ='ASPEN Ex steam'!U14 -> 0 | AG25: ='ASPEN Ex steam'!V14 -> 69852.696 | AI25: -168014.84 | AJ25: =AE25 -> 4233.3924 | AK25: ='ASPEN Ex steam'!W14 -> 0 | AL25: ='ASPEN Ex steam'!X14 -> 32142.099 | AP25: =(R25-W25)-AB25*(AD25-AI25) -> 667704.55 | AQ25: =(S25-X25)-AB25*(AE25-AJ25) -> 0 | AR25: =(T25-Y25)-AB25*(AF25-AK25) -> 0 | AS25: =(U25-Z25)-AB25*(AG25-AL25) -> 10528565 | AU25: =AP25/1000000 -> 0.66770455 | AV25: =AQ25/1000000 -> 0 | AW25: =AR25/1000000 -> 0 | AX25: =AS25/1000000 -> 10.528565 | BB25: =F25*$BB$12 -> 11.39 | BC25: =G25*$BC$12 -> 0.8337 | BD25: =H25*$BD$12 -> 0.5688 | BE25: =I25*$BE$12 -> 0 | BF25: =J25*$BF$12 -> 0 | BG25: =K25*$BG$12 -> 0.030248946 | BH25: =L25*$BH$12 -> 0 | BI25: =M25*$BI$12 -> 127.55055 | BJ25: =N25*$BJ$12 -> 79.669633 | BK25: =O25*$BK$12 -> 1.634182 | BL25: =P25*$BL$12 -> 37.888367 | BN25: =BB25 -> 11.39 | BO25: =BC25+BD25 -> 1.4025 | BP25: =BE25 -> 0 | BQ25: =SUM(BF25:BL25) -> 246.77298 | BS25: =F25*LN(F25) -> 0 | BT25: =G25*LN(G25) -> -0.32773603 | BU25: =H25*LN(H25) -> -0.18622064 | BX25: =K25*LN(K25) -> -0.13317056 | BZ25: =M25*LN(M25) -> -0.33264854 | CA25: =N25*LN(N25) -> -0.35891138 | CB25: =O25*LN(O25) -> -0.20582316 | CC25: =P25*LN(P25) -> -0.14071828 | CE25: =BS25 -> 0 | CF25: =BT25+BU25 -> -0.51395667 | CG25: =BV25 -> 0 | CH25: =SUM(BW25:CC25) -> -1.1712719 | CJ25: =8.3144/1000 -> 0.0083144 | CK25: 298.15 | CM25: =BN25+CJ25*CK25*CE25 -> 11.39 | CN25: =BO25+CJ25*CK25*CF25 -> 0.12843309 | CO25: =BP25+CJ25*CK25*CG25 -> 0 | CP25: =BQ25+CJ25*CK25*CH25 -> 243.86947 | CT25: =AU25+CM25 -> 12.057705 | CU25: =AV25+CN25 -> 0.12843309 | CV25: =AW25+CO25 -> 0 | CW25: =AX25+CP25 -> 254.39803 | CY25: =CT25*F11*1000 -> 534.10484 | CZ25: =CU25*(G11+H11)*1000 -> 0.00012365812 | DA25: =CV25*I11*1000 -> 0 | DB25: =CW25*SUM(J11:P11)*1000 -> 54043.81 | DD25: ='Ch-exr of biomass'!$E$34 -> 63893.671 | DF25: 0.41275862 | DH25: =(DB25+DA25)/(CY25+CZ25+DD25) -> 0.83882781 | DI25: =(CV40+CW40)/(CT40+CU40+DD25) -> 0.034989889 | DJ25: =(DB40+DA40)/(CZ40+CY40+DD25) -> 0.80448123
F26: =F12/F12 -> 1 | G26: =G12/(G12+H12) -> 0.21 | H26: =H12/(G12+H12) -> 0.79 | I26: 0 | J26: =J12/($J$12+$K$12+$L$12+$M$12+$N$12+$O$12+$P$12) -> 0 | K26: =K12/($J$12+$K$12+$L$12+$M$12+$N$12+$O$12+$P$12) -> 0.040774533 | L26: =L12/($J$12+$K$12+$L$12+$M$12+$N$12+$O$12+$P$12) -> 0 | M26: =M12/($J$12+$K$12+$L$12+$M$12+$N$12+$O$12+$P$12) -> 0.5537863 | N26: =N12/($J$12+$K$12+$L$12+$M$12+$N$12+$O$12+$P$12) -> 0.25280691 | O26: =O12/($J$12+$K$12+$L$12+$M$12+$N$12+$O$12+$P$12) -> 0.10869417 | P26: =P12/($J$12+$K$12+$L$12+$M$12+$N$12+$O$12+$P$12) -> 0.043938087 | R26: ='ASPEN Ex steam'!Y15 -> -281599973 | S26: ='ASPEN Ex steam'!O15 -> -12532.791 | T26: ='ASPEN Ex steam'!P15 -> 0 | U26: ='ASPEN Ex steam'!Q15 -> -52462732 | W26: ='ASPEN Ex steam'!AA15 -> -287753612 | X26: =S26 -> -12532.791 | Y26: ='ASPEN Ex steam'!R15 -> 0 | Z26: ='ASPEN Ex steam'!S15 -> -73997658 | AB26: 298 | AD26: ='ASPEN Ex steam'!Z15 -> -149605.67 | AE26: ='ASPEN Ex steam'!T15 -> 4233.3924 | AF26: ='ASPEN Ex steam'!U15 -> 0 | AG26: ='ASPEN Ex steam'!V15 -> 66784.051 | AI26: -168014.84 | AJ26: =AE26 -> 4233.3924 | AK26: ='ASPEN Ex steam'!W15 -> 0 | AL26: ='ASPEN Ex steam'!X15 -> 29158.812 | AP26: =(R26-W26)-AB26*(AD26-AI26) -> 667704.55 | AQ26: =(S26-X26)-AB26*(AE26-AJ26) -> 0 | AR26: =(T26-Y26)-AB26*(AF26-AK26) -> 0 | AS26: =(U26-Z26)-AB26*(AG26-AL26) -> 10322605 | AU26: =AP26/1000000 -> 0.66770455 | AV26: =AQ26/1000000 -> 0 | AW26: =AR26/1000000 -> 0 | AX26: =AS26/1000000 -> 10.322605 | BB26: =F26*$BB$12 -> 11.39 | BC26: =G26*$BC$12 -> 0.8337 | BD26: =H26*$BD$12 -> 0.5688 | BE26: =I26*$BE$12 -> 0 | BF26: =J26*$BF$12 -> 0 | BG26: =K26*$BG$12 -> 0.029357664 | BH26: =L26*$BH$12 -> 0 | BI26: =M26*$BI$12 -> 130.74894 | BJ26: =N26*$BJ$12 -> 69.524428 | BK26: =O26*$BK$12 -> 2.1532316 | BL26: =P26*$BL$12 -> 36.54111 | BN26: =BB26 -> 11.39 | BO26: =BC26+BD26 -> 1.4025 | BP26: =BE26 -> 0 | BQ26: =SUM(BF26:BL26) -> 238.99707 | BS26: =F26*LN(F26) -> 0 | BT26: =G26*LN(G26) -> -0.32773603 | BU26: =H26*LN(H26) -> -0.18622064 | BX26: =K26*LN(K26) -> -0.13046618 | BZ26: =M26*LN(M26) -> -0.32727464 | CA26: =N26*LN(N26) -> -0.34764218 | CB26: =O26*LN(O26) -> -0.24121597 | CC26: =P26*LN(P26) -> -0.13730537 | CE26: =BS26 -> 0 | CF26: =BT26+BU26 -> -0.51395667 | CG26: =BV26 -> 0 | CH26: =SUM(BW26:CC26) -> -1.1839043 | CJ26: =8.3144/1000 -> 0.0083144 | CK26: 298.15 | CM26: =BN26+CJ26*CK26*CE26 -> 11.39 | CN26: =BO26+CJ26*CK26*CF26 -> 0.12843309 | CO26: =BP26+CJ26*CK26*CG26 -> 0 | CP26: =BQ26+CJ26*CK26*CH26 -> 236.06225 | CT26: =AU26+CM26 -> 12.057705 | CU26: =AV26+CN26 -> 0.12843309 | CV26: =AW26+CO26 -> 0 | CW26: =AX26+CP26 -> 246.38485 | CY26: =CT26*F12*1000 -> 610.40553 | CZ26: =CU26*(G12+H12)*1000 -> 0.00012365812 | DA26: =CV26*I12*1000 -> 0 | DB26: =CW26*SUM(J12:P12)*1000 -> 53930.564 | DD26: ='Ch-exr of biomass'!$E$34 -> 63893.671 | DF26: 0.47172414 | DH26: =(DB26+DA26)/(CY26+CZ26+DD26) -> 0.83607993 | DI26: =(CV41+CW41)/(CT41+CU41+DD26) -> 0.035344574 | DJ26: =(DB41+DA41)/(CZ41+CY41+DD26) -> 0.8014713
F27: =F13/F13 -> 1 | G27: =G13/(G13+H13) -> 0.21 | H27: =H13/(G13+H13) -> 0.79 | I27: 0 | J27: =J13/($J$13+$K$13+$L$13+$M$13+$N$13+$O$13+$P$13) -> 0 | K27: =K13/($J$13+$K$13+$L$13+$M$13+$N$13+$O$13+$P$13) -> 0.039623761 | L27: =L13/($J$13+$K$13+$L$13+$M$13+$N$13+$O$13+$P$13) -> 0 | M27: =M13/($J$13+$K$13+$L$13+$M$13+$N$13+$O$13+$P$13) -> 0.5663797 | N27: =N13/($J$13+$K$13+$L$13+$M$13+$N$13+$O$13+$P$13) -> 0.21770732 | O27: =O13/($J$13+$K$13+$L$13+$M$13+$N$13+$O$13+$P$13) -> 0.13365573 | P27: =P13/($J$13+$K$13+$L$13+$M$13+$N$13+$O$13+$P$13) -> 0.042633496 | R27: ='ASPEN Ex steam'!Y16 -> -281599973 | S27: ='ASPEN Ex steam'!O16 -> -12532.791 | T27: ='ASPEN Ex steam'!P16 -> 0 | U27: ='ASPEN Ex steam'!Q16 -> -58512853 | W27: ='ASPEN Ex steam'!AA16 -> -287753612 | X27: =S27 -> -12532.791 | Y27: ='ASPEN Ex steam'!R16 -> 0 | Z27: ='ASPEN Ex steam'!S16 -> -79843835 | AB27: 298 | AD27: ='ASPEN Ex steam'!Z16 -> -149605.67 | AE27: ='ASPEN Ex steam'!T16 -> 4233.3924 | AF27: ='ASPEN Ex steam'!U16 -> 0 | AG27: ='ASPEN Ex steam'!V16 -> 63769.729 | AI27: -168014.84 | AJ27: =AE27 -> 4233.3924 | AK27: ='ASPEN Ex steam'!W16 -> 0 | AL27: ='ASPEN Ex steam'!X16 -> 26213.091 | AP27: =(R27-W27)-AB27*(AD27-AI27) -> 667704.55 | AQ27: =(S27-X27)-AB27*(AE27-AJ27) -> 0 | AR27: =(T27-Y27)-AB27*(AF27-AK27) -> 0 | AS27: =(U27-Z27)-AB27*(AG27-AL27) -> 10139104 | AU27: =AP27/1000000 -> 0.66770455 | AV27: =AQ27/1000000 -> 0 | AW27: =AR27/1000000 -> 0 | AX27: =AS27/1000000 -> 10.139104 | BB27: =F27*$BB$12 -> 11.39 | BC27: =G27*$BC$12 -> 0.8337 | BD27: =H27*$BD$12 -> 0.5688 | BE27: =I27*$BE$12 -> 0 | BF27: =J27*$BF$12 -> 0 | BG27: =K27*$BG$12 -> 0.028529108 | BH27: =L27*$BH$12 -> 0 | BI27: =M27*$BI$12 -> 133.72225 | BJ27: =N27*$BJ$12 -> 59.871689 | BK27: =O27*$BK$12 -> 2.6477199 | BL27: =P27*$BL$12 -> 35.456147 | BN27: =BB27 -> 11.39 | BO27: =BC27+BD27 -> 1.4025 | BP27: =BE27 -> 0 | BQ27: =SUM(BF27:BL27) -> 231.72633 | BS27: =F27*LN(F27) -> 0 | BT27: =G27*LN(G27) -> -0.32773603 | BU27: =H27*LN(H27) -> -0.18622064 | BX27: =K27*LN(K27) -> -0.12791843 | BZ27: =M27*LN(M27) -> -0.32198152 | CA27: =N27*LN(N27) -> -0.33191738 | CB27: =O27*LN(O27) -> -0.26898054 | CC27: =P27*LN(P27) -> -0.13451358 | CE27: =BS27 -> 0 | CF27: =BT27+BU27 -> -0.51395667 | CG27: =BV27 -> 0 | CH27: =SUM(BW27:CC27) -> -1.1853115 | CJ27: =8.3144/1000 -> 0.0083144 | CK27: 298.15 | CM27: =BN27+CJ27*CK27*CE27 -> 11.39 | CN27: =BO27+CJ27*CK27*CF27 -> 0.12843309 | CO27: =BP27+CJ27*CK27*CG27 -> 0 | CP27: =BQ27+CJ27*CK27*CH27 -> 228.78802 | CT27: =AU27+CM27 -> 12.057705 | CU27: =AV27+CN27 -> 0.12843309 | CV27: =AW27+CO27 -> 0 | CW27: =AX27+CP27 -> 238.92712 | CY27: =CT27*F13*1000 -> 686.70622 | CZ27: =CU27*(G13+H13)*1000 -> 0.00012365812 | DA27: =CV27*I13*1000 -> 0 | DB27: =CW27*SUM(J13:P13)*1000 -> 53817.028 | DD27: ='Ch-exr of biomass'!$E$34 -> 63893.671 | DF27: 0.53068966 | DH27: =(DB27+DA27)/(CY27+CZ27+DD27) -> 0.83333406 | DI27: =(CV42+CW42)/(CT42+CU42+DD27) -> 0.035722151 | DJ27: =(DB42+DA42)/(CZ42+CY42+DD27) -> 0.79844087
F28: =F14/F14 -> 1 | G28: =G14/(G14+H14) -> 0.21 | H28: =H14/(G14+H14) -> 0.79 | I28: 0 | J28: =J14/($J$14+$K$14+$L$14+$M$14+$N$14+$O$14+$P$14) -> 0 | K28: =K14/($J$14+$K$14+$L$14+$M$14+$N$14+$O$14+$P$14) -> 0.03853773 | L28: =L14/($J$14+$K$14+$L$14+$M$14+$N$14+$O$14+$P$14) -> 0 | M28: =M14/($J$14+$K$14+$L$14+$M$14+$N$14+$O$14+$P$14) -> 0.57826462 | N28: =N14/($J$14+$K$14+$L$14+$M$14+$N$14+$O$14+$P$14) -> 0.18450139 | O28: =O14/($J$14+$K$14+$L$14+$M$14+$N$14+$O$14+$P$14) -> 0.15727371 | P28: =P14/($J$14+$K$14+$L$14+$M$14+$N$14+$O$14+$P$14) -> 0.041422544 | R28: ='ASPEN Ex steam'!Y17 -> -281599973 | S28: ='ASPEN Ex steam'!O17 -> -12532.791 | T28: ='ASPEN Ex steam'!P17 -> 0 | U28: ='ASPEN Ex steam'!Q17 -> -64253380 | W28: ='ASPEN Ex steam'!AA17 -> -287753612 | X28: =S28 -> -12532.791 | Y28: ='ASPEN Ex steam'!R17 -> 0 | Z28: ='ASPEN Ex steam'!S17 -> -85377582 | AB28: 298 | AD28: ='ASPEN Ex steam'!Z17 -> -149605.67 | AE28: ='ASPEN Ex steam'!T17 -> 4233.3924 | AF28: ='ASPEN Ex steam'!U17 -> 0 | AG28: ='ASPEN Ex steam'!V17 -> 60814.47 | AI28: -168014.84 | AJ28: =AE28 -> 4233.3924 | AK28: ='ASPEN Ex steam'!W17 -> 0 | AL28: ='ASPEN Ex steam'!X17 -> 23342.947 | AP28: =(R28-W28)-AB28*(AD28-AI28) -> 667704.55 | AQ28: =(S28-X28)-AB28*(AE28-AJ28) -> 0 | AR28: =(T28-Y28)-AB28*(AF28-AK28) -> 0 | AS28: =(U28-Z28)-AB28*(AG28-AL28) -> 9957687.8 | AU28: =AP28/1000000 -> 0.66770455 | AV28: =AQ28/1000000 -> 0 | AW28: =AR28/1000000 -> 0 | AX28: =AS28/1000000 -> 9.9576878 | BB28: =F28*$BB$12 -> 11.39 | BC28: =G28*$BC$12 -> 0.8337 | BD28: =H28*$BD$12 -> 0.5688 | BE28: =I28*$BE$12 -> 0 | BF28: =J28*$BF$12 -> 0 | BG28: =K28*$BG$12 -> 0.027747166 | BH28: =L28*$BH$12 -> 0 | BI28: =M28*$BI$12 -> 136.52828 | BJ28: =N28*$BJ$12 -> 50.739728 | BK28: =O28*$BK$12 -> 3.1155923 | BL28: =P28*$BL$12 -> 34.449059 | BN28: =BB28 -> 11.39 | BO28: =BC28+BD28 -> 1.4025 | BP28: =BE28 -> 0 | BQ28: =SUM(BF28:BL28) -> 224.8604 | BS28: =F28*LN(F28) -> 0 | BT28: =G28*LN(G28) -> -0.32773603 | BU28: =H28*LN(H28) -> -0.18622064 | BX28: =K28*LN(K28) -> -0.12548338 | BZ28: =M28*LN(M28) -> -0.31672923 | CA28: =N28*LN(N28) -> -0.31182548 | CB28: =O28*LN(O28) -> -0.29091982 | CC28: =P28*LN(P28) -> -0.13188648 | CE28: =BS28 -> 0 | CF28: =BT28+BU28 -> -0.51395667 | CG28: =BV28 -> 0 | CH28: =SUM(BW28:CC28) -> -1.1768444 | CJ28: =8.3144/1000 -> 0.0083144 | CK28: 298.15 | CM28: =BN28+CJ28*CK28*CE28 -> 11.39 | CN28: =BO28+CJ28*CK28*CF28 -> 0.12843309 | CO28: =BP28+CJ28*CK28*CG28 -> 0 | CP28: =BQ28+CJ28*CK28*CH28 -> 221.94308 | CT28: =AU28+CM28 -> 12.057705 | CU28: =AV28+CN28 -> 0.12843309 | CV28: =AW28+CO28 -> 0 | CW28: =AX28+CP28 -> 231.90077 | CY28: =CT28*F14*1000 -> 763.00691 | CZ28: =CU28*(G14+H14)*1000 -> 0.00012365812 | DA28: =CV28*I14*1000 -> 0 | DB28: =CW28*SUM(J14:P14)*1000 -> 53706.396 | DD28: ='Ch-exr of biomass'!$E$34 -> 63893.671 | DF28: 0.58965517 | DH28: =(DB28+DA28)/(CY28+CZ28+DD28) -> 0.83063959 | DI28: =(CV43+CW43)/(CT43+CU43+DD28) -> 0.036069274 | DJ28: =(DB43+DA43)/(CZ43+CY43+DD28) -> 0.79549223
CT30: physical*flow | CY30: chemical*flow
CT32: steam | CU32: air | CV32: liquid | CW32: gas | CY32: steam | CZ32: air | DA32: liquid | DB32: gas | DE32: =DF17 -> S/C | DF32: =DA16 -> Liquid | DG32: =DB16 -> Gas | DH32: Biomassa
CT33: =AU18*F4*1000 -> 0 | CU33: =AV18*(G4+H4)*1000 -> 0 | CV33: =AW18*I4*1000 -> 370.3908 | CW33: =AX18*SUM(J4:P4)*1000 -> 3168.8539 | CY33: =CM18*F4*1000 -> 0 | CZ33: =CN18*(G4+H4)*1000 -> 0.00012365812 | DA33: =CO18*I4*1000 -> 7844.1046 | DB33: =CP18*SUM(J4:P4)*1000 -> 41816.315 | DE33: =DF18 -> 0 | DF33: =DA18 -> 8214.4954 | DG33: =DB18 -> 44985.168 | DH33: =DD18 -> 63893.671
CT34: =AU19*F5*1000 -> 4.2252088 | CU34: =AV19*(G5+H5)*1000 -> 0 | CV34: =AW19*I5*1000 -> 85.012077 | CW34: =AX19*SUM(J5:P5)*1000 -> 3337.4008 | CY34: =CM19*F5*1000 -> 72.075483 | CZ34: =CN19*(G5+H5)*1000 -> 0.00012365812 | DA34: =CO19*I5*1000 -> 1916.9582 | DB34: =CP19*SUM(J5:P5)*1000 -> 47656.309 | DE34: =DF19 -> 0.058965517 | DF34: =DA19 -> 2001.9703 | DG34: =DB19 -> 50993.71 | DH34: =DD19 -> 63893.671
CT35: =AU20*F6*1000 -> 8.4504175 | CU35: =AV20*(G6+H6)*1000 -> 0 | CV35: =AW20*I6*1000 -> 0.0050137001 | CW35: =AX20*SUM(J6:P6)*1000 -> 3123.2788 | CY35: =CM20*F6*1000 -> 144.15097 | CZ35: =CN20*(G6+H6)*1000 -> 0.00012365812 | DA35: =CO20*I6*1000 -> 0.12971941 | DB35: =CP20*SUM(J6:P6)*1000 -> 50168.629 | DE35: =DF20 -> 0.11793103 | DF35: =DA20 -> 0.13473311 | DG35: =DB20 -> 53291.908 | DH35: =DD20 -> 63893.671
CT36: =AU21*F7*1000 -> 12.675626 | CU36: =AV21*(G7+H7)*1000 -> 0 | CV36: =AW21*I7*1000 -> 2.4029095e-09 | CW36: =AX21*SUM(J7:P7)*1000 -> 2709.9629 | CY36: =CM21*F7*1000 -> 216.22645 | CZ36: =CN21*(G7+H7)*1000 -> 0.00012365812 | DA36: =CO21*I7*1000 -> 9.229041e-08 | DB36: =CP21*SUM(J7:P7)*1000 -> 51097.239 | DE36: =DF21 -> 0.17689655 | DF36: =DA21 -> 9.4693319e-08 | DG36: =DB21 -> 53807.201 | DH36: =DD21 -> 63893.671
CT37: =AU22*F8*1000 -> 16.900835 | CU37: =AV22*(G8+H8)*1000 -> 0 | CV37: =AW22*I8*1000 -> 0 | CW37: =AX22*SUM(J8:P8)*1000 -> 2343.4204 | CY37: =CM22*F8*1000 -> 288.30193 | CZ37: =CN22*(G8+H8)*1000 -> 0.00012365812 | DA37: =CO22*I8*1000 -> 0 | DB37: =CP22*SUM(J8:P8)*1000 -> 51847.487 | DE37: =DF22 -> 0.23586207 | DF37: =DA22 -> 0 | DG37: =DB22 -> 54190.907 | DH37: =DD22 -> 63893.671
CT38: =AU23*F9*1000 -> 21.126044 | CU38: =AV23*(G9+H9)*1000 -> 0 | CV38: =AW23*I9*1000 -> 0 | CW38: =AX23*SUM(J9:P9)*1000 -> 2232.1365 | CY38: =CM23*F9*1000 -> 360.37741 | CZ38: =CN23*(G9+H9)*1000 -> 0.00012365812 | DA38: =CO23*I9*1000 -> 0 | DB38: =CP23*SUM(J9:P9)*1000 -> 51997.86 | DE38: =DF23 -> 0.29482759 | DF38: =DA23 -> 0 | DG38: =DB23 -> 54229.996 | DH38: =DD23 -> 63893.671
CT39: =AU24*F10*1000 -> 25.351253 | CU39: =AV24*(G10+H10)*1000 -> 0 | CV39: =AW24*I10*1000 -> 0 | CW39: =AX24*SUM(J10:P10)*1000 -> 2221.7335 | CY39: =CM24*F10*1000 -> 432.4529 | CZ39: =CN24*(G10+H10)*1000 -> 0.00012365812 | DA39: =CO24*I10*1000 -> 0 | DB39: =CP24*SUM(J10:P10)*1000 -> 51928.414 | DE39: =DF24 -> 0.3537931 | DF39: =DA24 -> 0 | DG39: =DB24 -> 54150.147 | DH39: =DD24 -> 63893.671
CT40: =AU25*F11*1000 -> 29.576461 | CU40: =AV25*(G11+H11)*1000 -> 0 | CV40: =AW25*I11*1000 -> 0 | CW40: =AX25*SUM(J11:P11)*1000 -> 2236.6674 | CY40: =CM25*F11*1000 -> 504.52838 | CZ40: =CN25*(G11+H11)*1000 -> 0.00012365812 | DA40: =CO25*I11*1000 -> 0 | DB40: =CP25*SUM(J11:P11)*1000 -> 51807.143 | DE40: =DF25 -> 0.41275862 | DF40: =DA25 -> 0 | DG40: =DB25 -> 54043.81 | DH40: =DD25 -> 63893.671
CT41: =AU26*F12*1000 -> 33.80167 | CU41: =AV26*(G12+H12)*1000 -> 0 | CV41: =AW26*I12*1000 -> 0 | CW41: =AX26*SUM(J12:P12)*1000 -> 2259.4893 | CY41: =CM26*F12*1000 -> 576.60386 | CZ41: =CN26*(G12+H12)*1000 -> 0.00012365812 | DA41: =CO26*I12*1000 -> 0 | DB41: =CP26*SUM(J12:P12)*1000 -> 51671.075 | DE41: =DF26 -> 0.47172414 | DF41: =DA26 -> 0 | DG41: =DB26 -> 53930.564 | DH41: =DD26 -> 63893.671
CT42: =AU27*F13*1000 -> 38.026879 | CU42: =AV27*(G13+H13)*1000 -> 0 | CV42: =AW27*I13*1000 -> 0 | CW42: =AX27*SUM(J13:P13)*1000 -> 2283.7777 | CY42: =CM27*F13*1000 -> 648.67934 | CZ42: =CN27*(G13+H13)*1000 -> 0.00012365812 | DA42: =CO27*I13*1000 -> 0 | DB42: =CP27*SUM(J13:P13)*1000 -> 51533.25 | DE42: =DF27 -> 0.53068966 | DF42: =DA27 -> 0 | DG42: =DB27 -> 53817.028 | DH42: =DD27 -> 63893.671
CT43: =AU28*F14*1000 -> 42.252088 | CU43: =AV28*(G14+H14)*1000 -> 0 | CV43: =AW28*I14*1000 -> 0 | CW43: =AX28*SUM(J14:P14)*1000 -> 2306.1223 | CY43: =CM28*F14*1000 -> 720.75483 | CZ43: =CN28*(G14+H14)*1000 -> 0.00012365812 | DA43: =CO28*I14*1000 -> 0 | DB43: =CP28*SUM(J14:P14)*1000 -> 51400.274 | DE43: =DF28 -> 0.58965517 | DF43: =DA28 -> 0 | DG43: =DB28 -> 53706.396 | DH43: =DD28 -> 63893.671

Sheet ASPEN Ex steam
A1: Row/Case
B2: VARY 1 | C2: FLOSTEM | D2: FLOO2AIR | E2: FLON2AIR | F2: FLOLIQ | G2: FLOASH | H2: FLOH2OG | I2: FLON2G | J2: FLOO2G | K2: FLOH2G | L2: FLOCOG | M2: FLOCO2G | N2: FLOCH4G | O2: ENTLAIR | P2: ENTLLIQ | Q2: ENTLGAS | R2: ENTLLIQC | S2: ENTLGASC | T2: ENTRAIR | U2: ENTRLIQ | V2: ENTRGAS | W2: ENTRLIQC | X2: ENTRGASC | Y2: ENTLSTAM | Z2: ENTRSTAM | AA2: ENTLSTMC | AB2: ENTRSTMC
B3: STEAM
B4: MIXED
B5: H2O MASSFLOW
B6: KG/SEC | C6: KMOL/SEC | D6: KMOL/SEC | E6: KMOL/SEC | F6: KMOL/SEC | G6: KMOL/SEC | H6: KMOL/SEC | I6: KMOL/SEC | J6: KMOL/SEC | K6: KMOL/SEC | L6: KMOL/SEC | M6: KMOL/SEC | N6: KMOL/SEC | O6: J/KMOL | P6: J/KMOL | Q6: J/KMOL | R6: J/KMOL | S6: J/KMOL | T6: J/KMOL-K | U6: J/KMOL-K | V6: J/KMOL-K | W6: J/KMOL-K | X6: J/KMOL-K | Y6: J/KMOL | Z6: J/KMOL-K | AA6: J/KMOL | AB6: J/KMOL-K
A7: 1 | B7: 0 | C7: 0 | D7: 2.0219248e-07 | E7: 7.6062885e-07 | F7: 0.0017594841 | G7: 0.007 | H7: 0 | I7: 0.0080452936 | J7: 0 | K7: 0.038924473 | L7: 0.052295842 | M7: 5.0088652e-08 | N7: 0.022372421 | O7: -12532.791 | P7: 451147249 | Q7: -18443301 | R7: 95447534 | S7: -61236364 | T7: 4233.3924 | U7: 93584.824 | V7: 89841.603 | W7: -393625.54 | X7: 33661.849
A8: 2 | B8: 0.114 | C8: 0.0063279616 | D8: 2.0219248e-07 | E8: 7.6062885e-07 | F8: 0.00042998628 | G8: 0.007 | H8: 0 | I8: 0.0087100425 | J8: 0 | K8: 0.041288797 | L8: 0.058623795 | M8: 1.0610248e-07 | N8: 0.026681017 | O8: -12532.791 | P8: 434886477 | Q8: -21476120 | R8: 95407475 | S8: -62595267 | T8: 4233.3924 | U8: 82134.157 | V8: 88125.188 | W8: -393604.74 | X8: 32913.245 | Y8: -281599973 | Z8: -149605.67 | AA8: -287753612 | AB8: -168014.84
A9: 3 | B9: 0.228 | C9: 0.012655923 | D9: 2.0219248e-07 | E9: 7.6062885e-07 | F9: 2.9096914e-08 | G9: 0.007 | H9: 0 | I9: 0.0089250211 | J9: 0 | K9: 0.054895299 | L9: 0.064949844 | M9: 1.1251422e-06 | N9: 0.02379436 | O9: -12532.791 | P9: 396644172 | Q9: -23198929 | R9: 90002073 | S9: -58688891 | T9: 4233.3924 | U9: 59292.885 | V9: 85677.675 | W9: -391484.71 | X9: 35280.836 | Y9: -281599973 | Z9: -149605.67 | AA9: -287753612 | AB9: -168014.84
A10: 4 | B10: 0.342 | C10: 0.018983885 | D10: 2.0219248e-07 | E10: 7.6062885e-07 | F10: 2.0701344e-14 | G10: 0.007 | H10: 0 | I10: 0.0089250357 | J10: 0 | K10: 0.073811778 | L10: 0.071210769 | M10: 3.4643824e-05 | N10: 0.017500154 | O10: -12532.791 | P10: 92835272 | Q10: -24534914 | R10: -134195824 | S10: -53591811 | T10: 4233.3924 | U10: 30867.487 | V10: 82580.769 | W10: -341468.23 | X10: 38105.132 | Y10: -281599973 | Z10: -149605.67 | AA10: -287753612 | AB10: -168014.84
A11: 5 | B11: 0.456 | C11: 0.025311846 | D11: 2.0219248e-07 | E11: 7.6062885e-07 | F11: 0 | G11: 0.007 | H11: 0 | I11: 0.0089250357 | J11: 0 | K11: 0.090640638 | L11: 0.075383705 | M11: 0.0011121565 | N11: 0.012249705 | O11: -12532.791 | Q11: -27097958 | S11: -51425751 | T11: 4233.3924 | V11: 79271.581 | X11: 39394.423 | Y11: -281599973 | Z11: -149605.67 | AA11: -287753612 | AB11: -168014.84
A12: 6 | B12: 0.57 | C12: 0.031639808 | D12: 2.0219248e-07 | E12: 7.6062885e-07 | F12: 0 | G12: 0.007 | H12: 0 | I12: 0.0089250357 | J12: 0 | K12: 0.10066352 | L12: 0.07275066 | M12: 0.0055926597 | N12: 0.010402246 | O12: -12532.791 | Q12: -32881067 | S12: -55555504 | T12: 4233.3924 | V12: 76103.025 | X12: 37780.836 | Y12: -281599973 | Z12: -149605.67 | AA12: -287753612 | AB12: -168014.84
A13: 7 | B13: 0.684 | C13: 0.03796777 | D13: 2.0219248e-07 | E13: 7.6062885e-07 | F13: 0 | G13: 0.007 | H13: 0 | I13: 0.0089250357 | J13: 0 | K13: 0.10806397 | L13: 0.067495188 | M13: 0.011384377 | N13: 0.0098660016 | O13: -12532.791 | Q13: -39530606 | S13: -61617816 | T13: 4233.3924 | V13: 72965.161 | X13: 35085.357 | Y13: -281599973 | Z13: -149605.67 | AA13: -287753612 | AB13: -168014.84
A14: 8 | B14: 0.798 | C14: 0.044295731 | D14: 2.0219248e-07 | E14: 7.6062885e-07 | F14: 0 | G14: 0.007 | H14: 0 | I14: 0.0089250357 | J14: 0 | K14: 0.1147674 | L14: 0.0615427 | M14: 0.017524602 | N14: 0.009678265 | O14: -12532.791 | Q14: -46118694 | S14: -67885017 | T14: 4233.3924 | V14: 69852.696 | X14: 32142.099 | Y14: -281599973 | Z14: -149605.67 | AA14: -287753612 | AB14: -168014.84
A15: 9 | B15: 0.912 | C15: 0.050623693 | D15: 2.0219248e-07 | E15: 7.6062885e-07 | F15: 0 | G15: 0.007 | H15: 0 | I15: 0.0089250357 | J15: 0 | K15: 0.1212169 | L15: 0.055336272 | M15: 0.023791796 | N15: 0.009617498 | O15: -12532.791 | Q15: -52462732 | S15: -73997658 | T15: 4233.3924 | V15: 66784.051 | X15: 29158.812 | Y15: -281599973 | Z15: -149605.67 | AA15: -287753612 | AB15: -168014.84
A16: 10 | B16: 1.026 | C16: 0.056951654 | D16: 2.0219248e-07 | E16: 7.6062885e-07 | F16: 0 | G16: 0.007 | H16: 0 | I16: 0.0089250357 | J16: 0 | K16: 0.12757393 | L16: 0.049037383 | M16: 0.030105222 | N16: 0.0096029618 | O16: -12532.791 | Q16: -58512853 | S16: -79843835 | T16: 4233.3924 | V16: 63769.729 | X16: 26213.091 | Y16: -281599973 | Z16: -149605.67 | AA16: -287753612 | AB16: -168014.84
A17: 11 | B17: 1.14 | C17: 0.063279616 | D17: 2.0219248e-07 | E17: 7.6062885e-07 | F17: 0 | G17: 0.007 | H17: 0 | I17: 0.0089250357 | J17: 0 | K17: 0.13392155 | L17: 0.042729073 | M17: 0.036423357 | N17: 0.0095931359 | O17: -12532.791 | Q17: -64253380 | S17: -85377582 | T17: 4233.3924 | V17: 60814.47 | X17: 23342.947 | Y17: -281599973 | Z17: -149605.67 | AA17: -287753612 | AB17: -168014.84

Sheet exergy air
A1: Row/Case | B1: Status | G1: Product
C2: AIR | E2: FLOO2AIR | F2: FLON2AIR | G2: FLOLIQ | H2: FLOH2OG | I2: FLON2G | J2: FLOO2G | K2: FLOH2G | L2: FLOCOG | M2: FLOCO2G | N2: FLOCH4G
C3: KG/SEC | E3: KMOL/SEC | F3: KMOL/SEC | G3: KMOL/SEC | H3: KMOL/SEC | I3: KMOL/SEC | J3: KMOL/SEC | K3: KMOL/SEC | L3: KMOL/SEC | M3: KMOL/SEC | N3: KMOL/SEC
A4: 1 | B4: OK | C4: 0 | E4: ='ASPEN Ex air'!D7 -> 7.2789292e-06 | F4: ='ASPEN Ex air'!E7 -> 2.7382639e-05 | G4: ='ASPEN Ex air'!F7 -> 0.0017581712 | H4: ='ASPEN Ex air'!H7 -> 0 | I4: ='ASPEN Ex air'!I7 -> 0.0080725721 | J4: ='ASPEN Ex air'!J7 -> 0 | K4: ='ASPEN Ex air'!K7 -> 0.038936367 | L4: ='ASPEN Ex air'!L7 -> 0.052309995 | M4: ='ASPEN Ex air'!M7 -> 5.0104511e-08 | N4: ='ASPEN Ex air'!N7 -> 0.022368773
A5: 2 | B5: Warnings | C5: 0.1 | E5: ='ASPEN Ex air'!D8 -> 0.00073444396 | F5: ='ASPEN Ex air'!E8 -> 0.0027629082 | G5: ='ASPEN Ex air'!F8 -> 0.0016210989 | H5: ='ASPEN Ex air'!H8 -> 0 | I5: ='ASPEN Ex air'!I8 -> 0.010876634 | J5: ='ASPEN Ex air'!J8 -> 0 | K5: ='ASPEN Ex air'!K8 -> 0.040131405 | L5: ='ASPEN Ex air'!L8 -> 0.053764353 | M5: ='ASPEN Ex air'!M8 -> 5.1581251e-08 | N5: ='ASPEN Ex air'!N8 -> 0.022011176
A6: 3 | B6: Warnings | C6: 0.2 | E6: ='ASPEN Ex air'!D9 -> 0.001461609 | F6: ='ASPEN Ex air'!E9 -> 0.0054984338 | G6: ='ASPEN Ex air'!F9 -> 0.0014812874 | H6: ='ASPEN Ex air'!H9 -> 0 | I6: ='ASPEN Ex air'!I9 -> 0.013682065 | J6: ='ASPEN Ex air'!J9 -> 0 | K6: ='ASPEN Ex air'!K9 -> 0.041292249 | L6: ='ASPEN Ex air'!L9 -> 0.055218705 | M6: ='ASPEN Ex air'!M9 -> 5.2879377e-08 | N6: ='ASPEN Ex air'!N9 -> 0.021675461
A7: 4 | B7: Warnings | C7: 0.3 | E7: ='ASPEN Ex air'!D10 -> 0.002188774 | F7: ='ASPEN Ex air'!E10 -> 0.0082339594 | G7: ='ASPEN Ex air'!F10 -> 0.001340169 | H7: ='ASPEN Ex air'!H10 -> 0 | I7: ='ASPEN Ex air'!I10 -> 0.01648815 | J7: ='ASPEN Ex air'!J10 -> 0 | K7: ='ASPEN Ex air'!K10 -> 0.042436787 | L7: ='ASPEN Ex air'!L10 -> 0.056673053 | M7: ='ASPEN Ex air'!M10 -> 5.4116893e-08 | N7: ='ASPEN Ex air'!N10 -> 0.021350179
A8: 5 | B8: Warnings | C8: 0.4 | E8: ='ASPEN Ex air'!D11 -> 0.0029159391 | F8: ='ASPEN Ex air'!E11 -> 0.010969485 | G8: ='ASPEN Ex air'!F11 -> 0.0011986319 | H8: ='ASPEN Ex air'!H11 -> 0 | I8: ='ASPEN Ex air'!I11 -> 0.019294444 | J8: ='ASPEN Ex air'!J11 -> 0 | K8: ='ASPEN Ex air'!K11 -> 0.043576108 | L8: ='ASPEN Ex air'!L11 -> 0.058127398 | M8: ='ASPEN Ex air'!M11 -> 5.5369621e-08 | N8: ='ASPEN Ex air'!N11 -> 0.021028234
A9: 6 | B9: Warnings | C9: 0.5 | E9: ='ASPEN Ex air'!D12 -> 0.0036431041 | F9: ='ASPEN Ex air'!E12 -> 0.013705011 | G9: ='ASPEN Ex air'!F12 -> 0.0010573639 | H9: ='ASPEN Ex air'!H12 -> 0 | I9: ='ASPEN Ex air'!I12 -> 0.022100604 | J9: ='ASPEN Ex air'!J12 -> 0 | K9: ='ASPEN Ex air'!K12 -> 0.044718806 | L9: ='ASPEN Ex air'!L12 -> 0.059581741 | M9: ='ASPEN Ex air'!M12 -> 5.6699541e-08 | N9: ='ASPEN Ex air'!N12 -> 0.020704128
A10: 7 | B10: Warnings | C10: 0.6 | E10: ='ASPEN Ex air'!D13 -> 0.0043702691 | F10: ='ASPEN Ex air'!E13 -> 0.016440536 | G10: ='ASPEN Ex air'!F13 -> 0.00091701158 | H10: ='ASPEN Ex air'!H13 -> 0 | I10: ='ASPEN Ex air'!I13 -> 0.024906305 | J10: ='ASPEN Ex air'!J13 -> 0 | K10: ='ASPEN Ex air'!K13 -> 0.045872958 | L10: ='ASPEN Ex air'!L13 -> 0.061036082 | M10: ='ASPEN Ex air'!M13 -> 5.8169466e-08 | N10: ='ASPEN Ex air'!N13 -> 0.02037269 | AT10: [kJ/mol]
A11: 8 | B11: Warnings | C11: 0.7 | E11: ='ASPEN Ex air'!D14 -> 0.0050974341 | F11: ='ASPEN Ex air'!E14 -> 0.019176062 | G11: ='ASPEN Ex air'!F14 -> 0.00077829703 | H11: ='ASPEN Ex air'!H14 -> 0 | I11: ='ASPEN Ex air'!I14 -> 0.027711188 | J11: ='ASPEN Ex air'!J14 -> 0 | K11: ='ASPEN Ex air'!K14 -> 0.047047588 | L11: ='ASPEN Ex air'!L14 -> 0.062490423 | M11: ='ASPEN Ex air'!M14 -> 5.9854437e-08 | N11: ='ASPEN Ex air'!N14 -> 0.020028146 | AT11: -O2 | AU11: -N2 | AV11: -Indole | AW11: -H2O | AX11: -N2 | AY11: -O2 | AZ11: -H2 | BA11: -CO | BB11: -CO2 | BC11: -CH4
A12: 9 | B12: Warnings | C12: 0.8 | E12: ='ASPEN Ex air'!D15 -> 0.0058245992 | F12: ='ASPEN Ex air'!E15 -> 0.021911587 | G12: ='ASPEN Ex air'!F15 -> 0.00064213265 | H12: ='ASPEN Ex air'!H15 -> 0 | I12: ='ASPEN Ex air'!I15 -> 0.030514796 | J12: ='ASPEN Ex air'!J15 -> 0 | K12: ='ASPEN Ex air'!K15 -> 0.048254099 | L12: ='ASPEN Ex air'!L15 -> 0.063944762 | M12: ='ASPEN Ex air'!M15 -> 6.1856664e-08 | N12: ='ASPEN Ex air'!N15 -> 0.019663197 | AT12: 3.97 | AU12: 0.72 | AV12: ='Ch-exr of indole'!E21 -> 4458.1845 | AW12: 9.5 | AX12: 0.72 | AY12: 3.97 | AZ12: 236.1 | BA12: 275.01 | BB12: 19.81 | BC12: 831.65
A13: 10 | B13: Warnings | C13: 0.9 | E13: ='ASPEN Ex air'!D16 -> 0.0065517642 | F13: ='ASPEN Ex air'!E16 -> 0.024647113 | G13: ='ASPEN Ex air'!F16 -> 0.00050979494 | H13: ='ASPEN Ex air'!H16 -> 0 | I13: ='ASPEN Ex air'!I16 -> 0.033316491 | J13: ='ASPEN Ex air'!J16 -> 0 | K13: ='ASPEN Ex air'!K16 -> 0.049508446 | L13: ='ASPEN Ex air'!L16 -> 0.065399099 | M13: ='ASPEN Ex air'!M16 -> 6.4329426e-08 | N13: ='ASPEN Ex air'!N16 -> 0.019267634 | BE13: [kJ/mol] | CK13: dikali flow (*1000)
A14: 11 | B14: Warnings | C14: 1 | E14: ='ASPEN Ex air'!D17 -> 0.0072789292 | F14: ='ASPEN Ex air'!E17 -> 0.027382639 | G14: ='ASPEN Ex air'!F17 -> 0.00038321727 | H14: ='ASPEN Ex air'!H17 -> 0 | I14: ='ASPEN Ex air'!I17 -> 0.036115305 | J14: ='ASPEN Ex air'!J17 -> 0 | K14: ='ASPEN Ex air'!K17 -> 0.050834793 | L14: ='ASPEN Ex air'!L17 -> 0.066853435 | M14: ='ASPEN Ex air'!M17 -> 6.7522857e-08 | N14: ='ASPEN Ex air'!N17 -> 0.01882599 | AT14: (yi.exi) | BE14: sigma(yi.exi) | BI14: (yi(ln(yi)) | BT14: sigma (yi(ln(yi)) | BX14: R | BY14: T0 | CA14: Che ex= sigma (yi.exi)+R.T0.sigma(yi(ln(yi)) | CG14: total ex= physical+chemical | CK14: total ex= physical+chemical | CO14: exergy of biomass
P15: H | T15: H0 | X15: T0 | Z15: S | AD15: S0 | AJ15: Ph Ex = (H - H0) - T0 (S-S0) | AN15: Ph Ex = (H - H0) - T0 (S-S0) | AT15: air | AV15: Liquid | AW15: Gas | BE15: air | BF15: liquid | BG15: gas | BI15: air | BK15: Liquid | BL15: Gas | BT15: air | BU15: liquid | BV15: gas | BX15: [kJ/K.mol] | BY15: K | CA15: air | CB15: liquid | CC15: gas | CG15: kJ/mol | CK15: kJ/s | CO15: kJ/s
E16: FLOO2AIR | F16: FLON2AIR | G16: FLOLIQ | H16: FLOH2OG | I16: FLON2G | J16: FLOO2G | K16: FLOH2G | L16: FLOCOG | M16: FLOCO2G | N16: FLOCH4G | P16: ENTLAIR | Q16: ENTLLIQ | R16: ENTLGAS | T16: ENTLAIRC | U16: ENTLLIQC | V16: ENTLGASC | Z16: ENTRAIR | AA16: ENTRLIQ | AB16: ENTRGAS | AD16: ENTRAIRC | AE16: ENTRLIQC | AF16: ENTRGASC | AT16: O2 | AU16: N2 | AV16: Indole | AW16: H2O | AX16: N2 | AY16: O2 | AZ16: H2 | BA16: CO | BB16: CO2 | BC16: CH4 | CG16: air | CH16: liquid | CI16: gas | CK16: air | CL16: liquid | CM16: gas
P17: J/KMOL | Q17: J/KMOL | R17: J/KMOL | T17: J/KMOL | U17: J/KMOL | V17: J/KMOL | X17: K | Z17: J/KMOL-K | AA17: J/KMOL-K | AB17: J/KMOL-K | AD17: J/KMOL-K | AE17: J/KMOL-K | AF17: J/KMOL-K | AJ17: air | AK17: liquid | AL17: gas | AN17: air | AO17: liquid | AP17: gas | CQ17: Air (kg/s) | CS17: Total efficiency (%) | CT17: Physical efficiency (%) | CU17: Chemical efficiency (%)
E18: =E4/(E4+F4) -> 0.21 | F18: =F4/(E4+F4) -> 0.79 | G18: =G4/G4 -> 1 | H18: =H4/($H$4+$I$4+$J$4+$K$4+$L$4+$M$4+$N$4) -> 0 | I18: =I4/($H$4+$I$4+$J$4+$K$4+$L$4+$M$4+$N$4) -> 0.066338408 | J18: =J4/($H$4+$I$4+$J$4+$K$4+$L$4+$M$4+$N$4) -> 0 | K18: =K4/($H$4+$I$4+$J$4+$K$4+$L$4+$M$4+$N$4) -> 0.31996947 | L18: =L4/($H$4+$I$4+$J$4+$K$4+$L$4+$M$4+$N$4) -> 0.42987065 | M18: =M4/($H$4+$I$4+$J$4+$K$4+$L$4+$M$4+$N$4) -> 4.1174653e-07 | N18: =N4/($H$4+$I$4+$J$4+$K$4+$L$4+$M$4+$N$4) -> 0.18382106 | O18: =SUM(H18:N18) -> 1 | P18: ='ASPEN Ex air'!O7 -> -12532.791 | Q18: ='ASPEN Ex air'!P7 -> 451151988 | R18: ='ASPEN Ex air'!Q7 -> -18432214 | T18: =P18 -> -12532.791 | U18: ='ASPEN Ex air'!R7 -> 95447558 | V18: ='ASPEN Ex air'!S7 -> -61221990 | X18: 298 | Z18: ='ASPEN Ex air'!T7 -> 4233.3924 | AA18: ='ASPEN Ex air'!U7 -> 93588.088 | AB18: ='ASPEN Ex air'!V7 -> 89843.081 | AD18: =Z18 -> 4233.3924 | AE18: ='ASPEN Ex air'!W7 -> -393625.56 | AF18: ='ASPEN Ex air'!X7 -> 33667.276 | AJ18: =(P18-T18)-X18*(Z18-AD18) -> 0 | AK18: =(Q18-U18)-X18*(AA18-AE18) -> 2.1051476e+08 | AL18: =(R18-V18)-X18*(AB18-AF18) -> 26049386 | AN18: =AJ18/1000000 -> 0 | AO18: =AK18/1000000 -> 210.51476 | AP18: =AL18/1000000 -> 26.049386 | AT18: =E18*$AT$12 -> 0.8337 | AU18: =F18*$AU$12 -> 0.5688 | AV18: =G18*$AV$12 -> 4458.1845 | AW18: =H18*$AW$12 -> 0 | AX18: =I18*$AX$12 -> 0.047763654 | AY18: =J18*$AY$12 -> 0 | AZ18: =K18*$AZ$12 -> 75.544791 | BA18: =L18*$BA$12 -> 118.21873 | BB18: =M18*$BB$12 -> 8.1566987e-06 | BC18: =N18*$BC$12 -> 152.87479 | BE18: =AT18+AU18 -> 1.4025 | BF18: =AV18 -> 4458.1845 | BG18: =SUM(AW18:BC18) -> 346.68608 | BI18: =E18*LN(E18) -> -0.32773603 | BJ18: =F18*LN(F18) -> -0.18622064 | BK18: =G18*LN(G18) -> 0 | BM18: =I18*LN(I18) -> -0.17997519 | BO18: =K18*LN(K18) -> -0.36461471 | BP18: =L18*LN(L18) -> -0.36292729 | BQ18: =M18*LN(M18) -> -6.0538507e-06 | BR18: =N18*LN(N18) -> -0.31135473 | BT18: =BI18+BJ18 -> -0.51395667 | BU18: =BK18 -> 0 | BV18: =SUM(BL18:BR18) -> -1.218878 | BX18: =8.3144/1000 -> 0.0083144 | BY18: 298.15 | CA18: =BE18+BX18*BY18*BT18 -> 0.12843309 | CB18: =BF18+BX18*BY18*BU18 -> 4458.1845 | CC18: =BG18+BX18*BY18*BV18 -> 343.66455 | CG18: =AN18+CA18 -> 0.12843309 | CH18: =AO18+CB18 -> 4668.6993 | CI18: =AP18+CC18 -> 369.71394 | CK18: =CG18*(E4+F4)*1000 -> 0.0044516924 | CL18: =CH18*G4*1000 -> 8208.3725 | CM18: =CI18*SUM(H4:N4)*1000 -> 44989.66 | CO18: ='Ch-exr of biomass'!$E$34 -> 63893.671 | CQ18: 0 | CS18: =(CM18+CL18)/(CK18+CO18) -> 0.83260248 | CT18: =(CH33+CI33)/(CG33+CO18) -> 0.055404742 | CU18: =(CM33+CL33)/(CK33+CO18) -> 0.77719774
E19: =E5/(E5+F5) -> 0.21 | F19: =F5/(E5+F5) -> 0.79 | G19: =G5/G5 -> 1 | H19: =H5/($H$5+$I$5+$J$5+$K$5+$L$5+$M$5+$N$5) -> 0 | I19: =I5/($H$5+$I$5+$J$5+$K$5+$L$5+$M$5+$N$5) -> 0.085788951 | J19: =J5/($H$5+$I$5+$J$5+$K$5+$L$5+$M$5+$N$5) -> 0 | K19: =K5/($H$5+$I$5+$J$5+$K$5+$L$5+$M$5+$N$5) -> 0.31653462 | L19: =L5/($H$5+$I$5+$J$5+$K$5+$L$5+$M$5+$N$5) -> 0.42406388 | M19: =M5/($H$5+$I$5+$J$5+$K$5+$L$5+$M$5+$N$5) -> 4.0684476e-07 | N19: =N5/($H$5+$I$5+$J$5+$K$5+$L$5+$M$5+$N$5) -> 0.17361214 | O19: =SUM(H19:N19) -> 1 | P19: ='ASPEN Ex air'!O8 -> -12532.791 | Q19: ='ASPEN Ex air'!P8 -> 451672025 | R19: ='ASPEN Ex air'!Q8 -> -17341305 | T19: =P19 -> -12532.791 | U19: ='ASPEN Ex air'!R8 -> 95449511 | V19: ='ASPEN Ex air'!S8 -> -59819341 | X19: 298 | Z19: ='ASPEN Ex air'!T8 -> 4233.3924 | AA19: ='ASPEN Ex air'!U8 -> 93946.937 | AB19: ='ASPEN Ex air'!V8 -> 89966.327 | AD19: =Z19 -> 4233.3924 | AE19: ='ASPEN Ex air'!W8 -> -393626.6 | AF19: ='ASPEN Ex air'!X8 -> 34168.855 | AJ19: =(P19-T19)-X19*(Z19-AD19) -> 0 | AK19: =(Q19-U19)-X19*(AA19-AE19) -> 2.109256e+08 | AL19: =(R19-V19)-X19*(AB19-AF19) -> 25850390 | AN19: =AJ19/1000000 -> 0 | AO19: =AK19/1000000 -> 210.9256 | AP19: =AL19/1000000 -> 25.85039 | AT19: =E19*$AT$12 -> 0.8337 | AU19: =F19*$AU$12 -> 0.5688 | AV19: =G19*$AV$12 -> 4458.1845 | AW19: =H19*$AW$12 -> 0 | AX19: =I19*$AX$12 -> 0.061768045 | AY19: =J19*$AY$12 -> 0 | AZ19: =K19*$AZ$12 -> 74.733824 | BA19: =L19*$BA$12 -> 116.62181 | BB19: =M19*$BB$12 -> 8.0595946e-06 | BC19: =N19*$BC$12 -> 144.38454 | BE19: =AT19+AU19 -> 1.4025 | BF19: =AV19 -> 4458.1845 | BG19: =SUM(AW19:BC19) -> 335.80195 | BI19: =E19*LN(E19) -> -0.32773603 | BJ19: =F19*LN(F19) -> -0.18622064 | BM19: =I19*LN(I19) -> -0.21068609 | BO19: =K19*LN(K19) -> -0.36411695 | BP19: =L19*LN(L19) -> -0.36379218 | BQ19: =M19*LN(M19) -> -5.9866531e-06 | BR19: =N19*LN(N19) -> -0.30398298 | BT19: =BI19+BJ19 -> -0.51395667 | BU19: =BK19 -> 0 | BV19: =SUM(BL19:BR19) -> -1.2425842 | BX19: =8.3144/1000 -> 0.0083144 | BY19: 298.15 | CA19: =BE19+BX19*BY19*BT19 -> 0.12843309 | CB19: =BF19+BX19*BY19*BU19 -> 4458.1845 | CC19: =BG19+BX19*BY19*BV19 -> 332.72166 | CG19: =AN19+CA19 -> 0.12843309 | CH19: =AO19+CB19 -> 4669.1101 | CI19: =AP19+CC19 -> 358.57205 | CK19: =CG19*(E5+F5)*1000 -> 0.44917576 | CL19: =CH19*G5*1000 -> 7569.0895 | CM19: =CI19*SUM(H5:N5)*1000 -> 45461.062 | CO19: ='Ch-exr of biomass'!$E$34 -> 63893.671 | CQ19: 0.1 | CS19: =(CM19+CL19)/(CK19+CO19) -> 0.8299692 | CT19: =(CH34+CI34)/(CG34+CO19) -> 0.056646256 | CU19: =(CM34+CL34)/(CK34+CO19) -> 0.77332334
E20: =E6/(E6+F6) -> 0.21 | F20: =F6/(E6+F6) -> 0.79 | G20: =G6/G6 -> 1 | H20: =H6/($H$6+$I$6+$J$6+$K$6+$L$6+$M$6+$N$6) -> 0 | I20: =I6/($H$6+$I$6+$J$6+$K$6+$L$6+$M$6+$N$6) -> 0.10375535 | J20: =J6/($H$6+$I$6+$J$6+$K$6+$L$6+$M$6+$N$6) -> 0 | K20: =K6/($H$6+$I$6+$J$6+$K$6+$L$6+$M$6+$N$6) -> 0.31313194 | L20: =L6/($H$6+$I$6+$J$6+$K$6+$L$6+$M$6+$N$6) -> 0.41874057 | M20: =M6/($H$6+$I$6+$J$6+$K$6+$L$6+$M$6+$N$6) -> 4.0100072e-07 | N20: =N6/($H$6+$I$6+$J$6+$K$6+$L$6+$M$6+$N$6) -> 0.16437174 | O20: =SUM(H20:N20) -> 1 | P20: ='ASPEN Ex air'!O9 -> -12532.791 | Q20: ='ASPEN Ex air'!P9 -> 452230712 | R20: ='ASPEN Ex air'!Q9 -> -16335750 | T20: =P20 -> -12532.791 | U20: ='ASPEN Ex air'!R9 -> 95450658 | V20: ='ASPEN Ex air'!S9 -> -58542313 | X20: 298 | Z20: ='ASPEN Ex air'!T9 -> 4233.3924 | AA20: ='ASPEN Ex air'!U9 -> 94333.089 | AB20: ='ASPEN Ex air'!V9 -> 90045.653 | AD20: =Z20 -> 4233.3924 | AE20: ='ASPEN Ex air'!W9 -> -393627.22 | AF20: ='ASPEN Ex air'!X9 -> 34583.073 | AJ20: =(P20-T20)-X20*(Z20-AD20) -> 0 | AK20: =(Q20-U20)-X20*(AA20-AE20) -> 2.1136788e+08 | AL20: =(R20-V20)-X20*(AB20-AF20) -> 25678715 | AN20: =AJ20/1000000 -> 0 | AO20: =AK20/1000000 -> 211.36788 | AP20: =AL20/1000000 -> 25.678715 | AT20: =E20*$AT$12 -> 0.8337 | AU20: =F20*$AU$12 -> 0.5688 | AV20: =G20*$AV$12 -> 4458.1845 | AW20: =H20*$AW$12 -> 0 | AX20: =I20*$AX$12 -> 0.074703849 | AY20: =J20*$AY$12 -> 0 | AZ20: =K20*$AZ$12 -> 73.930451 | BA20: =L20*$BA$12 -> 115.15784 | BB20: =M20*$BB$12 -> 7.9438243e-06 | BC20: =N20*$BC$12 -> 136.69976 | BE20: =AT20+AU20 -> 1.4025 | BF20: =AV20 -> 4458.1845 | BG20: =SUM(AW20:BC20) -> 325.86277 | BI20: =E20*LN(E20) -> -0.32773603 | BJ20: =F20*LN(F20) -> -0.18622064 | BM20: =I20*LN(I20) -> -0.23508052 | BO20: =K20*LN(K20) -> -0.36358709 | BP20: =L20*LN(L20) -> -0.36451522 | BQ20: =M20*LN(M20) -> -5.906461e-06 | BR20: =N20*LN(N20) -> -0.29679368 | BT20: =BI20+BJ20 -> -0.51395667 | BU20: =BK20 -> 0 | BV20: =SUM(BL20:BR20) -> -1.2599824 | BX20: =8.3144/1000 -> 0.0083144 | BY20: 298.15 | CA20: =BE20+BX20*BY20*BT20 -> 0.12843309 | CB20: =BF20+BX20*BY20*BU20 -> 4458.1845 | CC20: =BG20+BX20*BY20*BV20 -> 322.73935 | CG20: =AN20+CA20 -> 0.12843309 | CH20: =AO20+CB20 -> 4669.5524 | CI20: =AP20+CC20 -> 348.41806 | CK20: =CG20*(E6+F6)*1000 -> 0.89389983 | CL20: =CH20*G6*1000 -> 6916.9489 | CM20: =CI20*SUM(H6:N6)*1000 -> 45945.379 | CO20: ='Ch-exr of biomass'!$E$34 -> 63893.671 | CQ20: 0.2 | CS20: =(CM20+CL20)/(CK20+CO20) -> 0.82733684 | CT20: =(CH35+CI35)/(CG35+CO20) -> 0.057897926 | CU20: =(CM35+CL35)/(CK35+CO20) -> 0.76943973
E21: =E7/(E7+F7) -> 0.21 | F21: =F7/(E7+F7) -> 0.79 | G21: =G7/G7 -> 1 | H21: =H7/($H$7+$I$7+$J$7+$K$7+$L$7+$M$7+$N$7) -> 0 | I21: =I7/($H$7+$I$7+$J$7+$K$7+$L$7+$M$7+$N$7) -> 0.12039696 | J21: =J7/($H$7+$I$7+$J$7+$K$7+$L$7+$M$7+$N$7) -> 0 | K21: =K7/($H$7+$I$7+$J$7+$K$7+$L$7+$M$7+$N$7) -> 0.30987468 | L21: =L7/($H$7+$I$7+$J$7+$K$7+$L$7+$M$7+$N$7) -> 0.41382832 | M21: =M7/($H$7+$I$7+$J$7+$K$7+$L$7+$M$7+$N$7) -> 3.9516316e-07 | N21: =N7/($H$7+$I$7+$J$7+$K$7+$L$7+$M$7+$N$7) -> 0.15589964 | O21: =SUM(H21:N21) -> 1 | P21: ='ASPEN Ex air'!O10 -> -12532.791 | Q21: ='ASPEN Ex air'!P10 -> 452803122 | R21: ='ASPEN Ex air'!Q10 -> -15403652 | T21: =P21 -> -12532.791 | U21: ='ASPEN Ex air'!R10 -> 95451286 | V21: ='ASPEN Ex air'!S10 -> -57367978 | X21: 298 | Z21: ='ASPEN Ex air'!T10 -> 4233.3924 | AA21: ='ASPEN Ex air'!U10 -> 94728.871 | AB21: ='ASPEN Ex air'!V10 -> 90094.11 | AD21: =Z21 -> 4233.3924 | AE21: ='ASPEN Ex air'!W10 -> -393627.56 | AF21: ='ASPEN Ex air'!X10 -> 34933.933 | AJ21: =(P21-T21)-X21*(Z21-AD21) -> 0 | AK21: =(Q21-U21)-X21*(AA21-AE21) -> 2.1182162e+08 | AL21: =(R21-V21)-X21*(AB21-AF21) -> 25526594 | AN21: =AJ21/1000000 -> 0 | AO21: =AK21/1000000 -> 211.82162 | AP21: =AL21/1000000 -> 25.526594 | AT21: =E21*$AT$12 -> 0.8337 | AU21: =F21*$AU$12 -> 0.5688 | AV21: =G21*$AV$12 -> 4458.1845 | AW21: =H21*$AW$12 -> 0 | AX21: =I21*$AX$12 -> 0.086685813 | AY21: =J21*$AY$12 -> 0 | AZ21: =K21*$AZ$12 -> 73.161412 | BA21: =L21*$BA$12 -> 113.80693 | BB21: =M21*$BB$12 -> 7.8281823e-06 | BC21: =N21*$BC$12 -> 129.65394 | BE21: =AT21+AU21 -> 1.4025 | BF21: =AV21 -> 4458.1845 | BG21: =SUM(AW21:BC21) -> 316.70897 | BI21: =E21*LN(E21) -> -0.32773603 | BJ21: =F21*LN(F21) -> -0.18622064 | BM21: =I21*LN(I21) -> -0.25487567 | BO21: =K21*LN(K21) -> -0.36304525 | BP21: =L21*LN(L21) -> -0.36512241 | BQ21: =M21*LN(M21) -> -5.8262727e-06 | BR21: =N21*LN(N21) -> -0.28974616 | BT21: =BI21+BJ21 -> -0.51395667 | BU21: =BK21 -> 0 | BV21: =SUM(BL21:BR21) -> -1.2727953 | BX21: =8.3144/1000 -> 0.0083144 | BY21: 298.15 | CA21: =BE21+BX21*BY21*BT21 -> 0.12843309 | CB21: =BF21+BX21*BY21*BU21 -> 4458.1845 | CC21: =BG21+BX21*BY21*BV21 -> 313.55379 | CG21: =AN21+CA21 -> 0.12843309 | CH21: =AO21+CB21 -> 4670.0061 | CI21: =AP21+CC21 -> 339.08038 | CK21: =CG21*(E7+F7)*1000 -> 1.3386239 | CL21: =CH21*G7*1000 -> 6258.5974 | CM21: =CI21*SUM(H7:N7)*1000 -> 46436.456 | CO21: ='Ch-exr of biomass'!$E$34 -> 63893.671 | CQ21: 0.3 | CS21: =(CM21+CL21)/(CK21+CO21) -> 0.82471313 | CT21: =(CH36+CI36)/(CG36+CO21) -> 0.059156069 | CU21: =(CM36+CL36)/(CK36+CO21) -> 0.7655583
E22: =E8/(E8+F8) -> 0.21 | F22: =F8/(E8+F8) -> 0.79 | G22: =G8/G8 -> 1 | H22: =H8/($H$8+$I$8+$J$8+$K$8+$L$8+$M$8+$N$8) -> 0 | I22: =I8/($H$8+$I$8+$J$8+$K$8+$L$8+$M$8+$N$8) -> 0.13585126 | J22: =J8/($H$8+$I$8+$J$8+$K$8+$L$8+$M$8+$N$8) -> 0 | K22: =K8/($H$8+$I$8+$J$8+$K$8+$L$8+$M$8+$N$8) -> 0.30681731 | L22: =L8/($H$8+$I$8+$J$8+$K$8+$L$8+$M$8+$N$8) -> 0.40927224 | M22: =M8/($H$8+$I$8+$J$8+$K$8+$L$8+$M$8+$N$8) -> 3.8985487e-07 | N22: =N8/($H$8+$I$8+$J$8+$K$8+$L$8+$M$8+$N$8) -> 0.1480588 | O22: =SUM(H22:N22) -> 1 | P22: ='ASPEN Ex air'!O11 -> -12532.791 | Q22: ='ASPEN Ex air'!P11 -> 453374219 | R22: ='ASPEN Ex air'!Q11 -> -14535865 | T22: =P22 -> -12532.791 | U22: ='ASPEN Ex air'!R11 -> 95451520 | V22: ='ASPEN Ex air'!S11 -> -56280057 | X22: 298 | Z22: ='ASPEN Ex air'!T11 -> 4233.3924 | AA22: ='ASPEN Ex air'!U11 -> 95123.713 | AB22: ='ASPEN Ex air'!V11 -> 90119.987 | AD22: =Z22 -> 4233.3924 | AE22: ='ASPEN Ex air'!W11 -> -393627.69 | AF22: ='ASPEN Ex air'!X11 -> 35236.907 | AJ22: =(P22-T22)-X22*(Z22-AD22) -> 0 | AK22: =(Q22-U22)-X22*(AA22-AE22) -> 2.1227478e+08 | AL22: =(R22-V22)-X22*(AB22-AF22) -> 25389034 | AN22: =AJ22/1000000 -> 0 | AO22: =AK22/1000000 -> 212.27478 | AP22: =AL22/1000000 -> 25.389034 | AT22: =E22*$AT$12 -> 0.8337 | AU22: =F22*$AU$12 -> 0.5688 | AV22: =G22*$AV$12 -> 4458.1845 | AW22: =H22*$AW$12 -> 0 | AX22: =I22*$AX$12 -> 0.097812909 | AY22: =J22*$AY$12 -> 0 | AZ22: =K22*$AZ$12 -> 72.439566 | BA22: =L22*$BA$12 -> 112.55396 | BB22: =M22*$BB$12 -> 7.7230249e-06 | BC22: =N22*$BC$12 -> 123.1331 | BE22: =AT22+AU22 -> 1.4025 | BF22: =AV22 -> 4458.1845 | BG22: =SUM(AW22:BC22) -> 308.22445 | BI22: =E22*LN(E22) -> -0.32773603 | BJ22: =F22*LN(F22) -> -0.18622064 | BM22: =I22*LN(I22) -> -0.27118556 | BO22: =K22*LN(K22) -> -0.36250551 | BP22: =L22*LN(L22) -> -0.36563347 | BQ22: =M22*LN(M22) -> -5.7532798e-06 | BR22: =N22*LN(N22) -> -0.28281389 | BT22: =BI22+BJ22 -> -0.51395667 | BU22: =BK22 -> 0 | BV22: =SUM(BL22:BR22) -> -1.2821442 | BX22: =8.3144/1000 -> 0.0083144 | BY22: 298.15 | CA22: =BE22+BX22*BY22*BT22 -> 0.12843309 | CB22: =BF22+BX22*BY22*BU22 -> 4458.1845 | CC22: =BG22+BX22*BY22*BV22 -> 305.04609 | CG22: =AN22+CA22 -> 0.12843309 | CH22: =AO22+CB22 -> 4670.4593 | CI22: =AP22+CC22 -> 330.43512 | CK22: =CG22*(E8+F8)*1000 -> 1.783348 | CL22: =CH22*G8*1000 -> 5598.1615 | CM22: =CI22*SUM(H8:N8)*1000 -> 46930.458 | CO22: ='Ch-exr of biomass'!$E$34 -> 63893.671 | CQ22: 0.4 | CS22: =(CM22+CL22)/(CK22+CO22) -> 0.82210261 | CT22: =(CH37+CI37)/(CG37+CO22) -> 0.060418322 | CU22: =(CM37+CL37)/(CK37+CO22) -> 0.76168597
E23: =E9/(E9+F9) -> 0.21 | F23: =F9/(E9+F9) -> 0.79 | G23: =G9/G9 -> 1 | H23: =H9/($H$9+$I$9+$J$9+$K$9+$L$9+$M$9+$N$9) -> 0 | I23: =I9/($H$9+$I$9+$J$9+$K$9+$L$9+$M$9+$N$9) -> 0.15023659 | J23: =J9/($H$9+$I$9+$J$9+$K$9+$L$9+$M$9+$N$9) -> 0 | K23: =K9/($H$9+$I$9+$J$9+$K$9+$L$9+$M$9+$N$9) -> 0.30399173 | L23: =L9/($H$9+$I$9+$J$9+$K$9+$L$9+$M$9+$N$9) -> 0.40502774 | M23: =M9/($H$9+$I$9+$J$9+$K$9+$L$9+$M$9+$N$9) -> 3.8543498e-07 | N23: =N9/($H$9+$I$9+$J$9+$K$9+$L$9+$M$9+$N$9) -> 0.14074356 | O23: =SUM(H23:N23) -> 1 | P23: ='ASPEN Ex air'!O12 -> -12532.791 | Q23: ='ASPEN Ex air'!P12 -> 453932674 | R23: ='ASPEN Ex air'!Q12 -> -13724963 | T23: =P23 -> -12532.791 | U23: ='ASPEN Ex air'!R12 -> 95451407 | V23: ='ASPEN Ex air'!S12 -> -55265744 | X23: 298 | Z23: ='ASPEN Ex air'!T12 -> 4233.3924 | AA23: ='ASPEN Ex air'!U12 -> 95509.74 | AB23: ='ASPEN Ex air'!V12 -> 90128.797 | AD23: =Z23 -> 4233.3924 | AE23: ='ASPEN Ex air'!W12 -> -393627.62 | AF23: ='ASPEN Ex air'!X12 -> 35502.953 | AJ23: =(P23-T23)-X23*(Z23-AD23) -> 0 | AK23: =(Q23-U23)-X23*(AA23-AE23) -> 2.1271833e+08 | AL23: =(R23-V23)-X23*(AB23-AF23) -> 25262279 | AN23: =AJ23/1000000 -> 0 | AO23: =AK23/1000000 -> 212.71833 | AP23: =AL23/1000000 -> 25.262279 | AT23: =E23*$AT$12 -> 0.8337 | AU23: =F23*$AU$12 -> 0.5688 | AV23: =G23*$AV$12 -> 4458.1845 | AW23: =H23*$AW$12 -> 0 | AX23: =I23*$AX$12 -> 0.10817034 | AY23: =J23*$AY$12 -> 0 | AZ23: =K23*$AZ$12 -> 71.772448 | BA23: =L23*$BA$12 -> 111.38668 | BB23: =M23*$BB$12 -> 7.6354669e-06 | BC23: =N23*$BC$12 -> 117.04938 | BE23: =AT23+AU23 -> 1.4025 | BF23: =AV23 -> 4458.1845 | BG23: =SUM(AW23:BC23) -> 300.31668 | BI23: =E23*LN(E23) -> -0.32773603 | BJ23: =F23*LN(F23) -> -0.18622064 | BM23: =I23*LN(I23) -> -0.28478006 | BO23: =K23*LN(K23) -> -0.36197961 | BP23: =L23*LN(L23) -> -0.36606396 | BQ23: =M23*LN(M23) -> -5.692448e-06 | BR23: =N23*LN(N23) -> -0.27597219 | BT23: =BI23+BJ23 -> -0.51395667 | BU23: =BK23 -> 0 | BV23: =SUM(BL23:BR23) -> -1.2888015 | BX23: =8.3144/1000 -> 0.0083144 | BY23: 298.15 | CA23: =BE23+BX23*BY23*BT23 -> 0.12843309 | CB23: =BF23+BX23*BY23*BU23 -> 4458.1845 | CC23: =BG23+BX23*BY23*BV23 -> 297.12182 | CG23: =AN23+CA23 -> 0.12843309 | CH23: =AO23+CB23 -> 4670.9028 | CI23: =AP23+CC23 -> 322.3841 | CK23: =CG23*(E9+F9)*1000 -> 2.228072 | CL23: =CH23*G9*1000 -> 4938.844 | CM23: =CI23*SUM(H9:N9)*1000 -> 47424.422 | CO23: ='Ch-exr of biomass'!$E$34 -> 63893.671 | CQ23: 0.5 | CS23: =(CM23+CL23)/(CK23+CO23) -> 0.81950902 | CT23: =(CH38+CI38)/(CG38+CO23) -> 0.061682741 | CU23: =(CM38+CL38)/(CK38+CO23) -> 0.75782843
E24: =E10/(E10+F10) -> 0.21 | F24: =F10/(E10+F10) -> 0.79 | G24: =G10/G10 -> 1 | H24: =H10/($H$10+$I$10+$J$10+$K$10+$L$10+$M$10+$N$10) -> 0 | I24: =I10/($H$10+$I$10+$J$10+$K$10+$L$10+$M$10+$N$10) -> 0.16365476 | J24: =J10/($H$10+$I$10+$J$10+$K$10+$L$10+$M$10+$N$10) -> 0 | K24: =K10/($H$10+$I$10+$J$10+$K$10+$L$10+$M$10+$N$10) -> 0.30142278 | L24: =L10/($H$10+$I$10+$J$10+$K$10+$L$10+$M$10+$N$10) -> 0.40105688 | M24: =M10/($H$10+$I$10+$J$10+$K$10+$L$10+$M$10+$N$10) -> 3.8222087e-07 | N24: =N10/($H$10+$I$10+$J$10+$K$10+$L$10+$M$10+$N$10) -> 0.1338652 | O24: =SUM(H24:N24) -> 1 | P24: ='ASPEN Ex air'!O13 -> -12532.791 | Q24: ='ASPEN Ex air'!P13 -> 454467941 | R24: ='ASPEN Ex air'!Q13 -> -12964740 | T24: =P24 -> -12532.791 | U24: ='ASPEN Ex air'!R13 -> 95450948 | V24: ='ASPEN Ex air'!S13 -> -54314236 | X24: 298 | Z24: ='ASPEN Ex air'!T13 -> 4233.3924 | AA24: ='ASPEN Ex air'!U13 -> 95879.708 | AB24: ='ASPEN Ex air'!V13 -> 90124.264 | AD24: =Z24 -> 4233.3924 | AE24: ='ASPEN Ex air'!W13 -> -393627.38 | AF24: ='ASPEN Ex air'!X13 -> 35740.415 | AJ24: =(P24-T24)-X24*(Z24-AD24) -> 0 | AK24: =(Q24-U24)-X24*(AA24-AE24) -> 2.1314388e+08 | AL24: =(R24-V24)-X24*(AB24-AF24) -> 25143110 | AN24: =AJ24/1000000 -> 0 | AO24: =AK24/1000000 -> 213.14388 | AP24: =AL24/1000000 -> 25.14311 | AT24: =E24*$AT$12 -> 0.8337 | AU24: =F24*$AU$12 -> 0.5688 | AV24: =G24*$AV$12 -> 4458.1845 | AW24: =H24*$AW$12 -> 0 | AX24: =I24*$AX$12 -> 0.11783142 | AY24: =J24*$AY$12 -> 0 | AZ24: =K24*$AZ$12 -> 71.165918 | BA24: =L24*$BA$12 -> 110.29465 | BB24: =M24*$BB$12 -> 7.5717954e-06 | BC24: =N24*$BC$12 -> 111.329 | BE24: =AT24+AU24 -> 1.4025 | BF24: =AV24 -> 4458.1845 | BG24: =SUM(AW24:BC24) -> 292.90741 | BI24: =E24*LN(E24) -> -0.32773603 | BJ24: =F24*LN(F24) -> -0.18622064 | BM24: =I24*LN(I24) -> -0.29621449 | BO24: =K24*LN(K24) -> -0.36147868 | BP24: =L24*LN(L24) -> -0.36642643 | BQ24: =M24*LN(M24) -> -5.6481799e-06 | BR24: =N24*LN(N24) -> -0.26919247 | BT24: =BI24+BJ24 -> -0.51395667 | BU24: =BK24 -> 0 | BV24: =SUM(BL24:BR24) -> -1.2933177 | BX24: =8.3144/1000 -> 0.0083144 | BY24: 298.15 | CA24: =BE24+BX24*BY24*BT24 -> 0.12843309 | CB24: =BF24+BX24*BY24*BU24 -> 4458.1845 | CC24: =BG24+BX24*BY24*BV24 -> 289.70135 | CG24: =AN24+CA24 -> 0.12843309 | CH24: =AO24+CB24 -> 4671.3284 | CI24: =AP24+CC24 -> 314.84446 | CK24: =CG24*(E10+F10)*1000 -> 2.6727961 | CL24: =CH24*G10*1000 -> 4283.6622 | CM24: =CI24*SUM(H10:N10)*1000 -> 47915.579 | CO24: ='Ch-exr of biomass'!$E$34 -> 63893.671 | CQ24: 0.6 | CS24: =(CM24+CL24)/(CK24+CO24) -> 0.81693627 | CT24: =(CH39+CI39)/(CG39+CO24) -> 0.062947351 | CU24: =(CM39+CL39)/(CK39+CO24) -> 0.75399155
E25: =E11/(E11+F11) -> 0.21 | F25: =F11/(E11+F11) -> 0.79 | G25: =G11/G11 -> 1 | H25: =H11/($H$11+$I$11+$J$11+$K$11+$L$11+$M$11+$N$11) -> 0 | I25: =I11/($H$11+$I$11+$J$11+$K$11+$L$11+$M$11+$N$11) -> 0.17619307 | J25: =J11/($H$11+$I$11+$J$11+$K$11+$L$11+$M$11+$N$11) -> 0 | K25: =K11/($H$11+$I$11+$J$11+$K$11+$L$11+$M$11+$N$11) -> 0.29913762 | L25: =L11/($H$11+$I$11+$J$11+$K$11+$L$11+$M$11+$N$11) -> 0.39732613 | M25: =M11/($H$11+$I$11+$J$11+$K$11+$L$11+$M$11+$N$11) -> 3.8056602e-07 | N25: =N11/($H$11+$I$11+$J$11+$K$11+$L$11+$M$11+$N$11) -> 0.1273428 | O25: =SUM(H25:N25) -> 1 | P25: ='ASPEN Ex air'!O14 -> -12532.791 | Q25: ='ASPEN Ex air'!P14 -> 454968604 | R25: ='ASPEN Ex air'!Q14 -> -12249854 | T25: =P25 -> -12532.791 | U25: ='ASPEN Ex air'!R14 -> 95450100 | V25: ='ASPEN Ex air'!S14 -> -53415794 | X25: 298 | Z25: ='ASPEN Ex air'!T14 -> 4233.3924 | AA25: ='ASPEN Ex air'!U14 -> 96225.852 | AB25: ='ASPEN Ex air'!V14 -> 90108.869 | AD25: =Z25 -> 4233.3924 | AE25: ='ASPEN Ex air'!W14 -> -393626.92 | AF25: ='ASPEN Ex air'!X14 -> 35956.132 | AJ25: =(P25-T25)-X25*(Z25-AD25) -> 0 | AK25: =(Q25-U25)-X25*(AA25-AE25) -> 2.1354238e+08 | AL25: =(R25-V25)-X25*(AB25-AF25) -> 25028424 | AN25: =AJ25/1000000 -> 0 | AO25: =AK25/1000000 -> 213.54238 | AP25: =AL25/1000000 -> 25.028424 | AT25: =E25*$AT$12 -> 0.8337 | AU25: =F25*$AU$12 -> 0.5688 | AV25: =G25*$AV$12 -> 4458.1845 | AW25: =H25*$AW$12 -> 0 | AX25: =I25*$AX$12 -> 0.12685901 | AY25: =J25*$AY$12 -> 0 | AZ25: =K25*$AZ$12 -> 70.626392 | BA25: =L25*$BA$12 -> 109.26866 | BB25: =M25*$BB$12 -> 7.5390129e-06 | BC25: =N25*$BC$12 -> 105.90464 | BE25: =AT25+AU25 -> 1.4025 | BF25: =AV25 -> 4458.1845 | BG25: =SUM(AW25:BC25) -> 285.92656 | BI25: =E25*LN(E25) -> -0.32773603 | BJ25: =F25*LN(F25) -> -0.18622064 | BM25: =I25*LN(I25) -> -0.30590198 | BO25: =K25*LN(K25) -> -0.3610147 | BP25: =L25*LN(L25) -> -0.36673116 | BQ25: =M25*LN(M25) -> -5.6253771e-06 | BR25: =N25*LN(N25) -> -0.26243729 | BT25: =BI25+BJ25 -> -0.51395667 | BU25: =BK25 -> 0 | BV25: =SUM(BL25:BR25) -> -1.2960908 | BX25: =8.3144/1000 -> 0.0083144 | BY25: 298.15 | CA25: =BE25+BX25*BY25*BT25 -> 0.12843309 | CB25: =BF25+BX25*BY25*BU25 -> 4458.1845 | CC25: =BG25+BX25*BY25*BV25 -> 282.71363 | CG25: =AN25+CA25 -> 0.12843309 | CH25: =AO25+CB25 -> 4671.7269 | CI25: =AP25+CC25 -> 307.74206 | CK25: =CG25*(E11+F11)*1000 -> 3.1175202 | CL25: =CH25*G11*1000 -> 3635.9912 | CM25: =CI25*SUM(H11:N11)*1000 -> 48400.872 | CO25: ='Ch-exr of biomass'!$E$34 -> 63893.671 | CQ25: 0.7 | CS25: =(CM25+CL25)/(CK25+CO25) -> 0.81438934 | CT25: =(CH40+CI40)/(CG40+CO25) -> 0.064209882 | CU25: =(CM40+CL40)/(CK40+CO25) -> 0.75018259
E26: =E12/(E12+F12) -> 0.21 | F26: =F12/(E12+F12) -> 0.79 | G26: =G12/G12 -> 1 | H26: =H12/($H$12+$I$12+$J$12+$K$12+$L$12+$M$12+$N$12) -> 0 | I26: =I12/($H$12+$I$12+$J$12+$K$12+$L$12+$M$12+$N$12) -> 0.1879257 | J26: =J12/($H$12+$I$12+$J$12+$K$12+$L$12+$M$12+$N$12) -> 0 | K26: =K12/($H$12+$I$12+$J$12+$K$12+$L$12+$M$12+$N$12) -> 0.29717339 | L26: =L12/($H$12+$I$12+$J$12+$K$12+$L$12+$M$12+$N$12) -> 0.39380451 | M26: =M12/($H$12+$I$12+$J$12+$K$12+$L$12+$M$12+$N$12) -> 3.8094494e-07 | N26: =N12/($H$12+$I$12+$J$12+$K$12+$L$12+$M$12+$N$12) -> 0.12109601 | O26: =SUM(H26:N26) -> 1 | P26: ='ASPEN Ex air'!O15 -> -12532.791 | Q26: ='ASPEN Ex air'!P15 -> 455420270 | R26: ='ASPEN Ex air'!Q15 -> -11575637 | T26: =P26 -> -12532.791 | U26: ='ASPEN Ex air'!R15 -> 95448765 | V26: ='ASPEN Ex air'!S15 -> -52561005 | X26: 298 | Z26: ='ASPEN Ex air'!T15 -> 4233.3924 | AA26: ='ASPEN Ex air'!U15 -> 96538.45 | AB26: ='ASPEN Ex air'!V15 -> 90084.109 | AD26: =Z26 -> 4233.3924 | AE26: ='ASPEN Ex air'!W15 -> -393626.21 | AF26: ='ASPEN Ex air'!X15 -> 36156.188 | AJ26: =(P26-T26)-X26*(Z26-AD26) -> 0 | AK26: =(Q26-U26)-X26*(AA26-AE26) -> 2.1390244e+08 | AL26: =(R26-V26)-X26*(AB26-AF26) -> 24914848 | AN26: =AJ26/1000000 -> 0 | AO26: =AK26/1000000 -> 213.90244 | AP26: =AL26/1000000 -> 24.914848 | AT26: =E26*$AT$12 -> 0.8337 | AU26: =F26*$AU$12 -> 0.5688 | AV26: =G26*$AV$12 -> 4458.1845 | AW26: =H26*$AW$12 -> 0 | AX26: =I26*$AX$12 -> 0.13530651 | AY26: =J26*$AY$12 -> 0 | AZ26: =K26*$AZ$12 -> 70.162638 | BA26: =L26*$BA$12 -> 108.30018 | BB26: =M26*$BB$12 -> 7.5465192e-06 | BC26: =N26*$BC$12 -> 100.7095 | BE26: =AT26+AU26 -> 1.4025 | BF26: =AV26 -> 4458.1845 | BG26: =SUM(AW26:BC26) -> 279.30763 | BI26: =E26*LN(E26) -> -0.32773603 | BJ26: =F26*LN(F26) -> -0.18622064 | BM26: =I26*LN(I26) -> -0.31415701 | BO26: =K26*LN(K26) -> -0.36060193 | BP26: =L26*LN(L26) -> -0.36698668 | BQ26: =M26*LN(M26) -> -5.6305989e-06 | BR26: =N26*LN(N26) -> -0.25565446 | BT26: =BI26+BJ26 -> -0.51395667 | BU26: =BK26 -> 0 | BV26: =SUM(BL26:BR26) -> -1.2974057 | BX26: =8.3144/1000 -> 0.0083144 | BY26: 298.15 | CA26: =BE26+BX26*BY26*BT26 -> 0.12843309 | CB26: =BF26+BX26*BY26*BU26 -> 4458.1845 | CC26: =BG26+BX26*BY26*BV26 -> 276.09144 | CG26: =AN26+CA26 -> 0.12843309 | CH26: =AO26+CB26 -> 4672.0869 | CI26: =AP26+CC26 -> 301.00629 | CK26: =CG26*(E12+F12)*1000 -> 3.5622443 | CL26: =CH26*G12*1000 -> 3000.0996 | CM26: =CI26*SUM(H12:N12)*1000 -> 48876.473 | CO26: ='Ch-exr of biomass'!$E$34 -> 63893.671 | CQ26: 0.8 | CS26: =(CM26+CL26)/(CK26+CO26) -> 0.8118751 | CT26: =(CH41+CI41)/(CG41+CO26) -> 0.065467359 | CU26: =(CM41+CL41)/(CK41+CO26) -> 0.74641139
E27: =E13/(E13+F13) -> 0.21 | F27: =F13/(E13+F13) -> 0.79 | G27: =G13/G13 -> 1 | H27: =H13/($H$13+$I$13+$J$13+$K$13+$L$13+$M$13+$N$13) -> 0 | I27: =I13/($H$13+$I$13+$J$13+$K$13+$L$13+$M$13+$N$13) -> 0.19891424 | J27: =J13/($H$13+$I$13+$J$13+$K$13+$L$13+$M$13+$N$13) -> 0 | K27: =K13/($H$13+$I$13+$J$13+$K$13+$L$13+$M$13+$N$13) -> 0.2955874 | L27: =L13/($H$13+$I$13+$J$13+$K$13+$L$13+$M$13+$N$13) -> 0.39046165 | M27: =M13/($H$13+$I$13+$J$13+$K$13+$L$13+$M$13+$N$13) -> 3.8407523e-07 | N27: =N13/($H$13+$I$13+$J$13+$K$13+$L$13+$M$13+$N$13) -> 0.11503633 | O27: =SUM(H27:N27) -> 1 | P27: ='ASPEN Ex air'!O16 -> -12532.791 | Q27: ='ASPEN Ex air'!P16 -> 455802946 | R27: ='ASPEN Ex air'!Q16 -> -10937884 | T27: =P27 -> -12532.791 | U27: ='ASPEN Ex air'!R16 -> 95446758 | V27: ='ASPEN Ex air'!S16 -> -51739917 | X27: 298 | Z27: ='ASPEN Ex air'!T16 -> 4233.3924 | AA27: ='ASPEN Ex air'!U16 -> 96804.049 | AB27: ='ASPEN Ex air'!V16 -> 90050.587 | AD27: =Z27 -> 4233.3924 | AE27: ='ASPEN Ex air'!W16 -> -393625.13 | AF27: ='ASPEN Ex air'!X16 -> 36346.604 | AJ27: =(P27-T27)-X27*(Z27-AD27) -> 0 | AK27: =(Q27-U27)-X27*(AA27-AE27) -> 2.1420829e+08 | AL27: =(R27-V27)-X27*(AB27-AF27) -> 24798245 | AN27: =AJ27/1000000 -> 0 | AO27: =AK27/1000000 -> 214.20829 | AP27: =AL27/1000000 -> 24.798245 | AT27: =E27*$AT$12 -> 0.8337 | AU27: =F27*$AU$12 -> 0.5688 | AV27: =G27*$AV$12 -> 4458.1845 | AW27: =H27*$AW$12 -> 0 | AX27: =I27*$AX$12 -> 0.14321825 | AY27: =J27*$AY$12 -> 0 | AZ27: =K27*$AZ$12 -> 69.788185 | BA27: =L27*$BA$12 -> 107.38086 | BB27: =M27*$BB$12 -> 7.6085303e-06 | BC27: =N27*$BC$12 -> 95.669962 | BE27: =AT27+AU27 -> 1.4025 | BF27: =AV27 -> 4458.1845 | BG27: =SUM(AW27:BC27) -> 272.98223 | BI27: =E27*LN(E27) -> -0.32773603 | BJ27: =F27*LN(F27) -> -0.18622064 | BM27: =I27*LN(I27) -> -0.32122293 | BO27: =K27*LN(K27) -> -0.36025918 | BP27: =L27*LN(L27) -> -0.3672001 | BQ27: =M27*LN(M27) -> -5.6737235e-06 | BR27: =N27*LN(N27) -> -0.2487669 | BT27: =BI27+BJ27 -> -0.51395667 | BU27: =BK27 -> 0 | BV27: =SUM(BL27:BR27) -> -1.2974548 | BX27: =8.3144/1000 -> 0.0083144 | BY27: 298.15 | CA27: =BE27+BX27*BY27*BT27 -> 0.12843309 | CB27: =BF27+BX27*BY27*BU27 -> 4458.1845 | CC27: =BG27+BX27*BY27*BV27 -> 269.76592 | CG27: =AN27+CA27 -> 0.12843309 | CH27: =AO27+CB27 -> 4672.3928 | CI27: =AP27+CC27 -> 294.56417 | CK27: =CG27*(E13+F13)*1000 -> 4.0069683 | CL27: =CH27*G13*1000 -> 2381.9622 | CM27: =CI27*SUM(H13:N13)*1000 -> 49337.063 | CO27: ='Ch-exr of biomass'!$E$34 -> 63893.671 | CQ27: 0.9 | CS27: =(CM27+CL27)/(CK27+CO27) -> 0.80940383 | CT27: =(CH42+CI42)/(CG42+CO27) -> 0.066715582 | CU27: =(CM42+CL42)/(CK42+CO27) -> 0.74269243
E28: =E14/(E14+F14) -> 0.21 | F28: =F14/(E14+F14) -> 0.79 | G28: =G14/G14 -> 1 | H28: =H14/($H$14+$I$14+$J$14+$K$14+$L$14+$M$14+$N$14) -> 0 | I28: =I14/($H$14+$I$14+$J$14+$K$14+$L$14+$M$14+$N$14) -> 0.20920692 | J28: =J14/($H$14+$I$14+$J$14+$K$14+$L$14+$M$14+$N$14) -> 0 | K28: =K14/($H$14+$I$14+$J$14+$K$14+$L$14+$M$14+$N$14) -> 0.29447323 | L28: =L14/($H$14+$I$14+$J$14+$K$14+$L$14+$M$14+$N$14) -> 0.38726521 | M28: =M14/($H$14+$I$14+$J$14+$K$14+$L$14+$M$14+$N$14) -> 3.9114301e-07 | N28: =N14/($H$14+$I$14+$J$14+$K$14+$L$14+$M$14+$N$14) -> 0.10905424 | O28: =SUM(H28:N28) -> 1 | P28: ='ASPEN Ex air'!O17 -> -12532.791 | Q28: ='ASPEN Ex air'!P17 -> 456086393 | R28: ='ASPEN Ex air'!Q17 -> -10332671 | T28: =P28 -> -12532.791 | U28: ='ASPEN Ex air'!R17 -> 95443729 | V28: ='ASPEN Ex air'!S17 -> -50940792 | X28: 298 | Z28: ='ASPEN Ex air'!T17 -> 4233.3924 | AA28: ='ASPEN Ex air'!U17 -> 97002.364 | AB28: ='ASPEN Ex air'!V17 -> 90007.898 | AD28: =Z28 -> 4233.3924 | AE28: ='ASPEN Ex air'!W17 -> -393623.52 | AF28: ='ASPEN Ex air'!X17 -> 36534.179 | AJ28: =(P28-T28)-X28*(Z28-AD28) -> 0 | AK28: =(Q28-U28)-X28*(AA28-AE28) -> 2.1443615e+08 | AL28: =(R28-V28)-X28*(AB28-AF28) -> 24672953 | AN28: =AJ28/1000000 -> 0 | AO28: =AK28/1000000 -> 214.43615 | AP28: =AL28/1000000 -> 24.672953 | AT28: =E28*$AT$12 -> 0.8337 | AU28: =F28*$AU$12 -> 0.5688 | AV28: =G28*$AV$12 -> 4458.1845 | AW28: =H28*$AW$12 -> 0 | AX28: =I28*$AX$12 -> 0.15062898 | AY28: =J28*$AY$12 -> 0 | AZ28: =K28*$AZ$12 -> 69.52513 | BA28: =L28*$BA$12 -> 106.50181 | BB28: =M28*$BB$12 -> 7.748543e-06 | BC28: =N28*$BC$12 -> 90.694962 | BE28: =AT28+AU28 -> 1.4025 | BF28: =AV28 -> 4458.1845 | BG28: =SUM(AW28:BC28) -> 266.87254 | BI28: =E28*LN(E28) -> -0.32773603 | BJ28: =F28*LN(F28) -> -0.18622064 | BM28: =I28*LN(I28) -> -0.32728989 | BO28: =K28*LN(K28) -> -0.36001331 | BP28: =L28*LN(L28) -> -0.36737741 | BQ28: =M28*LN(M28) -> -5.7709993e-06 | BR28: =N28*LN(N28) -> -0.24165438 | BT28: =BI28+BJ28 -> -0.51395667 | BU28: =BK28 -> 0 | BV28: =SUM(BL28:BR28) -> -1.2963408 | BX28: =8.3144/1000 -> 0.0083144 | BY28: 298.15 | CA28: =BE28+BX28*BY28*BT28 -> 0.12843309 | CB28: =BF28+BX28*BY28*BU28 -> 4458.1845 | CC28: =BG28+BX28*BY28*BV28 -> 263.65899 | CG28: =AN28+CA28 -> 0.12843309 | CH28: =AO28+CB28 -> 4672.6207 | CI28: =AP28+CC28 -> 288.33194 | CK28: =CG28*(E14+F14)*1000 -> 4.4516924 | CL28: =CH28*G14*1000 -> 1790.6289 | CM28: =CI28*SUM(H14:N14)*1000 -> 49774.625 | CO28: ='Ch-exr of biomass'!$E$34 -> 63893.671 | CQ28: 1 | CS28: =(CM28+CL28)/(CK28+CO28) -> 0.80699168 | CT28: =(CH43+CI43)/(CG43+CO28) -> 0.067948161 | CU28: =(CM43+CL43)/(CK43+CO28) -> 0.73904825
CG30: physical*flow | CK30: chemical*flow
CG32: air | CH32: liquid | CI32: gas | CK32: air | CL32: liquid | CM32: gas | CQ32: =CQ17 -> Air (kg/s) | CR32: Gas | CS32: Liquid | CT32: Biomass
CG33: =AN18*(E4+F4)*1000 -> 0 | CH33: =AO18*G4*1000 -> 370.12099 | CI33: =AP18*SUM(H4:N4)*1000 -> 3169.8913 | CK33: =CA18*(E4+F4)*1000 -> 0.0044516924 | CL33: =CB18*G4*1000 -> 7838.2515 | CM33: =CC18*SUM(H4:N4)*1000 -> 41819.769 | CQ33: =CQ18 -> 0 | CR33: =CM18 -> 44989.66 | CS33: =CL18 -> 8208.3725 | CT33: =CO18 -> 63893.671
CG34: =AN19*(E5+F5)*1000 -> 0 | CH34: =AO19*G5*1000 -> 341.93127 | CI34: =AP19*SUM(H5:N5)*1000 -> 3277.406 | CK34: =CA19*(E5+F5)*1000 -> 0.44917576 | CL34: =CB19*G5*1000 -> 7227.1582 | CM34: =CC19*SUM(H5:N5)*1000 -> 42183.656 | CQ34: =CQ19 -> 0.1 | CR34: =CM19 -> 45461.062 | CS34: =CL19 -> 7569.0895 | CT34: =CO19 -> 63893.671
CG35: =AN20*(E6+F6)*1000 -> 0 | CH35: =AO20*G6*1000 -> 313.09657 | CI35: =AP20*SUM(H6:N6)*1000 -> 3386.2145 | CK35: =CA20*(E6+F6)*1000 -> 0.89389983 | CL35: =CB20*G6*1000 -> 6603.8523 | CM35: =CC20*SUM(H6:N6)*1000 -> 42559.164 | CQ35: =CQ20 -> 0.2 | CR35: =CM20 -> 45945.379 | CS35: =CL20 -> 6916.9489 | CT35: =CO20 -> 63893.671
CG36: =AN21*(E7+F7)*1000 -> 0 | CH36: =AO21*G7*1000 -> 283.87677 | CI36: =AP21*SUM(H7:N7)*1000 -> 3495.8217 | CK36: =CA21*(E7+F7)*1000 -> 1.3386239 | CL36: =CB21*G7*1000 -> 5974.7206 | CM36: =CC21*SUM(H7:N7)*1000 -> 42940.634 | CQ36: =CQ21 -> 0.3 | CR36: =CM21 -> 46436.456 | CS36: =CL21 -> 6258.5974 | CT36: =CO21 -> 63893.671
CG37: =AN22*(E8+F8)*1000 -> 0 | CH37: =AO22*G8*1000 -> 254.43933 | CI37: =AP22*SUM(H8:N8)*1000 -> 3605.909 | CK37: =CA22*(E8+F8)*1000 -> 1.783348 | CL37: =CB22*G8*1000 -> 5343.7222 | CM37: =CC22*SUM(H8:N8)*1000 -> 43324.549 | CQ37: =CQ22 -> 0.4 | CR37: =CM22 -> 46930.458 | CS37: =CL22 -> 5598.1615 | CT37: =CO22 -> 63893.671
CG38: =AN23*(E9+F9)*1000 -> 0 | CH38: =AO23*G9*1000 -> 224.92069 | CI38: =AP23*SUM(H9:N9)*1000 -> 3716.2161 | CK38: =CA23*(E9+F9)*1000 -> 2.228072 | CL38: =CB23*G9*1000 -> 4713.9233 | CM38: =CC23*SUM(H9:N9)*1000 -> 43708.205 | CQ38: =CQ23 -> 0.5 | CR38: =CM23 -> 47424.422 | CS38: =CL23 -> 4938.844 | CT38: =CO23 -> 63893.671
CG39: =AN24*(E10+F10)*1000 -> 0 | CH39: =AO24*G10*1000 -> 195.45541 | CI39: =AP24*SUM(H10:N10)*1000 -> 3826.4819 | CK39: =CA24*(E10+F10)*1000 -> 2.6727961 | CL39: =CB24*G10*1000 -> 4088.2068 | CM39: =CC24*SUM(H10:N10)*1000 -> 44089.097 | CQ39: =CQ24 -> 0.6 | CR39: =CM24 -> 47915.579 | CS39: =CL24 -> 4283.6622 | CT39: =CO24 -> 63893.671
CG40: =AN25*(E11+F11)*1000 -> 0 | CH40: =AO25*G11*1000 -> 166.1994 | CI40: =AP25*SUM(H11:N11)*1000 -> 3936.4057 | CK40: =CA25*(E11+F11)*1000 -> 3.1175202 | CL40: =CB25*G11*1000 -> 3469.7918 | CM40: =CC25*SUM(H11:N11)*1000 -> 44464.466 | CQ40: =CQ25 -> 0.7 | CR40: =CM25 -> 48400.872 | CS40: =CL25 -> 3635.9912 | CT40: =CO25 -> 63893.671
CG41: =AN26*(E12+F12)*1000 -> 0 | CH41: =AO26*G12*1000 -> 137.35374 | CI41: =AP26*SUM(H12:N12)*1000 -> 4045.5961 | CK41: =CA26*(E12+F12)*1000 -> 3.5622443 | CL41: =CB26*G12*1000 -> 2862.7458 | CM41: =CC26*SUM(H12:N12)*1000 -> 44830.877 | CQ41: =CQ26 -> 0.8 | CR41: =CM26 -> 48876.473 | CS41: =CL26 -> 3000.0996 | CT41: =CO26 -> 63893.671
CG42: =AN27*(E13+F13)*1000 -> 0 | CH42: =AO27*G13*1000 -> 109.2023 | CI42: =AP27*SUM(H13:N13)*1000 -> 4153.5011 | CK42: =CA27*(E13+F13)*1000 -> 4.0069683 | CL42: =CB27*G13*1000 -> 2272.7599 | CM42: =CC27*SUM(H13:N13)*1000 -> 45183.562 | CQ42: =CQ27 -> 0.9 | CR42: =CM27 -> 49337.063 | CS42: =CL27 -> 2381.9622 | CT42: =CO27 -> 63893.671
CG43: =AN28*(E14+F14)*1000 -> 0 | CH43: =AO28*G14*1000 -> 82.175637 | CI43: =AP28*SUM(H14:N14)*1000 -> 4259.2818 | CK43: =CA28*(E14+F14)*1000 -> 4.4516924 | CL43: =CB28*G14*1000 -> 1708.4533 | CM43: =CC28*SUM(H14:N14)*1000 -> 45515.343 | CQ43: =CQ28 -> 1 | CR43: =CM28 -> 49774.625 | CS43: =CL28 -> 1790.6289 | CT43: =CO28 -> 63893.671

Sheet ASPEN Ex air
A1: Row/Case
B2: VARY 1 | C2: FLOSTEM | D2: FLOO2AIR | E2: FLON2AIR | F2: FLOLIQ | G2: FLOASH | H2: FLOH2OG | I2: FLON2G | J2: FLOO2G | K2: FLOH2G | L2: FLOCOG | M2: FLOCO2G | N2: FLOCH4G | O2: ENTLAIR | P2: ENTLLIQ | Q2: ENTLGAS | R2: ENTLLIQC | S2: ENTLGASC | T2: ENTRAIR | U2: ENTRLIQ | V2: ENTRGAS | W2: ENTRLIQC | X2: ENTRGASC | Y2: ENTLSTAM | Z2: ENTRSTAM | AA2: ENTLSTMC | AB2: ENTRSTMC
B3: AIR
B4: MIXED
B5: TOTAL MASSFLOW
B6: KG/SEC | C6: KMOL/SEC | D6: KMOL/SEC | E6: KMOL/SEC | F6: KMOL/SEC | G6: KMOL/SEC | H6: KMOL/SEC | I6: KMOL/SEC | J6: KMOL/SEC | K6: KMOL/SEC | L6: KMOL/SEC | M6: KMOL/SEC | N6: KMOL/SEC | O6: J/KMOL | P6: J/KMOL | Q6: J/KMOL | R6: J/KMOL | S6: J/KMOL | T6: J/KMOL-K | U6: J/KMOL-K | V6: J/KMOL-K | W6: J/KMOL-K | X6: J/KMOL-K | Y6: J/KMOL | Z6: J/KMOL-K | AA6: J/KMOL | AB6: J/KMOL-K
A7: 1 | B7: 0.001 | C7: 0 | D7: 7.2789292e-06 | E7: 2.7382639e-05 | F7: 0.0017581712 | G7: 0.007 | H7: 0 | I7: 0.0080725721 | J7: 0 | K7: 0.038936367 | L7: 0.052309995 | M7: 5.0104511e-08 | N7: 0.022368773 | O7: -12532.791 | P7: 451151988 | Q7: -18432214 | R7: 95447558 | S7: -61221990 | T7: 4233.3924 | U7: 93588.088 | V7: 89843.081 | W7: -393625.56 | X7: 33667.276
A8: 2 | B8: 0.1009 | C8: 0 | D8: 0.00073444396 | E8: 0.0027629082 | F8: 0.0016210989 | G8: 0.007 | H8: 0 | I8: 0.010876634 | J8: 0 | K8: 0.040131405 | L8: 0.053764353 | M8: 5.1581251e-08 | N8: 0.022011176 | O8: -12532.791 | P8: 451672025 | Q8: -17341305 | R8: 95449511 | S8: -59819341 | T8: 4233.3924 | U8: 93946.937 | V8: 89966.327 | W8: -393626.6 | X8: 34168.855
A9: 3 | B9: 0.2008 | C9: 0 | D9: 0.001461609 | E9: 0.0054984338 | F9: 0.0014812874 | G9: 0.007 | H9: 0 | I9: 0.013682065 | J9: 0 | K9: 0.041292249 | L9: 0.055218705 | M9: 5.2879377e-08 | N9: 0.021675461 | O9: -12532.791 | P9: 452230712 | Q9: -16335750 | R9: 95450658 | S9: -58542313 | T9: 4233.3924 | U9: 94333.089 | V9: 90045.653 | W9: -393627.22 | X9: 34583.073
A10: 4 | B10: 0.3007 | C10: 0 | D10: 0.002188774 | E10: 0.0082339594 | F10: 0.001340169 | G10: 0.007 | H10: 0 | I10: 0.01648815 | J10: 0 | K10: 0.042436787 | L10: 0.056673053 | M10: 5.4116893e-08 | N10: 0.021350179 | O10: -12532.791 | P10: 452803122 | Q10: -15403652 | R10: 95451286 | S10: -57367978 | T10: 4233.3924 | U10: 94728.871 | V10: 90094.11 | W10: -393627.56 | X10: 34933.933
A11: 5 | B11: 0.4006 | C11: 0 | D11: 0.0029159391 | E11: 0.010969485 | F11: 0.0011986319 | G11: 0.007 | H11: 0 | I11: 0.019294444 | J11: 0 | K11: 0.043576108 | L11: 0.058127398 | M11: 5.5369621e-08 | N11: 0.021028234 | O11: -12532.791 | P11: 453374219 | Q11: -14535865 | R11: 95451520 | S11: -56280057 | T11: 4233.3924 | U11: 95123.713 | V11: 90119.987 | W11: -393627.69 | X11: 35236.907
A12: 6 | B12: 0.5005 | C12: 0 | D12: 0.0036431041 | E12: 0.013705011 | F12: 0.0010573639 | G12: 0.007 | H12: 0 | I12: 0.022100604 | J12: 0 | K12: 0.044718806 | L12: 0.059581741 | M12: 5.6699541e-08 | N12: 0.020704128 | O12: -12532.791 | P12: 453932674 | Q12: -13724963 | R12: 95451407 | S12: -55265744 | T12: 4233.3924 | U12: 95509.74 | V12: 90128.797 | W12: -393627.62 | X12: 35502.953
A13: 7 | B13: 0.6004 | C13: 0 | D13: 0.0043702691 | E13: 0.016440536 | F13: 0.00091701158 | G13: 0.007 | H13: 0 | I13: 0.024906305 | J13: 0 | K13: 0.045872958 | L13: 0.061036082 | M13: 5.8169466e-08 | N13: 0.02037269 | O13: -12532.791 | P13: 454467941 | Q13: -12964740 | R13: 95450948 | S13: -54314236 | T13: 4233.3924 | U13: 95879.708 | V13: 90124.264 | W13: -393627.38 | X13: 35740.415
A14: 8 | B14: 0.7003 | C14: 0 | D14: 0.0050974341 | E14: 0.019176062 | F14: 0.00077829703 | G14: 0.007 | H14: 0 | I14: 0.027711188 | J14: 0 | K14: 0.047047588 | L14: 0.062490423 | M14: 5.9854437e-08 | N14: 0.020028146 | O14: -12532.791 | P14: 454968604 | Q14: -12249854 | R14: 95450100 | S14: -53415794 | T14: 4233.3924 | U14: 96225.852 | V14: 90108.869 | W14: -393626.92 | X14: 35956.132
A15: 9 | B15: 0.8002 | C15: 0 | D15: 0.0058245992 | E15: 0.021911587 | F15: 0.00064213265 | G15: 0.007 | H15: 0 | I15: 0.030514796 | J15: 0 | K15: 0.048254099 | L15: 0.063944762 | M15: 6.1856664e-08 | N15: 0.019663197 | O15: -12532.791 | P15: 455420270 | Q15: -11575637 | R15: 95448765 | S15: -52561005 | T15: 4233.3924 | U15: 96538.45 | V15: 90084.109 | W15: -393626.21 | X15: 36156.188
A16: 10 | B16: 0.9001 | C16: 0 | D16: 0.0065517642 | E16: 0.024647113 | F16: 0.00050979494 | G16: 0.007 | H16: 0 | I16: 0.033316491 | J16: 0 | K16: 0.049508446 | L16: 0.065399099 | M16: 6.4329426e-08 | N16: 0.019267634 | O16: -12532.791 | P16: 455802946 | Q16: -10937884 | R16: 95446758 | S16: -51739917 | T16: 4233.3924 | U16: 96804.049 | V16: 90050.587 | W16: -393625.13 | X16: 36346.604
A17: 11 | B17: 1 | C17: 0 | D17: 0.0072789292 | E17: 0.027382639 | F17: 0.00038321727 | G17: 0.007 | H17: 0 | I17: 0.036115305 | J17: 0 | K17: 0.050834793 | L17: 0.066853435 | M17: 6.7522857e-08 | N17: 0.01882599 | O17: -12532.791 | P17: 456086393 | Q17: -10332671 | R17: 95443729 | S17: -50940792 | T17: 4233.3924 | U17: 97002.364 | V17: 90007.898 | W17: -393623.52 | X17: 36534.179
